Workbook
Name F: #REF!
Name F: #REF!
Name F: #REF!
Name F: #REF!
Name F: #REF!
Name F: #REF!
Name F: #REF!
Name 보수: #REF!
Name 보수일람표: #REF!
Name 보수일람표1: #REF!
Name 보수일람표2: #REF!
Name 보수일람표3: #REF!
Name ㅇㅇㅇ: #REF!
Name 아: #REF!

Sheet 표지
A4: 2024년도
A11: 2024년 1차 추경
A12: 세입ㆍ세출 예산서(안)
A23: 사회복지법인 천주교수원교구사회복지회
A24: 별빛누리그룹홈 라온
E67: 0

Sheet 가. 예산총칙
A2: 가. 예 산 총 칙
A4: 제1조 | B4: 본 예산(안)은 사회복지법인 천주교 수원교구 사회복지회 소속 시설 "별빛누리그룹홈 라온"의
B5: 2024년도 (2024.01.01 ~2024.12.31) 예산으로
A7: 제2조 | B7: 세입세출 예산 총액은 | D7: ='나. 세입세출(총괄)'!E7 -> 133326000 | E7: 원으로, | G7: 세입세출의 명세는 다음과 같다.
B9: 1. 세입의 주요재원은 다음과 같다. (관 기준)
B10: 1) | C10: 입소자부담금 | D10: ='나. 세입세출(총괄)'!E8 -> 19200000 | E10: 원 | G10: 2) | H10: 사업수입 | I10: ='나. 세입세출(총괄)'!E11 -> 0 | J10: 원
B11: 3) | C11: 보조금수입 | D11: ='나. 세입세출(총괄)'!E17 -> 100425000 | E11: 원 | G11: 4) | H11: 후원금수입 | I11: ='나. 세입세출(총괄)'!E22 -> 0 | J11: 원
B12: 5) | C12: 전입금 | D12: ='나. 세입세출(총괄)'!E26 -> 0 | E12: 원 | G12: 6) | H12: 이월금 | I12: ='나. 세입세출(총괄)'!E29 -> 13603816 | J12: 원
B13: 7) | C13: 잡수입 | D13: ='나. 세입세출(총괄)'!E34 -> 97184 | E13: 원 | G13: 8) | J13: 원
B15: 2. 세출의 내용은 다음과 같다. (관 또는 항기준)
B16: 1) | C16: 사무비 | D16: ='나. 세입세출(총괄)'!L8 -> 102417060 | E16: 원 | G16: 2) | H16: 재산조성비 | I16: ='나. 세입세출(총괄)'!L26 -> 2250000 | J16: 원
B17: 3) | C17: 사업비 | D17: ='나. 세입세출(총괄)'!L31 -> 22744000 | E17: 원 | G17: 4) | H17: 잡지출 | I17: ='나. 세입세출(총괄)'!L49 -> 74410 | J17: 원
B18: 5) | C18: 예비비및기타 | D18: ='나. 세입세출(총괄)'!L52 -> 5840530 | E18: 원 | G18: 6) | J18: 원
B19: 7) | E19: 원
B21: 3. 명시이월 사업은 | D21: 해당없음 | G21: 이며, 예산은 | I21: 0 | J21: 원이다.
B23: 4. 신설사업은 | D23: 해당없음 | G23: 이며, 예산은 | I23: 0 | J23: 원이다.
A26: 제3조 | B26: 본예산(안)은 법인 이사회의 승인을 얻어 확정한다.
A28: 제4조 | B28: 법인이사회의 예산승인을 받기 전에 일반경비 및 긴급을 요하는 예산집행은 직전예산에 준하여
B29: 지출할 수 있으며, 그 집행된 예산은 당해 연도의 확정예산에 의하여 집행된 것으로 간주한다.
A31: 제5조 | B31: 각 계정과목 내의 항목의 예산집행은 당해 계정과목의 승인예산의 범위 내에서 항목간 예산을
B32: 일부 조정하여 사용할 수 있다.
A34: 제6조 | B34: 「사회복지법인 및 사회복지시설 재무회계규칙」 제16조에 의거하여 예산을 전용할 수 있다.
B35: 단, 관·항간 예산을 전용 할 경우 법인 이사회의 의결을 거쳐야 한다.
A37: 제7조 | B37: 국가 또는 지방자치단체로부터 교부된 보조금 및 지정후원금, 수익자부담 경비 등은
B38: 추가경정예산의 성립 이전이라도 보조 및 후원 목적에 적절한 경우 먼저 사용할 수 있으며,
B39: 이는 반드시 차기 추가경정예산에 반영하여야 한다.
A41: 제8조 | B41: 국가, 지방자치단체 및 사회복지기금 등에서 공모사업 선정으로 받은 보조금은 사회복지법인
B42: 및 사회복지시설 재무회계규칙에 따라 기타보조금에 편성되어야 한다.
B43: (만약, 지정후원금 또는 별도 사업비 편성이 용이하다는 지차체의 증빙자료(공문)가 있을시에만
B44: 별도 편성 가능)
A46: 제9조 | B46: 기타 회계 관련 규정의 개정으로 예산과목이 변경된 경우에는 당해연도 변경된 과목으로 승인
B47: 된 것으로 하며, 그 외의 예산총칙에 명시되지 아니한 사항은 「사회복지법인
B48: 및 사회복지시설 재무회계규칙」에 따라 집행한다.

Sheet 나. 세입세출(총괄)
A2: 나. 세입.세출 총괄표 (라온)
M3: (단위 : 원)
A4: 세 입 | H4: 세 출
A5: 과 목 | D5: 2024년 본 예산(A) | E5: 2024년 1차 추경(B) | F5: 증감금액 (C=B-A) | G5: 증감율(%) (C/A*100) | H5: 과 목 | K5: =D5 -> 2024년 본 예산(A) | L5: =E5 -> 2024년 1차 추경(B) | M5: 증감금액 (C=B-A) | N5: 증감율(%) (C/A*100)
A6: 관 | B6: 항 | C6: 목 | H6: 관 | I6: 항 | J6: 목
A7: 합 계 | D7: =D8+D11+D14+D17+D22+D26+D29+D34 -> 148045000 | E7: =E8+E11+E14+E17+E22+E26+E29+E34 -> 133326000 | F7: =E7-D7 -> -14719000 | G7: =F7/D7*100 -> -9.9422473 | H7: 합 계 | K7: =K8+K26+K31+K49+K52 -> 148045000 | L7: =L8+L26+L31+L49+L52 -> 133326000 | M7: =L7-K7 -> -14719000 | N7: =M7/K7*100 -> -9.9422473
A8: 입소자부담금 | B8: 계 | D8: =D9 -> 19200000 | E8: =E9 -> 19200000 | F8: =E8-D8 -> 0 | G8: =F8/D8*100 -> 0 | H8: 사무비 | I8: 계 | K8: =K9+K16+K19 -> 122066660 | L8: =L9+L16+L19 -> 102417060 | M8: =L8-K8 -> -19649600 | N8: =M8/K8*100 -> -16.097434
B9: 입소비용수입 | C9: 소계 | D9: =D10 -> 19200000 | E9: =E10 -> 19200000 | F9: =E9-D9 -> 0 | G9: =F9/D9*100 -> 0 | I9: 인건비 | J9: 소계 | K9: =SUM(K10:K15) -> 111706660 | L9: =SUM(L10:L15) -> 92057060 | M9: =L9-K9 -> -19649600 | N9: =M9/K9*100 -> -17.590357
C10: 입소비용수입 | D10: ='다. 세입내역서'!D9 -> 19200000 | E10: ='다. 세입내역서'!E9 -> 19200000 | F10: =E10-D10 -> 0 | G10: =F10/D10*100 -> 0 | J10: 급여 | K10: ='라. 세출내역서'!D9 -> 75315900 | L10: ='라. 세출내역서'!E9 -> 65999100 | M10: =L10-K10 -> -9316800 | N10: =M10/K10*100 -> -12.370296
A11: 사업수입 | B11: 계 | D11: =D12 -> 0 | E11: =E12 -> 0 | F11: 0 | G11: 0 | J11: 일용잡급 | K11: ='라. 세출내역서'!D14 -> 0 | L11: ='라. 세출내역서'!E14 -> 0 | M11: =L11-K11 -> 0 | N11: 0
B12: 사업수입 | C12: 소계 | D12: =D13 -> 0 | E12: =E13 -> 0 | F12: 0 | G12: 0 | J12: 제수당 | K12: ='라. 세출내역서'!D16 -> 18806420 | L12: ='라. 세출내역서'!E16 -> 15509220 | M12: =L12-K12 -> -3297200 | N12: =M12/K12*100 -> -17.532311
C13: 프로그램사업수입 | D13: ='다. 세입내역서'!D12 -> 0 | E13: ='다. 세입내역서'!E12 -> 0 | F13: 0 | G13: 0 | J13: 퇴직금및퇴직적립금 | K13: ='라. 세출내역서'!D27 -> 7843530 | L13: ='라. 세출내역서'!E27 -> 6792360 | M13: =L13-K13 -> -1051170 | N13: =M13/K13*100 -> -13.401746
A14: 과년도수입 | B14: 계 | D14: =D15 -> 0 | E14: =E15 -> 0 | F14: 0 | G14: 0 | J14: 사회보험부담비용 | K14: ='라. 세출내역서'!D29 -> 9740810 | L14: ='라. 세출내역서'!E29 -> 3756380 | M14: =L14-K14 -> -5984430 | N14: =M14/K14*100 -> -61.436677
B15: 과년도수입 | C15: 소계 | D15: =D16 -> 0 | E15: =E16 -> 0 | F15: 0 | G15: 0 | J15: 기타후생경비 | K15: ='라. 세출내역서'!D35 -> 0 | L15: ='라. 세출내역서'!E35 -> 0 | M15: =L15-K15 -> 0 | N15: =M15/K15*100 -> #DIV/0!
C16: 과년도수입 | D16: ='다. 세입내역서'!D15 -> 0 | E16: ='다. 세입내역서'!E15 -> 0 | F16: 0 | G16: 0 | I16: 업무추진비 | J16: 소계 | K16: =SUM(K17:K18) -> 140000 | L16: =SUM(L17:L18) -> 140000 | M16: =L16-K16 -> 0 | N16: =M16/K16*100 -> 0
A17: 보조금수입 | B17: 계 | D17: =D18 -> 123748660 | E17: =E18 -> 100425000 | F17: =E17-D17 -> -23323660 | G17: =F17/D17*100 -> -18.847606 | J17: 기관운영비 | K17: ='라. 세출내역서'!D40 -> 0 | L17: ='라. 세출내역서'!E40 -> 0 | M17: =L17-K17 -> 0 | N17: 0
B18: 보조금수입 | C18: 소계 | D18: =SUM(D19:D21) -> 123748660 | E18: =SUM(E19:E21) -> 100425000 | F18: =E18-D18 -> -23323660 | G18: =F18/D18*100 -> -18.847606 | J18: 회의비 | K18: ='라. 세출내역서'!D45 -> 140000 | L18: ='라. 세출내역서'!E45 -> 140000 | M18: =L18-K18 -> 0 | N18: =M18/K18*100 -> 0
C19: 시도보조금 | D19: ='다. 세입내역서'!D18 -> 123748660 | E19: ='다. 세입내역서'!E18 -> 100425000 | F19: =E19-D19 -> -23323660 | G19: =F19/D19*100 -> -18.847606 | I19: 운영비 | J19: 소계 | K19: =SUM(K20:K25) -> 10220000 | L19: =SUM(L20:L25) -> 10220000 | M19: =L19-K19 -> 0 | N19: =M19/K19*100 -> 0
C20: 시군구보조금 | D20: ='다. 세입내역서'!D19 -> 0 | E20: ='다. 세입내역서'!E19 -> 0 | F20: =E20-D20 -> 0 | G20: 0 | J20: 여비 | K20: ='라. 세출내역서'!D49 -> 0 | L20: ='라. 세출내역서'!E49 -> 0 | M20: =L20-K20 -> 0 | N20: 0
C21: 기타보조금 | D21: ='다. 세입내역서'!D20 -> 0 | E21: ='다. 세입내역서'!E20 -> 0 | F21: =E21-D21 -> 0 | G21: 0 | J21: 수용비및수수료 | K21: ='라. 세출내역서'!D51 -> 3900000 | L21: ='라. 세출내역서'!E51 -> 3900000 | M21: =L21-K21 -> 0 | N21: =M21/K21*100 -> 0
A22: 후원금 | B22: 계 | D22: =D23 -> 0 | E22: =E23 -> 0 | F22: =E22-D22 -> 0 | G22: =G23 -> 0 | J22: 공공요금 | K22: ='라. 세출내역서'!D58 -> 5400000 | L22: ='라. 세출내역서'!E58 -> 5400000 | M22: =L22-K22 -> 0 | N22: =M22/K22*100 -> 0
B23: 후원금수입 | C23: 소계 | D23: =SUM(D24:D25) -> 0 | E23: =SUM(E24:E25) -> 0 | F23: =E23-D23 -> 0 | G23: 0 | J23: 제세공과금 | K23: ='라. 세출내역서'!D60 -> 0 | L23: ='라. 세출내역서'!E60 -> 0 | M23: =L23-K23 -> 0 | N23: 0
C24: 지정후원금 | D24: ='다. 세입내역서'!D23 -> 0 | E24: ='다. 세입내역서'!E23 -> 0 | F24: =E24-D24 -> 0 | G24: 0 | J24: 차량비 | K24: ='라. 세출내역서'!D67 -> 920000 | L24: ='라. 세출내역서'!E67 -> 920000 | M24: =L24-K24 -> 0 | N24: =M24/K24*100 -> 0
C25: 비지정후원금 | D25: ='다. 세입내역서'!D24 -> 0 | E25: ='다. 세입내역서'!E24 -> 0 | F25: =E25-D25 -> 0 | G25: 0 | J25: 기타운영비 | K25: ='라. 세출내역서'!D70 -> 0 | L25: ='라. 세출내역서'!E70 -> 0 | M25: =L25-K25 -> 0 | N25: 0
A26: 전입금 | B26: 계 | D26: =D27 -> 0 | E26: =E27 -> 0 | F26: =E26-D26 -> 0 | G26: =G27 -> 0 | H26: 재산조성비 | I26: 계 | K26: =K27 -> 2250000 | L26: =L27 -> 2250000 | M26: =L26-K26 -> 0 | N26: =M26/K26*100 -> 0
B27: 전입금 | C27: 소계 | D27: =D28 -> 0 | E27: =E28 -> 0 | F27: =E27-D27 -> 0 | G27: =G28 -> 0 | I27: 시설비 | J27: 소계 | K27: =SUM(K28:K30) -> 2250000 | L27: =SUM(L28:L30) -> 2250000 | M27: =L27-K27 -> 0 | N27: =M27/K27*100 -> 0
C28: 법인전입금 | D28: ='다. 세입내역서'!D27 -> 0 | E28: ='다. 세입내역서'!E27 -> 0 | F28: =E28-D28 -> 0 | G28: 0 | J28: 시설비 | K28: ='라. 세출내역서'!D76 -> 0 | L28: ='라. 세출내역서'!E76 -> 0 | M28: =L28-K28 -> 0 | N28: 0
A29: 이월금 | B29: 계 | D29: =D30 -> 5000000 | E29: =E30 -> 13603816 | F29: =E29-D29 -> 8603816 | G29: =F29/D29*100 -> 172.07632 | J29: 자산취득비 | K29: ='라. 세출내역서'!D77 -> 0 | L29: ='라. 세출내역서'!E77 -> 0 | M29: =L29-K29 -> 0 | N29: 0
B30: 이월금 | C30: 소계 | D30: =SUM(D31:D33) -> 5000000 | E30: =SUM(E31:E33) -> 13603816 | F30: =E30-D30 -> 8603816 | G30: =F30/D30*100 -> 172.07632 | J30: 시설장비유지비 | K30: ='라. 세출내역서'!D84 -> 2250000 | L30: ='라. 세출내역서'!E84 -> 2250000 | M30: =L30-K30 -> 0 | N30: =M30/K30*100 -> 0
C31: 전년도이월금(자부담) | D31: ='다. 세입내역서'!D30 -> 4000000 | E31: ='다. 세입내역서'!E30 -> 7763286 | F31: =E31-D31 -> 3763286 | G31: =F31/D31*100 -> 94.08215 | H31: 사업비 | I31: 계 | K31: =K32+K38 -> 22632000 | L31: =L32+L38 -> 22744000 | M31: =L31-K31 -> 112000 | N31: =M31/K31*100 -> 0.49487451
C32: 전년도이월금(후원금) | D32: ='다. 세입내역서'!D31 -> 0 | E32: ='다. 세입내역서'!E31 -> 0 | F32: =E32-D32 -> 0 | G32: 0 | I32: 운영비 | J32: 소계 | K32: =SUM(K33:K37) -> 17528000 | L32: =SUM(L33:L37) -> 14740000 | M32: =L32-K32 -> -2788000 | N32: =M32/K32*100 -> -15.905979
C33: 전년도이월금(보조금) | D33: ='다. 세입내역서'!D32 -> 1000000 | E33: ='다. 세입내역서'!E32 -> 5840530 | F33: =E33-D33 -> 4840530 | G33: =F33/D33*100 -> 484.053 | J33: 생계비 | K33: ='라. 세출내역서'!D95 -> 8648000 | L33: ='라. 세출내역서'!E95 -> 6760000 | M33: =L33-K33 -> -1888000 | N33: =M33/K33*100 -> -21.831637
A34: 잡수입 | B34: 계 | D34: =D35 -> 96340 | E34: =E35 -> 97184 | F34: =E34-D34 -> 844 | G34: =F34/D34*100 -> 0.87606394 | J34: 수용기관경비 | K34: ='라. 세출내역서'!D101 -> 1380000 | L34: ='라. 세출내역서'!E101 -> 1380000 | M34: =L34-K34 -> 0 | N34: =M34/K34*100 -> 0
B35: 잡수입 | C35: 소계 | D35: =SUM(D36:D38) -> 96340 | E35: =SUM(E36:E38) -> 97184 | F35: =E35-D35 -> 844 | G35: =F35/D35*100 -> 0.87606394 | J35: 피복비 | K35: ='라. 세출내역서'!D105 -> 0 | L35: ='라. 세출내역서'!E105 -> 0 | M35: =L35-K35 -> 0 | N35: 0
C36: 불용품매각대 | D36: ='다. 세입내역서'!D35 -> 60000 | E36: ='다. 세입내역서'!E35 -> 60000 | F36: =E36-D36 -> 0 | G36: =F36/D36*100 -> 0 | J36: 의료비 | K36: ='라. 세출내역서'!D107 -> 600000 | L36: ='라. 세출내역서'!E107 -> 600000 | M36: =L36-K36 -> 0 | N36: =M36/K36*100 -> 0
C37: 기타예금이자수입 | D37: ='다. 세입내역서'!D36 -> 26340 | E37: ='다. 세입내역서'!E36 -> 27184 | F37: =E37-D37 -> 844 | G37: =F37/D37*100 -> 3.2042521 | J37: 연료비 | K37: ='라. 세출내역서'!D110 -> 6900000 | L37: ='라. 세출내역서'!E110 -> 6000000 | M37: =L37-K37 -> -900000 | N37: =M37/K37*100 -> -13.043478
C38: 기타잡수입 | D38: ='다. 세입내역서'!D37 -> 10000 | E38: ='다. 세입내역서'!E37 -> 10000 | F38: =E38-D38 -> 0 | G38: =F38/D38*100 -> 0 | I38: 사업비 | J38: 소계 | K38: =SUM(K39:K48) -> 5104000 | L38: =SUM(L39:L48) -> 8004000 | M38: =L38-K38 -> 2900000 | N38: =M38/K38*100 -> 56.818182
J39: 교육재활사업비 | K39: ='라. 세출내역서'!D114 -> 50000 | L39: ='라. 세출내역서'!E114 -> 50000 | M39: =L39-K39 -> 0 | N39: 0
J40: 일상생활서비스 | K40: ='라. 세출내역서'!D116 -> 0 | L40: ='라. 세출내역서'!E116 -> 0 | M40: =L40-K40 -> 0 | N40: 0
J41: 여가활동사업비 | K41: ='라. 세출내역서'!D118 -> 2892000 | L41: ='라. 세출내역서'!E118 -> 2792000 | M41: =L41-K41 -> -100000 | N41: =M41/K41*100 -> -3.4578147
J42: 지역사회교류사업비 | K42: ='라. 세출내역서'!D129 -> 480000 | L42: ='라. 세출내역서'!E129 -> 480000 | M42: =L42-K42 -> 0 | N42: 0
J43: 자립지원사업비 | K43: ='라. 세출내역서'!D132 -> 40000 | L43: ='라. 세출내역서'!E132 -> 40000 | M43: =L43-K43 -> 0 | N43: 0
J44: 권익증진사업비 | K44: ='라. 세출내역서'!D134 -> 0 | L44: ='라. 세출내역서'!E134 -> 0 | M44: =L44-K44 -> 0 | N44: =M44/K44*100 -> #DIV/0!
J45: 가족과의유대사업비 | K45: ='라. 세출내역서'!D136 -> 0 | L45: ='라. 세출내역서'!E136 -> 0 | M45: =L45-K45 -> 0 | N45: =M45/K45*100 -> #DIV/0!
J46: 4종 운영지원사업비 | K46: ='라. 세출내역서'!D138 -> 1642000 | L46: ='라. 세출내역서'!E138 -> 1642000 | M46: =L46-K46 -> 0 | N46: =M46/K46*100 -> 0
J47: 7종 운영지원사업비 | K47: ='라. 세출내역서'!D144 -> 0 | L47: ='라. 세출내역서'!E144 -> 3000000 | M47: =L47-K47 -> 3000000 | N47: 0
J48: 환경개선사업비 | K48: ='라. 세출내역서'!D146 -> 0 | L48: ='라. 세출내역서'!E146 -> 0 | M48: =L48-K48 -> 0 | N48: 0
H49: 잡지출 | I49: 계 | K49: =K50 -> 96340 | L49: =L50 -> 74410 | M49: =L49-K49 -> -21930 | N49: =M49/K49*100 -> -22.763131
I50: 잡지출 | J50: 소계 | K50: =K51 -> 96340 | L50: =L51 -> 74410 | M50: =L50-K50 -> -21930 | N50: =M50/K50*100 -> -22.763131
J51: 잡지출 | K51: ='라. 세출내역서'!D150 -> 96340 | L51: ='라. 세출내역서'!E150 -> 74410 | M51: =L51-K51 -> -21930 | N51: =M51/K51*100 -> -22.763131
H52: 예비비및기타 | I52: 계 | K52: =K53 -> 1000000 | L52: =L53 -> 5840530 | M52: =L52-K52 -> 4840530 | N52: =M52/K52*100 -> 484.053
I53: 예비비및기타 | J53: 소계 | K53: =SUM(K54:K55) -> 1000000 | L53: =SUM(L54:L55) -> 5840530 | M53: =L53-K53 -> 4840530 | N53: =M53/K53*100 -> 484.053
J54: 예비비 | K54: ='라. 세출내역서'!D153 -> 0 | L54: ='라. 세출내역서'!E153 -> 0 | M54: =L54-K54 -> 0 | N54: 0
J55: 보조금반환 | K55: ='라. 세출내역서'!D154 -> 1000000 | L55: ='라. 세출내역서'!E154 -> 5840530 | M55: =L55-K55 -> 4840530 | N55: =M55/K55*100 -> 484.053

Sheet 다. 세입내역서
A2: 다. 세입내역서 (라온)
J3: (단위 : 원)
A4: 과 목 | D4: ='나. 세입세출(총괄)'!D5 -> 2024년 본 예산(A) | E4: ='나. 세입세출(총괄)'!E5 -> 2024년 1차 추경(B) | F4: 증감금액 (C=B-A) | G4: 증감율(%) (C/A*100) | H4: 산 출 내 역
A5: 관 | B5: 항 | C5: 목
A6: 합 계 | D6: =D7+D10+D13+D16+D21+D25+D28+D33 -> 148045000 | E6: =E7+E13+E16+E25+E28+E33+E10+E21 -> 133326000 | F6: =F7+F13+F16+F25+F28+F33+F10+F21 -> -14719000 | G6: =F6/D6*100 -> -9.9422473
A7: 입소자부담금 | B7: 계 | D7: =D8 -> 19200000 | E7: =E8 -> 19200000 | F7: =E7-D7 -> 0 | G7: =F7/D7*100 -> 0
B8: 입소비용수입 | C8: 소계 | D8: =D9 -> 19200000 | E8: =E9 -> 19200000 | F8: =E8-D8 -> 0 | G8: =F8/D8*100 -> 0
C9: 입소비용수입 | D9: 19200000 | E9: 19200000 | F9: =E9-D9 -> 0 | G9: =F9/D9*100 -> 0 | H9: *라온 입소비용 수입 - 4명 X400,000원X12개월= 19,200,000원
A10: 사업수입 | B10: 계 | D10: 0 | E10: =E11 -> 0 | F10: =E10-D10 -> 0 | G10: 0
B11: 사업수입 | C11: 소계 | D11: 0 | E11: =E12 -> 0 | F11: =E11-D11 -> 0 | G11: 0
C12: 프로그램사업수입 | D12: 0 | E12: 0 | F12: 0 | G12: 0
A13: 과년도수입 | B13: 계 | D13: 0 | E13: =E14 -> 0 | F13: =E13-D13 -> 0 | G13: 0
B14: 과년도수입 | C14: 소계 | D14: 0 | E14: =E15 -> 0 | F14: =E14-D14 -> 0 | G14: 0
C15: 과년도수입 | D15: 0 | E15: 0 | F15: 0 | G15: 0
A16: 보조금수입 | B16: 계 | D16: =D17 -> 123748660 | E16: =E17 -> 100425000 | F16: =E16-D16 -> -23323660 | G16: =F16/D16*100 -> -18.847606
B17: 보조금수입 | C17: 소계 | D17: =SUM(D18:D20) -> 123748660 | E17: =SUM(E18:E20) -> 100425000 | F17: =E17-D17 -> -23323660 | G17: =F17/D17*100 -> -18.847606
C18: 시도보조금 | D18: 123748660 | E18: 100425000 | F18: =E18-D18 -> -23323660 | G18: =F18/D18*100 -> -18.847606 | H18: *라온: 인건비 87,983,000원+운영비 7,800,000원+4종1,642,000원+6종 3,000,000=100,425,000원
C19: 시군구보조금 | D19: 0 | E19: 0 | F19: =E19-D19 -> 0 | G19: 0
C20: 기타보조금 | D20: 0 | E20: 0 | F20: =E20-D20 -> 0 | G20: 0
A21: 후원금 | B21: 계 | D21: 0 | E21: =E22 -> 0 | F21: =E21-D21 -> 0 | G21: =G22 -> 0
B22: 후원금수입 | C22: 소계 | D22: 0 | E22: =SUM(E23:E24) -> 0 | F22: =E22-D22 -> 0 | G22: 0
C23: 지정후원금 | D23: 0 | E23: 0 | F23: =E23-D23 -> 0 | G23: 0
C24: 비지정후원금 | D24: 0 | E24: 0 | F24: =E24-D24 -> 0 | G24: 0
A25: 전입금 | B25: 계 | D25: 0 | E25: =E26 -> 0 | F25: =E25-D25 -> 0 | G25: =G26 -> 0
B26: 전입금 | C26: 소계 | D26: 0 | E26: =E27 -> 0 | F26: =E26-D26 -> 0 | G26: =G27 -> 0
C27: 법인전입금 | D27: 0 | E27: 0 | F27: =E27-D27 -> 0 | G27: 0
A28: 이월금 | B28: 계 | D28: =D29 -> 5000000 | E28: =E29 -> 13603816 | F28: =E28-D28 -> 8603816 | G28: =F28/D28*100 -> 172.07632
B29: 이월금 | C29: 소계 | D29: =SUM(D30:D32) -> 5000000 | E29: =SUM(E30:E32) -> 13603816 | F29: =E29-D29 -> 8603816 | G29: =F29/D29*100 -> 172.07632
C30: 전년도이월금(자부담) | D30: 4000000 | E30: 7763286 | F30: =E30-D30 -> 3763286 | G30: =F30/D30*100 -> 94.08215 | H30: *자부담 : 입소비용수입이월금 (7,762,780원), 예금이자이월금 (505원), 잡수입이월금 1원
C31: 전년도이월금(후원금) | D31: 0 | E31: 0 | F31: =E31-D31 -> 0 | G31: 0
C32: 전년도이월금(보조금) | D32: 1000000 | E32: 5840530 | F32: =E32-D32 -> 4840530 | G32: =F32/D32*100 -> 484.053 | H32: *보조금 : 1,000,000원 - 운영비: 보조금이월금 (5,746,100원)+예금이자이월금 (14,420원)= 5,760,520원 - 4종 운영비: 보조금이월금 80,000원+예금이자이월금(10원)=80,010원
A33: 잡수입 | B33: 계 | D33: =D34 -> 96340 | E33: =E34 -> 97184 | F33: =E33-D33 -> 844 | G33: =F33/D33*100 -> 0.87606394
B34: 잡수입 | C34: 소계 | D34: =SUM(D35:D37) -> 96340 | E34: =SUM(E35:E37) -> 97184 | F34: =SUM(F35:F37) -> 844 | G34: =F34/D34*100 -> 0.87606394
C35: 불용품매각대 | D35: 60000 | E35: 60000 | F35: =E35-D35 -> 0 | G35: =F35/D35*100 -> 0 | H35: *불용품매각대 60,000원
C36: 기타예금이자수입 | D36: 26340 | E36: 27184 | F36: =E36-D36 -> 844 | G36: =F36/D36*100 -> 3.2042521 | H36: *예금이자: 보조금 (21,340원), 자부담 (5,844원)
C37: 기타잡수입 | D37: 10000 | E37: 10000 | F37: =E37-D37 -> 0 | G37: =F37/D37*100 -> 0 | H37: *기타잡수입: 자부담 (10,000원)

Sheet 라. 세출내역서
A2: 라. 세출내역서 (라온)
U3: (단위 : 원)
A4: 과 목 | D4: ='나. 세입세출(총괄)'!D5 -> 2024년 본 예산(A) | E4: ='나. 세입세출(총괄)'!E5 -> 2024년 1차 추경(B) | F4: 증감금액 (C=B-A) | G4: 증감율(%) (C/A*100) | H4: 재원 | L4: 산 출 내 역
A5: 관 | B5: 항 | C5: 목 | H5: 보조금 | I5: 법인전입금 | J5: 자부담 | K5: 후원금
A6: 합 계 | D6: =D7+D74+D93+D148+D151 -> 148045000 | E6: =E7+E74+E93+E148+E151 -> 133326000 | F6: =E6-D6 -> -14719000 | G6: =F6/D6*100 -> -9.9422473 | H6: =H7+H74+H93+H148+H151 -> 106286870 | I6: =I7+I74+I93+I148+I151 -> 0 | J6: =J7+J74+J93+J148+J151 -> 27039130 | K6: =K7+K74+K93+K148+K151 -> 0 | U6: =U7+U74+U93+U148+U151 -> 133326000 | W6: =SUM(H6:K6) -> 133326000 | X6: =E6-W6 -> 0 | Y6: =U6-W6 -> 0
A7: 사무비 | B7: 계 | D7: =SUM(D8+D39+D48) -> 122066660 | E7: =SUM(E8,E39,E48) -> 102417060 | F7: =E7-D7 -> -19649600 | G7: =F7/D7*100 -> -16.097434 | H7: =H8+H39+H48 -> 90583000 | I7: =I8+I39+I48 -> 0 | J7: =J8+J39+J48 -> 11834060 | K7: =K8+K39+K48 -> 0 | U7: =U8+U39+U48 -> 102417060 | W7: =SUM(H7:K7) -> 102417060 | X7: =E7-W7 -> 0 | Y7: =U7-W7 -> 0
B8: 인건비 | C8: 소계 | D8: =SUM(D9,D14,D16,D27,D29,D35,) -> 111706660 | E8: =SUM(E9,E14,E16,E27,E29,E35) -> 92057060 | F8: =E8-D8 -> -19649600 | G8: =F8/D8*100 -> -17.590357 | H8: =SUM(H9:H35) -> 87983000 | I8: =SUM(I9:I35) -> 0 | J8: =SUM(J9:J35) -> 4074060 | K8: =SUM(K9:K35) -> 0 | U8: =SUM(U9,U14,U16,U27,U29,U35) -> 92057060 | W8: =SUM(H8:K8) -> 92057060 | X8: =E8-W8 -> 0 | Y8: =U8-W8 -> 0
C9: 급여 | D9: 75315900 | E9: =SUM(H9:J9) -> 65999100 | F9: =E9-D9 -> -9316800 | G9: =F9/D9*100 -> -12.370296 | H9: 63606870 | I9: 0 | J9: 2392230 | K9: 0 | L9: ◆급여 | U9: =SUM(U10:U13) -> 65999100
L10: 사회재활교사 | M10: 이애경 | N10: =U10/P10/R10 -> 4899600 | O10: × | P10: 3 | Q10: × | R10: 1 | S10: = | U10: ='사. 임직원보수 일람표'!F9 -> 14698800
N11: =U11/P11/R11 -> 4960100 | O11: × | P11: 9 | Q11: × | R11: 1 | S11: = | U11: ='사. 임직원보수 일람표'!F10 -> 44640900
L12: 생활재활교사 | N12: =U12/P12/R12 -> 1109900 | O12: × | P12: 6 | Q12: × | R12: 1 | S12: = | U12: ='사. 임직원보수 일람표'!F11 -> 6659400
C14: 일용잡급 | D14: 0 | E14: =SUM(H14:K14) -> 0 | F14: =E14-D14 -> 0 | G14: 0 | H14: 0 | I14: 0 | J14: 0 | K14: 0 | L14: ◆일용잡급 | U14: =E14 -> 0 | W14: =SUM(H14:K14) -> 0 | X14: =E14-W14 -> 0 | Y14: =U14-W14 -> 0
L15: 계약직 | N15: 0 | O15: × | P15: 12 | Q15: × | R15: 1 | S15: = | U15: =N15*P15*R15 -> 0
C16: 제수당 | D16: 18806420 | E16: =SUM(H16:K16) -> 15509220 | F16: =E16-D16 -> -3297200 | G16: =F16/D16*100 -> -17.532311 | H16: 14792020 | I16: 0 | J16: 717200 | K16: 0 | L16: ◆제수당 | U16: =U17+U22+U25 -> 15509220 | W16: =SUM(H16:K16) -> 15509220 | X16: =E16-W16 -> 0 | Y16: =U16-W16 -> 0
L17: -명절휴가비 | U17: =SUM(U18:U21) -> 5915820
L18: 사회재활교사 | M18: 이애경 | N18: =U18/P18/R18 -> 4899600 | O18: × | P18: 1 | Q18: × | R18: 0.6 | S18: = | U18: ='사. 임직원보수 일람표'!G9 -> 2939760
N19: =U19/P19/R19 -> 4960100 | O19: × | P19: 1 | Q19: × | R19: 0.6 | S19: = | U19: ='사. 임직원보수 일람표'!G10 -> 2976060
L20: 생활재활교사 | N20: =U20/P20/R20 -> 0 | O20: × | P20: 1 | Q20: × | R20: 0.6 | S20: = | U20: ='사. 임직원보수 일람표'!G11 -> 0
N21: =U21/P21/R21 -> 0 | O21: × | P21: 1 | Q21: × | R21: 0.6 | S21: = | U21: ='사. 임직원보수 일람표'!G12 -> 0
L22: -가족수당 | U22: =SUM(U23:U24) -> 120000
L23: 사회재활교사 | M23: 이애경 | N23: =U23/P23/R23 -> 0 | O23: × | P23: 12 | Q23: × | R23: 1 | S23: = | U23: ='사. 임직원보수 일람표'!H9+'사. 임직원보수 일람표'!H10 -> 0
L24: 생활재활교사 | N24: =U24/P24/R24 -> 20000 | O24: × | P24: 6 | Q24: × | R24: 1 | S24: = | U24: ='사. 임직원보수 일람표'!H11+'사. 임직원보수 일람표'!H12 -> 120000
L25: -연장근로수당 | U25: =U26 -> 9473400
M26: =U10+U11 -> 59339700 | N26: X 1/209 | O26: × | P26: 1.5 | Q26: × | R26: 20시간 | S26: = | U26: ='사. 임직원보수 일람표'!I41 -> 9473400
C27: 퇴직금및퇴직적립금 | D27: 7843530 | E27: =SUM(H27:K27) -> 6792360 | F27: =E27-D27 -> -1051170 | G27: =F27/D27*100 -> -13.401746 | H27: 6362670 | I27: 0 | J27: 429690 | K27: 0 | L27: ◆퇴직적립금 | U27: =U28 -> 6792360 | W27: =SUM(H27:K27) -> 6792360 | X27: =E27-W27 -> 0 | Y27: =U27-W27 -> 0
N28: =U9+U16 -> 81508320 | O28: × | P28: 1/12 | S28: = | U28: ='사. 임직원보수 일람표'!K41 -> 6792360
C29: 사회보험부담비용 | D29: 9740810 | E29: =SUM(H29:K29) -> 3756380 | F29: =E29-D29 -> -5984430 | G29: =F29/D29*100 -> -61.436677 | H29: 3221440 | I29: 0 | J29: 534940 | K29: 0 | L29: ◆사회보험부담비용 | U29: =SUM(U30:U34) -> 3756380 | W29: =SUM(H29:K29) -> 3756380 | X29: =E29-W29 -> 0 | Y29: =U29-W29 -> 0
L30: 국민연금 | N30: =U9+U16 -> 81508320 | O30: × | P30: 0.045 | S30: = | U30: ='사. 임직원보수 일람표'!N41 -> 348080
L31: 건강보험료 | N31: =N30 -> 81508320 | O31: × | P31: 0.03545 | S31: = | U31: ='사. 임직원보수 일람표'!L41 -> 2889470
L32: 노인장기요양보험 | N32: =U31 -> 2889470 | O32: × | P32: 0.1281 | S32: = | U32: ='사. 임직원보수 일람표'!M41 -> 374190
L33: 고용보험 | N33: =N31 -> 81508320 | O33: × | P33: 0.0105 | S33: = | U33: ='사. 임직원보수 일람표'!O41 -> 88950
L34: 산재보험 | N34: =N33 -> 81508320 | O34: × | P34: 0.008 | S34: = | U34: ='사. 임직원보수 일람표'!P41 -> 55690
C35: 기타후생경비 | D35: 0 | E35: =SUM(H35:K35) -> 0 | F35: =E35-D35 -> 0 | G35: 0 | H35: 0 | I35: 0 | J35: 0 | K35: 0 | L35: ◆기타후생경비 | U35: =SUM(U36:U38) -> 0 | W35: =SUM(H35:K35) -> 0 | X35: =E35-W35 -> 0 | Y35: =U35-W35 -> 0
L36: 직원복리후생비 | N36: 0 | O36: × | P36: 12 | S36: = | U36: =N36*P36 -> 0
L37: 단체상해보험 | N37: 0 | O37: × | P37: 1 | Q37: × | R37: 16 | S37: = | U37: =N37*P37*R37 -> 0
L38: 명함제작비 | N38: 0 | O38: × | P38: 1 | Q38: × | R38: 10 | S38: = | U38: =N38*P38*R38 -> 0
B39: 업무추진비 | C39: 소계 | D39: =SUM(D40:D47) -> 140000 | E39: =SUM(E40,E45) -> 140000 | F39: =E39-D39 -> 0 | G39: =F39/D39*100 -> 0 | H39: =SUM(H40:H45) -> 0 | I39: =SUM(I40:I45) -> 0 | J39: =SUM(J40:J45) -> 140000 | K39: =SUM(K40:K45) -> 0 | U39: =SUM(U40,U43,U45) -> 140000 | W39: =SUM(H39:K39) -> 140000 | X39: =E39-W39 -> 0 | Y39: =U39-W39 -> 0
C40: 기관운영비 | D40: 0 | E40: =SUM(H40:K40) -> 0 | F40: =E40-D40 -> 0 | G40: 0 | H40: 0 | I40: 0 | J40: 0 | K40: 0 | L40: ◆기관운영비 | U40: =SUM(U41:U42) -> 0 | W40: =SUM(H40:K40) -> 0 | X40: =E40-W40 -> 0 | Y40: =U40-W40 -> 0
L41: 유관기관경비 | N41: 0 | O41: × | P41: 12 | S41: = | U41: 0
L42: 지역 명절 선물비 | N42: 0 | O42: × | P42: 2 | Q42: × | R42: 10 | S42: = | U42: 0
C43: 직책보조비 | D43: 0 | E43: =SUM(H43:K43) -> 0 | F43: =E43-D43 -> 0 | G43: 0 | H43: 0 | L43: ◆직책보조비 | U43: 0
C45: 회의비 | D45: 140000 | E45: =SUM(H45:K45) -> 140000 | F45: =E45-D45 -> 0 | G45: =F45/D45*100 -> 0 | H45: 0 | I45: 0 | J45: 140000 | K45: 0 | L45: ◆회의비 | U45: =SUM(U46:U47) -> 140000 | W45: =SUM(H45:K45) -> 140000 | X45: =E45-W45 -> 0 | Y45: =U45-W45 -> 0
L46: 운영위원회의비 | N46: =U46/P46 -> 25000 | O46: × | P46: 4 | S46: = | U46: 100000
L47: 부모간담회의비 | N47: =U47/P47 -> 20000 | O47: × | P47: 2 | S47: = | U47: 40000
B48: 운영비 | C48: 소계 | D48: =SUM(D49:D73) -> 10220000 | E48: =SUM(E49,E51,E58,E60,E67,E70) -> 10220000 | F48: =E48-D48 -> 0 | G48: =F48/D48*100 -> 0 | H48: =SUM(H49:H70) -> 2600000 | I48: =SUM(I49:I70) -> 0 | J48: =SUM(J49:J70) -> 7620000 | K48: =SUM(K49:K70) -> 0 | U48: =SUM(U49,U51,U58,U60,U67,U70) -> 10220000 | W48: =SUM(H48:K48) -> 10220000 | X48: =E48-W48 -> 0 | Y48: =U48-W48 -> 0
C49: 여비 | D49: 0 | E49: =SUM(H49:K49) -> 0 | F49: =E49-D49 -> 0 | G49: 0 | H49: 0 | I49: 0 | J49: 0 | K49: 0 | L49: ◆여비 | U49: =E49 -> 0 | W49: =SUM(H49:K49) -> 0 | X49: =E49-W49 -> 0 | Y49: =U49-W49 -> 0
L50: 출장여비 | N50: 0 | O50: × | P50: 10 | Q50: × | R50: 5 | S50: = | U50: 0
C51: 수용비및수수료 | D51: 3900000 | E51: =SUM(H51:K51) -> 3900000 | F51: =E51-D51 -> 0 | G51: =F51/D51*100 -> 0 | H51: 800000 | I51: 0 | J51: 3100000 | K51: 0 | L51: ◆수용비및수수료 | U51: =SUM(U52:U57) -> 3900000 | W51: =SUM(H51:K51) -> 3900000 | X51: =E51-W51 -> 0 | Y51: =U51-W51 -> 0
L52: 사무용품등구입 | N52: =U52/P52 -> 100000 | O52: × | P52: 12 | S52: = | U52: 1200000
L53: 복사기,프린터기렌탈료 | N53: =U53/P53 -> 85000 | O53: × | P53: 12 | S53: = | U53: 1020000
L54: 정수기,비테렌탈료 | N54: =U54/P54 -> 80000 | O54: × | P54: 12 | S54: = | U54: 960000
L55: 침대렌탈료 | N55: =U55/P55 -> 40000 | O55: × | P55: 12 | S55: = | U55: 480000
L56: 우편발송료 | N56: =U56/P56 -> 10000 | O56: × | P56: 12 | S56: = | U56: 120000
L57: 홈페이지유지관리비 | N57: =U57/P57 -> 10000 | O57: × | P57: 12 | S57: = | U57: 120000
C58: 공공요금 | D58: 5400000 | E58: =SUM(H58:K58) -> 5400000 | F58: =E58-D58 -> 0 | G58: =F58/D58*100 -> 0 | H58: 1800000 | I58: 0 | J58: 3600000 | K58: 0 | L58: ◆공공요금 | U58: =SUM(U59:U59) -> 5400000 | W58: =SUM(H58:K58) -> 5400000 | X58: =E58-W58 -> 0 | Y58: =U58-W58 -> 0
L59: 전화,전기,수도 | N59: =U59/P59 -> 450000 | O59: × | P59: 12 | S59: = | U59: 5400000
C60: 제세공과금 | D60: 0 | E60: =SUM(H60:K60) -> 0 | F60: =E60-D60 -> 0 | G60: 0 | H60: 0 | I60: 0 | J60: 0 | K60: 0 | L60: ◆제세공과금 | U60: =SUM(U61:U66) -> 0 | W60: =SUM(H60:K60) -> 0 | X60: =E60-W60 -> 0 | Y60: =U60-W60 -> 0
L61: 자동차보험 | N61: 0 | O61: × | P61: 1 | S61: = | U61: 0
L62: 종합안전배상책임보험 | N62: 0 | O62: × | P62: 1 | S62: = | U62: 0
L63: 승강기배상보험 | N63: 0 | O63: × | P63: 1 | S63: = | U63: 0
L64: 화재보험 | N64: 0 | O64: × | P64: 1 | S64: = | U64: 0
L65: 신원재정보험 | N65: 0 | O65: × | P65: 1 | R65: 10 | S65: = | U65: 0
L66: 자동차세및 각종세금 | N66: 0 | O66: × | P66: 2 | S66: = | U66: 0
C67: 차량비 | D67: 920000 | E67: =SUM(H67:K67) -> 920000 | F67: =E67-D67 -> 0 | G67: =F67/D67*100 -> 0 | H67: 0 | I67: 0 | J67: 920000 | K67: 0 | L67: ◆차량비 | U67: =SUM(U68:U69) -> 920000 | W67: =SUM(H67:K67) -> 920000 | X67: =E67-W67 -> 0 | Y67: =U67-W67 -> 0
L68: 하이패스충전비 및 수리비 | N68: =U68/P68 -> 64000 | O68: × | P68: 5 | S68: = | U68: 320000
L69: 차량주유비 | N69: =U69/P69 -> 30000 | O69: × | P69: 20 | S69: = | U69: 600000
C70: 기타운영비 | D70: 0 | E70: =SUM(H70:K70) -> 0 | F70: =E70-D70 -> 0 | G70: 0 | H70: 0 | I70: 0 | J70: 0 | K70: 0 | L70: ◆기타운영비 | U70: =SUM(U71:U73) -> 0 | W70: =SUM(H70:K70) -> 0 | X70: =E70-W70 -> 0 | Y70: =U70-W70 -> 0
L71: 직원근무복 | N71: 0 | O71: × | P71: 2 | Q71: × | R71: 16 | S71: = | U71: 0
L72: 급량비 | N72: 0 | O72: × | P72: 10 | Q72: × | R72: 8 | S72: = | U72: 0
L73: 기타운영비 | N73: 0 | O73: × | P73: 4 | S73: = | U73: 0
A74: 재산조성비 | B74: 계 | D74: =D75 -> 2250000 | E74: =E75 -> 2250000 | F74: =E74-D74 -> 0 | G74: =F74/D74*100 -> 0 | H74: =H75 -> 440000 | I74: =I75 -> 0 | J74: =J75 -> 1810000 | K74: =K75 -> 0 | U74: =U75 -> 2250000 | W74: =SUM(H74:K74) -> 2250000 | X74: =E74-W74 -> 0 | Y74: =U74-W74 -> 0
B75: 시설비 | C75: 소계 | D75: =SUM(D84:D89) -> 2250000 | E75: =SUM(E77,E84) -> 2250000 | F75: =E75-D75 -> 0 | G75: =F75/D75*100 -> 0 | H75: =SUM(H76:H84) -> 440000 | I75: =SUM(I76:I84) -> 0 | J75: =SUM(J77,J84) -> 1810000 | K75: =SUM(K77,K84) -> 0 | U75: =SUM(U76,U77,U84) -> 2250000 | W75: =SUM(H75:K75) -> 2250000 | X75: =E75-W75 -> 0 | Y75: =U75-W75 -> 0
C76: 시설비 | D76: 0 | E76: =SUM(H76:K76) -> 0 | F76: =E76-D76 -> 0 | G76: 0 | H76: 0 | I76: 0 | J76: 0 | K76: 0 | L76: ◆시설비 | U76: =E76 -> 0 | W76: =SUM(H76:K76) -> 0 | X76: =E76-W76 -> 0 | Y76: =U76-W76 -> 0
C77: 자산취득비 | D77: 0 | E77: =SUM(H77:K77) -> 0 | F77: =E77-D77 -> 0 | G77: 0 | H77: 0 | I77: 0 | J77: 0 | K77: 0 | L77: ◆자산취득비 | U77: =SUM(U78:U83) -> 0 | W77: =SUM(H77:K77) -> 0 | X77: =E77-W77 -> 0 | Y77: =U77-W77 -> 0
L78: 건조기 | N78: 0 | O78: × | P78: 2 | S78: = | U78: =N78*P78 -> 0
L79: 사무용OA기기구입 | N79: 0 | O79: × | P79: 2 | S79: = | U79: =N79*P79 -> 0
L80: 사무용가구 구입 | N80: 0 | O80: × | P80: 2 | S80: = | U80: =N80*P80 -> 0
L81: 호실 냉장고 구입 | N81: 0 | O81: × | P81: 1 | S81: = | U81: =N81*P81 -> 0
L82: 차량구입 | N82: 0 | O82: × | P82: 1 | S82: = | U82: =N82*P82 -> 0
L83: 차량구입(할부) | N83: 0 | O83: × | P83: 12 | S83: = | U83: =N83*P83 -> 0
C84: 시설장비유지비 | D84: 2250000 | E84: =SUM(H84:K84) -> 2250000 | F84: =E84-D84 -> 0 | G84: =F84/D84*100 -> 0 | H84: 440000 | I84: 0 | J84: 1810000 | K84: 0 | L84: ◆시설장비유지비 | U84: =SUM(U85:U92) -> 2250000 | W84: =SUM(H84:K84) -> 2250000 | X84: =E84-W84 -> 0 | Y84: =U84-W84 -> 0
L85: 장비유지비 | N85: =U85/P85 -> 0 | O85: × | P85: 12 | S85: = | U85: 0
L86: 시설유지비 | N86: =U86/P86 -> 0 | O86: × | P86: 12 | S86: = | U86: 0
L87: 승강기유지비 | N87: =U87/P87 -> 0 | O87: × | P87: 1 | S87: = | U87: 0
L88: 승강기유지비 | N88: =U88/P88 -> 0 | O88: × | P88: 1 | S88: = | U88: 0
L89: 시설장비유지비 | N89: =U89/P89 -> 250000 | O89: × | P89: 4 | S89: = | U89: 1000000
L90: 승강기유지비 | N90: =U90/P90 -> 220000 | O90: × | P90: 2 | S90: = | U90: 440000
L91: 방역소독비 | N91: =U91/P91 -> 50000 | O91: × | P91: 12 | S91: = | U91: 600000
L92: 소방시설관리비 | N92: =U92/P92 -> 105000 | O92: × | P92: 2 | S92: = | U92: 210000
A93: 사업비 | B93: 계 | D93: =D94+D113 -> 22632000 | E93: =SUM(E94,E113) -> 22744000 | F93: =E93-D93 -> 112000 | G93: =F93/D93*100 -> 0.49487451 | H93: =H94+H113 -> 9402000 | I93: =I94+I113 -> 0 | J93: =J94+J113 -> 13342000 | K93: =K94+K113 -> 0 | U93: =U94+U113 -> 22744000 | W93: =SUM(H93:K93) -> 22744000 | X93: =E93-W93 -> 0 | Y93: =U93-W93 -> 0
B94: 운영비 | C94: 소계 | D94: =SUM(D95:D112) -> 17528000 | E94: =SUM(E95,E101,E107,E110) -> 14740000 | F94: =E94-D94 -> -2788000 | G94: =F94/D94*100 -> -15.905979 | H94: =SUM(H95,H101,H105,H107,H110) -> 4460000 | I94: =SUM(I95:I110) -> 0 | J94: =SUM(J95,J101,J105,J107,J110) -> 10280000 | K94: =SUM(K95,K101,K105,K107,K110) -> 0 | U94: =SUM(U95,U101,U105,U107,U110) -> 14740000 | W94: =SUM(H94:K94) -> 14740000 | X94: =E94-W94 -> 0 | Y94: =U94-W94 -> 0
C95: 생계비 | D95: 8648000 | E95: =SUM(H95:K95) -> 6760000 | F95: =E95-D95 -> -1888000 | G95: =F95/D95*100 -> -21.831637 | H95: 1710000 | I95: 0 | J95: 5050000 | K95: 0 | L95: ◆생계비 | U95: =SUM(U96:U100) -> 6760000 | W95: =SUM(H95:K95) -> 6760000 | X95: =E95-W95 -> 0 | Y95: =U95-W95 -> 0
L96: 주ㆍ부식비 | N96: =U96/P96/R96 -> 5000 | O96: × | P96: 260 | Q96: × | R96: 4 | S96: = | U96: 5200000
L97: 간식비 | N97: =U97/P97/R97 -> 1000 | O97: × | P97: 260 | Q97: × | R97: 4 | S97: = | U97: 1040000
L98: 특별급식비 | N98: =U98/P98 -> 0 | O98: × | P98: 6 | S98: = | U98: 0
L99: 기타생계비 | N99: =U99/P99 -> 30000 | O99: × | P99: 4 | Q99: × | S99: = | U99: 120000
L100: 김장행사비 | N100: =U100/P100 -> 400000 | O100: × | P100: 1 | S100: = | U100: 400000
C101: 수용기관경비 | D101: 1380000 | E101: =SUM(H101:K101) -> 1380000 | F101: =E101-D101 -> 0 | G101: =F101/D101*100 -> 0 | H101: 600000 | I101: 0 | J101: 780000 | K101: 0 | L101: ◆수용기관경비 | U101: =SUM(U102:U104) -> 1380000 | W101: =SUM(H101:K101) -> 1380000 | X101: =E101-W101 -> 0 | Y101: =U101-W101 -> 0
L102: 일상용품구입 | N102: =U102/P102 -> 80000 | O102: × | P102: 12 | S102: = | U102: 960000
L103: 위생재료구입 | N103: =U103/P103 -> 70000 | O103: × | P103: 6 | S103: = | U103: 420000
...

Sheet 라-1.보조금세출
A1: 라. 세 출
A2: 1) 보조금 세출내역
I3: (단위:원)
A4: 과 목 | E4: #REF! | F4: #REF! | G4: 증감(B-A) | I4: 산 출 내 역
A5: 관 | B5: 항 | C5: 목 | D5: 세목 | G5: 금액 | H5: 비율(%) | AB5: =#REF!+172000-'라-1.보조금세출'!F6 -> #REF!
A6: 총 계 | E6: 0 | F6: =F7+F34+F39+F52+F55 -> 271383340 | G6: =F6-E6 -> 271383340 | H6: 100 | I6: 총계 | Q6: =Q7+Q34+Q39+Q52+Q55 -> 269383340 | R6: 원 | T6: =(67920000)+(31750000) -> 99670000
A7: 사무비 | B7: 계 | E7: 0 | F7: =F8+F23+F27 -> 145835340 | G7: =F7-E7 -> 145835340 | H7: 100 | I7: 사무비 계 | Q7: =Q8+Q23+Q27 -> 145835340 | R7: 원 | T7: =SUM(F23,F28,F29,F30,#REF!,#REF!,#REF!,F32,F35,F43,F44,F47) -> #REF!
B8: 인건비 | C8: 소계 | E8: 0 | F8: =F9+F10+F16+F22+F15 -> 118030060 | G8: =F8-E8 -> 118030060 | H8: 100 | I8: 인건비 소계 | Q8: =Q9+Q10+Q15+Q16+Q22 -> 118030060 | R8: 원 | T8: =T6-T7 -> #REF!
C9: 급여 | E9: 0 | F9: =Q9 -> 65999100 | G9: =F9-E9 -> 65999100 | H9: 100 | I9: 급여 | K9: ='사. 임직원보수 일람표'!F41/8/12 -> 687490.62 | L9: × | M9: 12 | N9: × | O9: 8 | P9: = | Q9: ='사. 임직원보수 일람표'!F41 -> 65999100 | R9: 원
C10: 제수당 | D10: 소계 | E10: 0 | F10: =SUM(F11:F13) -> 15509220 | G10: =F10-E10 -> 15509220 | H10: 100 | I10: 제수당 소계 | Q10: =SUM(Q11:Q13) -> 15509220 | R10: 원
D11: 명절휴가비 | E11: 0 | F11: =Q11 -> 5915820 | G11: =F11-E11 -> 5915820 | H11: 100 | I11: 명절휴가비 | K11: ='사. 임직원보수 일람표'!G41/8/2 -> 369738.75 | L11: × | M11: 8 | N11: × | O11: 2 | P11: = | Q11: =K11*M11*O11 -> 5915820 | R11: 원
D12: 연장근로수당 | E12: 0 | F12: =Q12 -> 9473400 | G12: =F12-E12 -> 9473400 | H12: 100 | I12: 연장근로수당 | K12: ='사. 임직원보수 일람표'!I41/8/12 -> 98681.25 | L12: × | M12: 12 | N12: × | O12: 8 | P12: = | Q12: =K12*M12*O12 -> 9473400 | R12: 원
D13: 가족수당 | E13: 0 | F13: =Q13 -> 120000 | G13: =F13-E13 -> 120000 | H13: 100 | I13: 가족수당 | K13: ='사. 임직원보수 일람표'!H41/8/12 -> 1250 | L13: × | M13: 12 | N13: × | O13: 8 | P13: = | Q13: =K13*M13*O13 -> 120000 | R13: 원
H14: 100 | R14: 원 | T14: #REF!
C15: 퇴직적립금 | E15: 0 | F15: =Q15 -> 6792360 | G15: =F15-E15 -> 6792360 | H15: 100 | I15: 퇴직금및 퇴직적립금 | K15: ='사. 임직원보수 일람표'!F41+'사. 임직원보수 일람표'!J41 -> 81508320 | L15: × | M15: 0.083333333 | N15: × | P15: = | Q15: ='사. 임직원보수 일람표'!K41 -> 6792360 | R15: 원
C16: 사회보험부담금 | D16: 소계 | E16: 0 | F16: =SUM(F17:F21) -> 29729380 | G16: =F16-E16 -> 29729380 | H16: 100 | I16: 사회보험부담비용 | Q16: =SUM(Q17:Q21) -> 29729380 | R16: 원 | X16: =SUM(F17-X17) -> #REF! | Z16: #REF!
D17: 건강보험 부담금 | E17: 0 | F17: =Q17 -> 9895340 | G17: =F17-E17 -> 9895340 | H17: 100 | I17: 건강보험료 | K17: =K15 -> 81508320 | L17: × | M17: 0.0667 | N17: × | O17: 0.5 | P17: = | Q17: ='인건비총계표(보조금)'!Y5 -> 9895340 | R17: 원 | T17: #REF! | U17: =ROUNDUP(T17*3.23%,-1) -> #REF! | V17: =ROUNDUP(U17*8.51%,-1) -> #REF! | W17: #REF! | X17: =SUM(V17:W17) -> #REF! | Z17: =SUM(Y16:Y17) -> 0
D18: 장기요양보험 | F18: =Q18 -> 1014790 | G18: =F18-E18 -> 1014790 | H18: 100 | I18: 장기요양보험 | K18: =Q17 -> 9895340 | L18: × | M18: 0.1025 | P18: = | Q18: ='인건비총계표(보조금)'!Z5 -> 1014790 | R18: 원 | T18: #REF! | U18: =ROUNDUP(T18*4.5%,-1) -> #REF! | V18: =F19-U18 -> #REF!
D19: 국민연금 부담금 | E19: 0 | F19: =Q19 -> 13351150 | G19: =F19-E19 -> 13351150 | H19: 100 | I19: 국민연금 | K19: =K17 -> 81508320 | L19: × | M19: 0.09 | N19: × | O19: 0.5 | P19: = | Q19: ='인건비총계표(보조금)'!X5 -> 13351150 | R19: 원 | T19: #REF! | U19: =ROUNDUP(T19*0.9%,-1) -> #REF! | V19: =F20-U19 -> #REF!
D20: 고용보험 부담금 | E20: 0 | F20: =Q20 -> 3115300 | G20: =F20-E20 -> 3115300 | H20: 100 | I20: 고용보험 | K20: =K19 -> 81508320 | L20: × | M20: 0.0105 | P20: = | Q20: ='인건비총계표(보조금)'!AA5 -> 3115300 | R20: 원 | T20: #REF! | U20: =ROUNDUP(T20*0.8%,-1) -> #REF! | V20: =F21-U20 -> #REF!
D21: 산재보험 부담금 | E21: 0 | F21: =Q21 -> 2352800 | G21: =F21-E21 -> 2352800 | H21: 100 | I21: 산재보험 | K21: =K20 -> 81508320 | L21: × | M21: 0.00793 | P21: = | Q21: ='인건비총계표(보조금)'!AB5 -> 2352800 | R21: 원
C22: 기타후생경비 | E22: 0 | F22: =Q22 -> 0 | G22: =F22-E22 -> 0 | H22: 0 | I22: 직원연수, 경조사, 복리후생비 | Q22: 0 | R22: 원
B23: 업무 추진비 | C23: 소계 | E23: 0 | F23: =SUM(F24:F26) -> 0 | G23: =F23-E23 -> 0 | H23: 0 | I23: 업무추진비 소계 | Q23: =SUM(Q24:Q26) -> 0 | R23: 원
C24: 기관운영비 | E24: 0 | F24: =Q24 -> 0 | G24: =F24-E24 -> 0 | H24: 0 | I24: 유관기관 제 잡비 | K24: 0 | L24: × | M24: 12 | P24: = | Q24: =K24*M24 -> 0 | R24: 원
C25: 직책보조비 | E25: 0 | F25: =Q25 -> 0 | G25: =F25-E25 -> 0 | H25: 0 | I25: 직책보조비 | K25: 0 | L25: × | M25: 12 | P25: = | Q25: =K25*M25 -> 0 | R25: 원
C26: 회의비 | E26: 0 | F26: =Q26 -> 0 | G26: =F26-E26 -> 0 | H26: 0 | I26: 회의비 | K26: 0 | L26: × | M26: 12 | P26: = | Q26: =K26*M26 -> 0 | R26: 원
B27: 운영비 | C27: 소계 | E27: 0 | F27: =F28+F29+F30+F31+F32+F33 -> 27805280 | G27: =F27-E27 -> 27805280 | H27: 100 | I27: 운영비 소계 | Q27: =SUM(Q28:Q33) -> 27805280 | R27: 원
C28: 여비 | E28: 0 | F28: =Q28 -> 0 | G28: =F28-E28 -> 0 | H28: 0 | I28: 여비 | Q28: 0 | R28: 원
C29: 수용비및 수수료 | E29: 0 | F29: =Q29 -> 12305280 | G29: =F29-E29 -> 12305280 | H29: 100 | I29: 사무용품비, 인쇄비, 수수료 등 | Q29: 12305280 | R29: 원 | T29: 2931420 | U29: =T29*12 -> 35177040
C30: 공공요금 | E30: 0 | F30: =Q30 -> 12000000 | G30: =F30-E30 -> 12000000 | H30: 100 | I30: 수도료,전기료,우편료,전화료,운송료 등 | Q30: 12000000 | R30: 원 | T30: 43916 | U30: =T30*80*12 -> 42159360
C31: 제세공과금 | E31: 0 | F31: =Q31 -> 2000000 | G31: =F31-E31 -> 2000000 | H31: 100 | I31: 제세공과금 | Q31: 2000000 | R31: 원 | U31: =SUM(U29:U30) -> 77336400
C32: 차량비 | E32: 0 | F32: =Q32 -> 1500000 | G32: =F32-E32 -> 1500000 | H32: 100 | I32: 차량 주유비 및 정비료 | Q32: 1500000 | R32: 원
C33: 기타운영비 | E33: 0 | F33: =Q33 -> 0 | G33: =F33-E33 -> 0 | H33: 0 | I33: 직원근무복, 기타행사비(부활,성탄) | Q33: 0 | R33: 원
A34: 재산조성비 | B34: 계 | E34: 0 | F34: =F35 -> 18000000 | G34: =F34-E34 -> 18000000 | H34: 100 | I34: 재산조성비 계 | Q34: =Q35 -> 18000000 | R34: 원
B35: 시설비 | C35: 소계 | E35: 0 | F35: =SUM(F36:F38) -> 18000000 | G35: =F35-E35 -> 18000000 | H35: 100 | I35: 시설비 소계 | Q35: =Q36+Q37+Q38 -> 18000000 | R35: 원
C36: 시설비 | E36: 0 | F36: =Q36 -> 0 | G36: =F36-E36 -> 0 | H36: 0 | I36: 시설공사비 | Q36: 0 | R36: 원
C37: 자산취득비 | E37: 0 | F37: =Q37 -> 0 | G37: =F37-E37 -> 0 | H37: 0 | I37: 자산취득비 | K37: 0 | L37: × | M37: 0 | P37: = | Q37: =K37*M37 -> 0 | R37: 원
C38: 시설장비 유지비 | D38: 건물유지비 | E38: 0 | F38: =Q38 -> 18000000 | G38: =F38-E38 -> 18000000 | H38: 100 | I38: 장비 및 건물보수 유지비 | K38: 1500000 | L38: × | M38: 12 | P38: = | Q38: =K38*M38 -> 18000000 | R38: 원
A39: 사업비 | B39: 계 | E39: 0 | F39: =F40+F46 -> 107376000 | G39: =F39-E39 -> 107376000 | H39: 100 | I39: 사업비 계 | Q39: =Q40+Q46 -> 105376000 | R39: 원
B40: 운영비 | C40: 소계 | E40: 0 | F40: =SUM(F41:F45) -> 66976000 | G40: =F40-E40 -> 66976000 | H40: 100 | I40: 사업비 운영비 소계 | Q40: =Q41+Q43+Q42+Q44+Q45 -> 66976000 | R40: 원
C41: 생계비 | E41: 0 | F41: =Q41 -> 39936000 | G41: =F41-E41 -> 39936000 | H41: 100 | I41: 생계비 | K41: 4800 | L41: × | M41: 260 | N41: × | O41: 32 | P41: = | Q41: =K41*M41*O41 -> 39936000 | R41: 원
C42: 수용기관경비 | E42: 0 | F42: =Q42 -> 7200000 | G42: =F42-E42 -> 7200000 | H42: 100 | I42: 수용기관경비 | K42: 600000 | L42: × | M42: 12 | P42: = | Q42: =K42*M42 -> 7200000 | R42: 원
C43: 피복비 | E43: 0 | F43: =Q43 -> 640000 | G43: =F43-E43 -> 640000 | H43: 100 | I43: 피복구입비 | K43: 20000 | L43: × | M43: 32 | P43: = | Q43: =K43*M43 -> 640000 | R43: 원 | T43: =F41*70% -> 27955200
C44: 의료비 | E44: 0 | F44: =Q44 -> 1200000 | G44: =F44-E44 -> 1200000 | H44: 100 | I44: 의료비 | K44: 100000 | L44: × | M44: 12 | P44: = | Q44: =K44*M44 -> 1200000 | R44: 원 | T44: =F41*30% -> 11980800
C45: 연료비 | E45: 0 | F45: =Q45 -> 18000000 | G45: =F45-E45 -> 18000000 | H45: 100 | I45: 난방 취사 연료 | K45: 1500000 | L45: × | M45: 12 | P45: = | Q45: =K45*M45 -> 18000000 | R45: 원 | T45: =#REF!+#REF!+#REF!+'라-2.자부담세출'!F53+'라-3.후원금세출'!F53+#REF! -> #REF!
B46: 사업비 | C46: 소계 | E46: 0 | F46: =SUM(F47:F51) -> 40400000 | G46: =F46-E46 -> 40400000 | H46: 100 | I46: 사업비 사업비 소계 | Q46: =Q47+Q48+Q49+Q50 -> 38400000 | R46: 원
C47: 일상생활서비스 | E47: 0 | F47: =Q47 -> 9600000 | G47: =F47-E47 -> 9600000 | H47: 100 | I47: 일상생활서비스 | K47: 800000 | L47: × | M47: 12 | P47: = | Q47: =K47*M47 -> 9600000 | R47: 원
C48: 여가활동 | E48: 0 | F48: =Q48 -> 9600000 | G48: =F48-E48 -> 9600000 | H48: 100 | I48: 여가활동 | K48: 800000 | L48: × | M48: 12 | P48: = | Q48: =K48*M48 -> 9600000 | R48: 원
C49: 관계개선사업 | E49: 0 | F49: =Q49 -> 9600000 | G49: =F49-E49 -> 9600000 | H49: 100 | I49: 관계개선사업 | K49: 800000 | L49: × | M49: 12 | P49: = | Q49: =K49*M49 -> 9600000 | R49: 원
C50: 교육사업 | E50: 0 | F50: =Q50 -> 9600000 | G50: =F50-E50 -> 9600000 | H50: 100 | I50: 교육사업 | K50: 800000 | L50: × | M50: 12 | P50: = | Q50: =K50*M50 -> 9600000 | R50: 원
C51: 환경개선사업 | E51: 0 | F51: =Q51 -> 2000000 | G51: =F51-E51 -> 2000000 | H51: 100 | I51: 환경개선사업비 | Q51: 2000000 | R51: 원
A52: 잡지출 | B52: 계 | E52: 0 | F52: =F53 -> 172000 | G52: =F52-E52 -> 172000 | H52: 100 | I52: 잡지출 계 | Q52: =Q53 -> 172000 | R52: 원
B53: 잡지출 | C53: 소계 | E53: 0 | F53: =F54 -> 172000 | G53: =F53-E53 -> 172000 | H53: 100 | I53: 잡지출 소계 | Q53: =Q54 -> 172000 | R53: 원
C54: 잡지출 | E54: 0 | F54: =Q54 -> 172000 | G54: =F54-E54 -> 172000 | H54: 100 | I54: 잡지출 | Q54: 172000 | R54: 원
A55: 예비비및기타 | B55: 계 | E55: 0 | F55: =F56 -> 0 | G55: =F55-E55 -> 0 | H55: 0 | I55: 예비비 계 | Q55: =Q56 -> 0 | R55: 원
B56: 예비비 | C56: 소계 | E56: 0 | F56: =F57 -> 0 | G56: =F56-E56 -> 0 | H56: 0 | I56: 예비비 소계 | Q56: =Q57 -> 0 | R56: 원
C57: 예비비 | E57: 0 | F57: =Q57 -> 0 | G57: =F57-E57 -> 0 | H57: 0 | I57: 예비비 | Q57: 0 | R57: 원

Sheet 라-2.자부담세출
A1: 라. 세 출
A2: 3) 자부담 세출내역
I3: (단위:원)
A4: 과 목 | E4: ='라-1.보조금세출'!E4:E5 -> #REF! | F4: ='라-1.보조금세출'!F4:F5 -> #REF! | G4: 증감(B-A) | I4: 산 출 내 역
A5: 관 | B5: 항 | C5: 목 | D5: 세목 | G5: 금액 | H5: 비율(%) | T5: 이월금 포함 | AJ5: =#REF!+6300000+500000+100000+1000000-'라-2.자부담세출'!F6 -> #REF!
A6: 총 계 | E6: =E7+E46+E51+E63+E66 -> 70500000 | F6: =F7+F46+F51+F66+F63 -> #REF! | G6: =G7+G46+G51+G66+G63 -> #REF! | H6: =G6/E6*100 -> #REF! | I6: 총계 | Q6: =Q7+Q46+Q51+Q63+Q66 -> #REF! | R6: 원 | S6: #REF! | U6: =SUM(U7:U12) -> #REF! | V6: =SUM(V7:V12) -> #REF! | W6: =SUM(W33:W68) -> #REF! | Z6: #REF! | AB6: #REF! | AD6: #REF!
A7: 사무비 | B7: 계 | E7: =E8+E34+E39 -> 47485000 | F7: =F8+F34+F39 -> #REF! | G7: =F7-E7 -> #REF! | H7: =G7/E7*100 -> #REF! | I7: 사무비 계 | Q7: =Q8+Q34+Q39 -> #REF! | R7: 원 | T7: 유료입소 | U7: #REF! | V7: =U42+U53+U60+U62+#REF!+U55 -> #REF! | W7: =U7-V7 -> #REF!
B8: 인건비 | C8: 소계 | E8: =SUM(E9,E10,E11,E12,E26,E27,E33) -> 46085000 | F8: =F9+F10+F11+F12+F26+F27+F33 -> #REF! | G8: =F8-E8 -> #REF! | H8: =G8/E8*100 -> #REF! | I8: 인건비 소계 | Q8: =Q9+Q10+Q11+Q12+Q26+Q27+Q33 -> #REF! | R8: 원 | T8: 법인전입-승마 | U8: 0 | V8: =#REF! -> #REF! | W8: =U8-V8 -> #REF! | Z8: =F6-Z6 -> #REF!
C9: 급여 | E9: 10800000 | F9: #REF! | G9: =F9-E9 -> #REF! | H9: =G9/E9*100 -> #REF! | I9: 급여 | K9: 1830000 | L9: × | M9: 12 | N9: × | O9: 1 | P9: = | Q9: =K9*M9*O9 -> 21960000 | R9: 원 | T9: 법인전입 | U9: 43648948 | V9: =F9+F10+F11+F12+F26+F27+T33+T42+T41+T43+T45+T48+T49+T50+T36+T38+T44+T60+T61+T62+T55+T66 -> #REF! | W9: =U9-V9 -> #REF!
C10: 상여금 | E10: 0 | F10: 0 | G10: =F10-E10 -> 0 | H10: =G10/E10*100 -> #DIV/0! | I10: 상여금 | R10: 원 | T10: 잡수입-식대 | U10: 19000000 | V10: =V53 -> 19000000 | W10: =U10-V10 -> 0
C11: 일용잡급 | E11: 33000000 | F11: =Q11 -> 0 | G11: =F11-E11 -> -33000000 | H11: =G11/E11*100 -> -100 | I11: 일용잡급 | K11: 0 | L11: × | M11: 12 | N11: × | O11: 0 | P11: = | Q11: =K11*M11*O11 -> 0 | R11: 원 | T11: 잡수입 | U11: 9283923 | V11: =V66+V63+V55+V41+V42+V43+V44+V45+V50+V35+V38+#REF! -> #REF! | W11: =U11-V11 -> #REF!
C12: 제수당 | E12: =E21 -> 0 | F12: #REF! | G12: =F12-E12 -> #REF! | H12: =G12/E12*100 -> #REF! | I12: 제수당 | K12: 1830000 | L12: × | M12: 0.6 | N12: × | O12: 2 | P12: = | Q12: =K12*M12*O12 -> 2196000 | R12: 원 | T12: 프로그램수입 | U12: 5175729 | V12: =V59+V60+V61+V62 -> 5175729 | W12: =U12-V12 -> 0
D13: 가계보조수당 | E13: 0 | F13: 0 | G13: =F13-E13 -> 0 | H13: =G13/E13*100 -> #DIV/0! | R13: 원
D14: 교통급식비 | E14: 0 | F14: 0 | G14: =F14-E14 -> 0 | H14: =G14/E14*100 -> #DIV/0! | R14: 원
D15: 명절휴가비 | E15: 0 | F15: 0 | G15: =F15-E15 -> 0 | H15: =G15/E15*100 -> #DIV/0! | R15: 원
D16: 생활복지사수당 | E16: 0 | F16: 0 | G16: =F16-E16 -> 0 | H16: =G16/E16*100 -> #DIV/0! | R16: 원
D17: 생활지도원수당 | E17: 0 | F17: 0 | G17: =F17-E17 -> 0 | H17: =G17/E17*100 -> #DIV/0! | R17: 원
D18: 조리.위생수당 | E18: 0 | F18: 0 | G18: =F18-E18 -> 0 | H18: =G18/E18*100 -> #DIV/0! | R18: 원
G19: =F19-E19 -> 0 | H19: =G19/E19*100 -> #DIV/0! | R19: 원
D20: 가족수당 | E20: 0 | F20: 0 | G20: =F20-E20 -> 0 | H20: =G20/E20*100 -> #DIV/0! | R20: 원
D21: 직책수당 | E21: 0 | F21: 0 | G21: =F21-E21 -> 0 | H21: =G21/E21*100 -> #DIV/0! | I21: 기관장(300,000원),사무국장(200,000원), 과장(150,000원,2명),팀장(100,000원, 8명) | R21: 원
E22: 0 | F22: 0 | G22: =F22-E22 -> 0 | H22: =G22/E22*100 -> #DIV/0! | R22: 원
E23: 0 | F23: 0 | G23: =F23-E23 -> 0 | H23: =G23/E23*100 -> #DIV/0! | R23: 원
E24: 0 | F24: 0 | G24: =F24-E24 -> 0 | H24: =G24/E24*100 -> #DIV/0! | R24: 원
E25: 0 | F25: 0 | G25: =F25-E25 -> 0 | H25: =G25/E25*100 -> #DIV/0! | R25: 원
C26: 퇴직금및 적립금 | E26: 900000 | F26: #REF! | G26: =F26-E26 -> #REF! | H26: =G26/E26*100 -> #REF! | I26: 퇴직금및 퇴직적립금 | K26: 24156000 | L26: × | M26: 0.5 | P26: = | Q26: #REF! | R26: 원
C27: 사회보험 부담비용 | D27: 소계 | E27: 1085000 | F27: =Q27 -> #REF! | G27: =F27-E27 -> #REF! | H27: =G27/E27*100 -> #REF! | I27: 사회보험부담비용 | Q27: =SUM(Q28:Q32) -> #REF! | R27: 원
D28: 건강보험부담금 | H28: =G28/E28*100 -> #DIV/0! | I28: 건강보험료 | K28: 24156000 | L28: × | M28: 0.0667 | N28: × | O28: 0.5 | P28: = | Q28: #REF! | R28: 원 | S28: =ROUNDUP(F21*3.23%,-1) -> 0 | T28: =ROUNDUP(S28*8.51%,-1) -> 0 | U28: =SUM(S28:T28) -> 0 | V28: =U28-F28 -> 0
D29: 장기요양보험료 | H29: =G29/E29*100 -> #DIV/0! | I29: 장기요양보험 | K29: =Q28 -> #REF! | L29: × | M29: 0.1025 | P29: = | Q29: #REF! | R29: 원
D30: 국민연금부담금 | H30: =G30/E30*100 -> #DIV/0! | I30: 국민연금 | K30: =K28 -> 24156000 | L30: × | M30: 0.09 | N30: × | O30: 0.5 | P30: = | Q30: #REF! | R30: 원 | S30: =ROUNDUP(F22*3.12%,-1) -> 0
D31: 고용보험부담금 | H31: =G31/E31*100 -> #DIV/0! | I31: 고용보험 | K31: =K30 -> 24156000 | L31: × | M31: 0.0105 | P31: = | Q31: #REF! | R31: 원 | S31: #REF! | T31: =ROUNDUP(S31*0.9%,-1) -> #REF!
D32: 산재보험부담금 | H32: =G32/E32*100 -> #DIV/0! | I32: 산재보험 | K32: =K31 -> 24156000 | L32: × | M32: 0.00793 | P32: = | Q32: #REF! | R32: 원 | S32: #REF! | T32: =ROUNDUP(S32*0.8%,-1) -> #REF!
C33: 기타후생경비 | E33: 300000 | F33: 600000 | G33: =Q33 -> 600000 | H33: =G33/E33*100 -> 200 | I33: 직원연수, 경조사, 복리후생비 | Q33: 600000 | R33: 원 | S33: 법인 | T33: =F33 -> 600000 | W33: =T33+U33+V33 -> 600000
B34: 업무 추진비 | C34: 소계 | E34: =E35+E36+E38 -> 300000 | F34: =SUM(F35:F38) -> 3600000 | G34: =F34-E34 -> 3300000 | H34: =G34/E34*100 -> 1100 | I34: 업무추진비 소계 | Q34: =SUM(Q35:Q38) -> 3600000 | R34: 원 | W34: =T34+U34+V34 -> 0
C35: 기관운영비 | E35: 100000 | F35: =Q35 -> 1200000 | G35: =F35-E35 -> 1100000 | H35: =G35/E35*100 -> 1100 | I35: 유관기관 제 잡비 | K35: 100000 | L35: × | M35: 12 | P35: = | Q35: =K35*M35 -> 1200000 | R35: 원 | S35: 기타 | V35: 300000 | W35: =T35+U35+V35 -> 300000
C36: 직책보조비 | E36: 100000 | F36: =Q36 -> 1200000 | G36: =F36-E36 -> 1100000 | H36: =G36/E36*100 -> 1100 | I36: 직책보조비 | K36: 100000 | L36: × | M36: 12 | P36: = | Q36: =K36*M36 -> 1200000 | R36: 원 | T36: =F36 -> 1200000 | W36: =T36+U36+V36 -> 1200000
C37: 홍보비 | E37: 0 | F37: 0 | G37: =F37-E37 -> 0 | H37: =G37/E37*100 -> #DIV/0! | R37: 원 | W37: =T37+U37+V37 -> 0
C38: 회의비 | E38: 100000 | F38: =Q38 -> 1200000 | G38: =F38-E38 -> 1100000 | H38: =G38/E38*100 -> 1100 | I38: 회의비 | K38: 100000 | L38: × | M38: 12 | P38: = | Q38: =K38*M38 -> 1200000 | R38: 원 | S38: 기타,법인 | T38: 1000000 | V38: 1000000 | W38: =T38+U38+V38 -> 2000000
B39: 운영비 | C39: 소계 | E39: =SUM(E40:E45) -> 1100000 | F39: =SUM(F40:F45) -> 20690440 | G39: =F39-E39 -> 19590440 | H39: =G39/E39*100 -> 1780.9491 | I39: 운영비 소계 | Q39: =SUM(Q40:Q45) -> 20690440 | R39: 원 | W39: =T39+U39+V39 -> 0
C40: 여비 | E40: 100000 | F40: =Q40 -> 500000 | G40: =F40-E40 -> 400000 | H40: =G40/E40*100 -> 400 | I40: 여비 | Q40: 500000 | R40: 원 | W40: =T40+U40+V40 -> 0
C41: 수용비및 수수료 | E41: 300000 | F41: =Q41 -> 7590440 | G41: =F41-E41 -> 7290440 | H41: =G41/E41*100 -> 2430.1467 | I41: 사무용품비, 인쇄비, 수수료 등 | Q41: 7590440 | R41: 원 | S41: 기타,법인 | T41: 324677 | V41: 223923 | W41: =T41+U41+V41 -> 548600
C42: 공공요금 | E42: 200000 | F42: =Q42 -> 8000000 | G42: =F42-E42 -> 7800000 | H42: =G42/E42*100 -> 3900 | I42: 수도료,전기료,우편료,전화료,운송료 등 | Q42: 8000000 | R42: 원 | S42: 입소,법인 | T42: 4540000 | U42: 35500000 | V42: 0 | W42: =T42+U42+V42 -> 40040000
C43: 제세공과금 | E43: 200000 | F43: =Q43 -> 1000000 | G43: =F43-E43 -> 800000 | H43: =G43/E43*100 -> 400 | I43: 제세공과금 | Q43: 1000000 | R43: 원 | S43: 기타 | T43: 500000 | V43: 500000 | W43: =T43+U43+V43 -> 1000000
C44: 차량비 | E44: 100000 | F44: =Q44 -> 600000 | G44: =F44-E44 -> 500000 | H44: =G44/E44*100 -> 500 | I44: 차량 주유비 및 정비료 | Q44: 600000 | R44: 원 | S44: 법인 | T44: 1000000 | V44: 0 | W44: =T44+U44+V44 -> 1000000
C45: 기타운영비 | E45: 200000 | F45: =Q45 -> 3000000 | G45: =F45-E45 -> 2800000 | H45: =G45/E45*100 -> 1400 | I45: 직원근무복, 기타행사비(부활,성탄) | Q45: 3000000 | R45: 원 | V45: 0 | W45: =T45+U45+V45 -> 0
A46: 재산조성비 | B46: 계 | E46: =E47 -> 200000 | F46: =F47 -> 22400000 | G46: =F46-E46 -> 22200000 | H46: =G46/E46*100 -> 11100 | I46: 재산조성비 계 | Q46: =Q47 -> 22400000 | R46: 원 | W46: =T46+U46+V46 -> 0
B47: 시설비 | C47: 소계 | E47: =SUM(E48:E50) -> 200000 | F47: =SUM(F48:F50) -> 22400000 | G47: =F47-E47 -> 22200000 | H47: =G47/E47*100 -> 11100 | I47: 시설비 소계 | Q47: =Q48+Q49+Q50 -> 22400000 | R47: 원 | W47: =T47+U47+V47 -> 0
C48: 시설비 | E48: 0 | F48: =Q48 -> 0 | G48: =F48-E48 -> 0 | H48: =G48/E48*100 -> #DIV/0! | I48: 시설공사비 | Q48: 0 | R48: 원 | S48: 법인 | T48: =F48 -> 0 | W48: =T48+U48+V48 -> 0
C49: 자산취득비 | E49: 0 | F49: =Q49 -> 20000000 | G49: =F49-E49 -> 20000000 | H49: =G49/E49*100 -> #DIV/0! | I49: 자산취득비 | K49: 5000000 | L49: × | M49: 4 | P49: = | Q49: =K49*M49 -> 20000000 | R49: 원 | S49: 법인 | T49: 4000000 | W49: =T49+U49+V49 -> 4000000
C50: 시설장비 유지비 | E50: 200000 | F50: =Q50 -> 2400000 | G50: =F50-E50 -> 2200000 | H50: =G50/E50*100 -> 1100 | I50: 장비 및 건물보수 유지비 | K50: 200000 | L50: × | M50: 12 | P50: = | Q50: =K50*M50 -> 2400000 | R50: 원 | S50: 기타,법인 | T50: =F50-V50 -> -3100000 | V50: 5500000 | W50: =T50+U50+V50 -> 2400000
A51: 사업비 | B51: 계 | E51: =E52+E58 -> 22324000 | F51: =F52+F58 -> 64520000 | G51: =F51-E51 -> 42196000 | H51: =G51/E51*100 -> 189.01631 | I51: 사업비 계 | Q51: =Q52+Q58 -> 64520000 | R51: 원 | W51: =T51+U51+V51 -> 0
B52: 운영비 | C52: 소계 | E52: =E53+E55+E54+E56+E57 -> 21584000 | F52: =F53+F55+F54+F56+F57 -> 45320000 | G52: =F52-E52 -> 23736000 | H52: =G52/E52*100 -> 109.97035 | I52: 사업비 운영비 소계 | Q52: =Q53+Q55+Q54+Q56+Q57 -> 45320000 | R52: 원 | W52: =T52+U52+V52 -> 0
C53: 생계비 | E53: 15184000 | F53: =Q53 -> 33280000 | G53: =F53-E53 -> 18096000 | H53: =G53/E53*100 -> 119.17808 | I53: 생계비 | K53: 4000 | L53: × | M53: 260 | N53: × | O53: 32 | P53: = | Q53: =K53*M53*O53 -> 33280000 | R53: 원 | S53: 기타(식대),입소 | U53: 42000000 | V53: 19000000 | W53: =T53+U53+V53 -> 61000000 | Z53: #REF!
C54: 수용기관경비 | D54: 소계 | E54: 200000 | F54: =Q54 -> 1200000 | G54: =F54-E54 -> 1000000 | H54: =G54/E54*100 -> 500 | I54: 수용기관경비 | K54: 100000 | L54: × | M54: 12 | P54: = | Q54: =K54*M54 -> 1200000 | R54: 원 | W54: =T54+U54+V54 -> 0
C55: 피복비 | E55: 0 | F55: =Q55 -> 640000 | G55: =F55-E55 -> 640000 | H55: =G55/E55*100 -> #DIV/0! | I55: 피복구입비 | K55: 20000 | L55: × | M55: 32 | P55: = | Q55: =K55*M55 -> 640000 | R55: 원 | S55: 기타 | T55: 200000 | U55: 500000 | V55: 300000 | W55: =T55+U55+V55 -> 1000000
C56: 의료비 | E56: 200000 | F56: =Q56 -> 600000 | G56: =F56-E56 -> 400000 | H56: =G56/E56*100 -> 200 | I56: 의료비 | K56: 50000 | L56: × | M56: 12 | P56: = | Q56: =K56*M56 -> 600000 | R56: 원 | W56: =T56+U56+V56 -> 0
C57: 연료비 | E57: 6000000 | F57: =Q57 -> 9600000 | G57: =F57-E57 -> 3600000 | H57: =G57/E57*100 -> 60 | I57: 난방 취사 연료 | K57: 800000 | L57: × | M57: 12 | P57: = | Q57: =K57*M57 -> 9600000 | R57: 원 | W57: =T57+U57+V57 -> 0
B58: 사업비 | C58: 소계 | E58: =SUM(E59:E62) -> 740000 | F58: =F59+F60+F61+F62 -> 19200000 | G58: =F58-E58 -> 18460000 | H58: =G58/E58*100 -> 2494.5946 | I58: 사업비 사업비 소계 | Q58: =Q59+Q60+Q61+Q62 -> 19200000 | R58: 원 | W58: =T58+U58+V58 -> 0 | Z58: =Z53-#REF! -> #REF!
C59: 일상생활서비스 | E59: 185000 | F59: =Q59 -> 4800000 | G59: =F59-E59 -> 4615000 | H59: =G59/E59*100 -> 2494.5946 | I59: 일상생활서비스 | K59: 400000 | L59: × | M59: 12 | P59: = | Q59: =K59*M59 -> 4800000 | R59: 원 | W59: =T59+U59+V59 -> 0
C60: 여가활동 | E60: 185000 | F60: =Q60 -> 4800000 | G60: =F60-E60 -> 4615000 | H60: =G60/E60*100 -> 2494.5946 | I60: 여가활동 | K60: 400000 | L60: × | M60: 12 | P60: = | Q60: =K60*M60 -> 4800000 | R60: 원 | S60: 입소,법인,사업 | T60: =F60-U60-V60 -> -2700000 | U60: 4500000 | V60: 3000000 | W60: =T60+U60+V60 -> 4800000
C61: 관계개선사업 | E61: 185000 | F61: =Q61 -> 4800000 | G61: =F61-E61 -> 4615000 | H61: =G61/E61*100 -> 2494.5946 | I61: 관계개선사업 | K61: 400000 | L61: × | M61: 12 | P61: = | Q61: =K61*M61 -> 4800000 | R61: 원 | S61: 입소,법인,사업 | T61: =F61-U61-V61 -> 4800000 | V61: 0 | W61: =T61+U61+V61 -> 4800000
C62: 교육사업 | E62: 185000 | F62: =Q62 -> 4800000 | G62: =F62-E62 -> 4615000 | H62: =G62/E62*100 -> 2494.5946 | I62: 교육사업 | K62: 400000 | L62: × | M62: 12 | P62: = | Q62: =K62*M62 -> 4800000 | R62: 원 | S62: 입소,법인,사업 | T62: =F62-U62-V62-#REF! -> #REF! | U62: 4000000 | V62: 2175729 | W62: =T62+U62+V62+#REF! -> #REF!
A63: 잡지출 | B63: 계 | E63: =E64 -> 191000 | F63: =F64 -> 1600000 | G63: =F63-E63 -> 1409000 | H63: =G63/E63*100 -> 737.69634 | I63: 잡지출 계 | Q63: =Q64 -> 1600000 | R63: 원 | V63: 220000 | W63: =T63+U63+V63 -> 220000
B64: 잡지출 | C64: 소계 | E64: =E65 -> 191000 | F64: =F65 -> 1600000 | G64: =F64-E64 -> 1409000 | H64: =G64/E64*100 -> 737.69634 | I64: 잡지출 소계 | Q64: =Q65 -> 1600000 | R64: 원 | W64: =T64+U64+V64 -> 0
C65: 잡지출 | E65: 191000 | F65: =Q65 -> 1600000 | G65: =F65-E65 -> 1409000 | H65: =G65/E65*100 -> 737.69634 | I65: 잡지출 | Q65: 1600000 | R65: 원 | S65: 기타 | W65: =T65+U65+V65 -> 0
A66: 예비비 | B66: 계 | E66: =E67 -> 300000 | F66: =F67 -> 300000 | G66: =F66-E66 -> 0 | H66: =G66/E66*100 -> 0 | I66: 예비비 계 | Q66: =Q67 -> 300000 | R66: 원 | T66: 760000 | V66: 240000 | W66: =T66+U66+V66 -> 1000000
B67: 예비비 | C67: 소계 | E67: =E68 -> 300000 | F67: =F68 -> 300000 | G67: =F67-E67 -> 0 | H67: =G67/E67*100 -> 0 | I67: 예비비 소계 | Q67: =Q68 -> 300000 | R67: 원 | W67: =T67+U67+V67 -> 0
C68: 예비비 | E68: 300000 | F68: =Q68 -> 300000 | G68: =F68-E68 -> 0 | H68: =G68/E68*100 -> 0 | I68: 예비비 | Q68: 300000 | R68: 원 | S68: 기타 | W68: =T68+U68+V68 -> 0

Sheet 라-3.후원금세출
A1: 라. 세 출
A2: 4) 후원금 세출내역
I3: (단위:원)
A4: 과 목 | E4: ='라-2.자부담세출'!E4:E5 -> #REF! | F4: ='라-2.자부담세출'!F4:F5 -> #REF! | G4: 증감(B-A) | I4: 산 출 내 역
A5: 관 | B5: 항 | C5: 목 | D5: 세목 | G5: 금액 | H5: 비율(%) | AB5: #REF!
A6: 총 계 | E6: =E7+E46+E51+E72 -> 7100000 | F6: =F7+F46+F51+F72 -> #REF! | G6: =G7+G46+G51+G72 -> #REF! | H6: =G6/E6*100 -> #REF! | I6: 총계 | Q6: =Q7+Q46+Q51+Q72+Q75 -> 15200000 | R6: 원
A7: 사무비 | B7: 계 | E7: =E8+E34+E39 -> 4000000 | F7: =F8+F34+F39 -> #REF! | G7: =G8+G34+G39 -> #REF! | H7: =G7/E7*100 -> #REF! | I7: 사무비 계 | Q7: =Q8+Q34+Q39 -> 2808000 | R7: 원
B8: 인건비 | C8: 소계 | E8: =E9+E10+E11+E12+E26+E27+E33 -> 3000000 | F8: =F9+F10+F11+F12+F26+F27+F33 -> #REF! | G8: =F8-E8 -> #REF! | H8: =G8/E8*100 -> #REF! | I8: 인건비 소계 | Q8: =Q9+Q10+Q11+Q12+Q26+Q27+Q33 -> 1000000 | R8: 원
C9: 급여 | E9: 0 | F9: 0 | G9: =F9-E9 -> 0 | H9: =G9/E9*100 -> #DIV/0! | I9: 급여 | K9: 0 | L9: × | M9: 12 | N9: × | O9: 1 | P9: = | Q9: =K9*M9*O9 -> 0 | R9: 원
C10: 상여금 | E10: 0 | F10: #REF! | G10: =F10-E10 -> #REF! | H10: =G10/E10*100 -> #REF! | I10: 상여금 | R10: 원
C11: 일용잡급 | E11: 3000000 | F11: =Q11 -> 1000000 | G11: =F11-E11 -> -2000000 | H11: =G11/E11*100 -> -66.666667 | I11: 일용잡급 | K11: 1000000 | L11: × | M11: 1 | N11: × | O11: 1 | P11: = | Q11: =K11*M11*O11 -> 1000000 | R11: 원
C12: 제수당 | D12: 소계 | E12: 0 | F12: =SUM(F13:F25) -> #REF! | G12: =F12-E12 -> #REF! | H12: =G12/E12*100 -> #REF! | I12: 제수당 | K12: 0 | L12: × | M12: 0.6 | N12: × | O12: 2 | P12: = | Q12: =K12*M12*O12 -> 0 | R12: 원
D13: 가계보조수당 | E13: 0 | F13: #REF! | G13: =F13-E13 -> #REF! | H13: =G13/E13*100 -> #REF! | R13: 원
D14: 교통급식비 | E14: 0 | F14: #REF! | G14: =F14-E14 -> #REF! | H14: =G14/E14*100 -> #REF! | R14: 원
D15: 명절휴가비 | E15: 0 | F15: #REF! | G15: =F15-E15 -> #REF! | H15: =G15/E15*100 -> #REF! | R15: 원
D16: 생활복지사수당 | E16: 0 | F16: 0 | G16: =F16-E16 -> 0 | H16: =G16/E16*100 -> #DIV/0! | R16: 원
D17: 생활지도원수당 | E17: 0 | F17: #REF! | G17: =F17-E17 -> #REF! | H17: =G17/E17*100 -> #REF! | R17: 원
D18: 조리.위생수당 | E18: 0 | F18: 0 | G18: =F18-E18 -> 0 | H18: =G18/E18*100 -> #DIV/0! | R18: 원
D19: 연장근로수당 | E19: 0 | F19: #REF! | G19: =F19-E19 -> #REF! | H19: =G19/E19*100 -> #REF! | R19: 원
D20: 가족수당 | E20: 0 | F20: #REF! | G20: =F20-E20 -> #REF! | H20: =G20/E20*100 -> #REF! | R20: 원
D21: 직책보조비 | E21: 0 | F21: #REF! | G21: =F21-E21 -> #REF! | H21: =G21/E21*100 -> #REF! | I21: 기관장(300,000원),사무국장(200,000원), 과장(150,000원,2명),팀장(100,000원, 8명) | R21: 원
D22: 자가운전보조금 | E22: 0 | F22: 0 | G22: =F22-E22 -> 0 | H22: =G22/E22*100 -> #DIV/0! | R22: 원
D23: 특수근무수당(도) | E23: 0 | F23: #REF! | G23: =F23-E23 -> #REF! | H23: =G23/E23*100 -> #REF! | R23: 원
D24: 처우개선비 | E24: 0 | F24: 0 | G24: =F24-E24 -> 0 | H24: =G24/E24*100 -> #DIV/0! | R24: 원
D25: 보전수당 | G25: =F25-E25 -> 0 | H25: =G25/E25*100 -> #DIV/0! | R25: 원
C26: 퇴직금및 적립금 | E26: 0 | F26: 0 | G26: =F26-E26 -> 0 | H26: =G26/E26*100 -> #DIV/0! | I26: 퇴직금및 퇴직적립금 | K26: 0 | L26: × | M26: 0.5 | P26: = | Q26: =K26*M26*O26 -> 0 | R26: 원
C27: 사회보험 부담비용 | D27: 소계 | E27: 0 | F27: =SUM(F28:F32) -> #REF! | G27: =F27-E27 -> #REF! | H27: =G27/E27*100 -> #REF! | I27: 사회보험부담비용 | Q27: =SUM(Q28:Q32) -> 0 | R27: 원
D28: 건강보험 부담금 | E28: 0 | F28: =U28 -> 0 | G28: =F28-E28 -> 0 | H28: =G28/E28*100 -> #DIV/0! | I28: 건강보험료 | K28: 0 | L28: × | M28: 0.0667 | N28: × | O28: 0.5 | P28: = | Q28: =K28*M28*O28 -> 0 | R28: 원
H29: =G29/E29*100 -> #DIV/0! | I29: 장기요양보험 | K29: =Q28 -> 0 | L29: × | M29: 0.1025 | P29: = | Q29: =K29*M29*O29 -> 0 | R29: 원
D30: 국민연금부담금 | E30: 0 | F30: #REF! | G30: =F30-E30 -> #REF! | H30: =G30/E30*100 -> #REF! | I30: 국민연금 | K30: =K28 -> 0 | L30: × | M30: 0.09 | N30: × | O30: 0.5 | P30: = | Q30: =K30*M30*O30 -> 0 | R30: 원
D31: 고용보험 부담금 | E31: 0 | F31: =T30 -> 0 | G31: =F31-E31 -> 0 | H31: =G31/E31*100 -> #DIV/0! | I31: 고용보험 | K31: =K30 -> 0 | L31: × | M31: 0.0105 | P31: = | Q31: =K31*M31*O31 -> 0 | R31: 원
D32: 산재보험 부담금 | E32: 0 | F32: =T31 -> 0 | G32: =F32-E32 -> 0 | H32: =G32/E32*100 -> #DIV/0! | I32: 산재보험 | K32: =K31 -> 0 | L32: × | M32: 0.00793 | P32: = | Q32: =K32*M32*O32 -> 0 | R32: 원
C33: 기타후생경비 | E33: 0 | F33: 0 | G33: =F33-E33 -> 0 | H33: =G33/E33*100 -> #DIV/0! | I33: 직원연수, 경조사, 복리후생비 | Q33: 0 | R33: 원
B34: 업무추진비 | C34: 소계 | E34: 0 | F34: =SUM(F35:F38) -> 0 | G34: =F34-E34 -> 0 | H34: =G34/E34*100 -> #DIV/0! | I34: 업무추진비 소계 | Q34: =SUM(Q35:Q38) -> 0 | R34: 원
C35: 기관운영비 | E35: 0 | F35: 0 | G35: =F35-E35 -> 0 | H35: =G35/E35*100 -> #DIV/0! | I35: 유관기관 제 잡비 | K35: 0 | L35: × | M35: 12 | P35: = | Q35: =K35*M35 -> 0 | R35: 원
C36: 직책보조비 | E36: 0 | F36: 0 | G36: =F36-E36 -> 0 | H36: =G36/E36*100 -> #DIV/0! | I36: 직책보조비 | K36: 0 | L36: × | M36: 12 | P36: = | Q36: =K36*M36 -> 0 | R36: 원
C37: 홍보비 | E37: 0 | F37: 0 | G37: =F37-E37 -> 0 | H37: =G37/E37*100 -> #DIV/0! | R37: 원
C38: 회의비 | E38: 0 | F38: 0 | G38: =F38-E38 -> 0 | H38: =G38/E38*100 -> #DIV/0! | I38: 회의비 | K38: 0 | L38: × | M38: 12 | P38: = | Q38: =K38*M38 -> 0 | R38: 원
B39: 운영비 | C39: 소계 | E39: =E40+E41+E42+E43+E44+E45 -> 1000000 | F39: =SUM(F40,F41,F42:F45) -> 1808000 | G39: =F39-E39 -> 808000 | H39: =G39/E39*100 -> 80.8 | I39: 운영비 소계 | Q39: =SUM(Q40:Q45) -> 1808000 | R39: 원
C40: 여비 | E40: 0 | F40: =Q40 -> 0 | G40: =F40-E40 -> 0 | H40: 0 | I40: 여비 | Q40: 0 | R40: 원
C41: 수용비및 수수료 | D41: 소계 | E41: 700000 | F41: =Q41 -> 808000 | G41: =F41-E41 -> 108000 | H41: =G41/E41*100 -> 15.428571 | I41: 사무용품비, 인쇄비, 수수료 등 | Q41: 808000 | R41: 원
C42: 공공요금 | E42: 300000 | F42: =Q42 -> 1000000 | G42: =F42-E42 -> 700000 | H42: =G42/E42*100 -> 233.33333 | I42: 수도료,전기료,우편료,전화료,운송료 등 | Q42: 1000000 | R42: 원
C43: 제세공과금 | E43: 0 | F43: =Q43 -> 0 | G43: =F43-E43 -> 0 | H43: 0 | I43: 제세공과금 | Q43: 0 | R43: 원
C44: 차량비 | E44: 0 | F44: =Q44 -> 0 | G44: =F44-E44 -> 0 | H44: 0 | I44: 차량 주유비 및 정비료 | Q44: 0 | R44: 원
C45: 기타운영비 | E45: 0 | F45: =Q45 -> 0 | G45: =F45-E45 -> 0 | H45: 0 | I45: 직원근무복, 기타행사비(부활,성탄) | Q45: 0 | R45: 원
A46: 재산 조성비 | B46: 계 | E46: 0 | F46: =Q46 -> 1200000 | G46: =F46-E46 -> 1200000 | H46: 100 | I46: 재산조성비 계 | Q46: =Q47 -> 1200000 | R46: 원
B47: 시설비 | C47: 소계 | E47: 0 | F47: =Q47 -> 1200000 | G47: =F47-E47 -> 1200000 | H47: 100 | I47: 시설비 소계 | Q47: =Q48+Q49+Q50 -> 1200000 | R47: 원
C48: 시설비 | E48: 0 | F48: =Q48 -> 0 | G48: =F48-E48 -> 0 | H48: 0 | I48: 시설공사비 | Q48: 0 | R48: 원
C49: 자산취득비 | E49: 0 | F49: =Q49 -> 0 | G49: =F49-E49 -> 0 | H49: 0 | I49: 자산취득비 | K49: 0 | L49: × | M49: 0 | P49: = | Q49: =K49*M49 -> 0 | R49: 원
C50: 시설장비 유지비 | E50: 0 | F50: =Q50 -> 1200000 | G50: =F50-E50 -> 1200000 | H50: 100 | I50: 장비 및 건물보수 유지비 | K50: 100000 | L50: × | M50: 12 | P50: = | Q50: =K50*M50 -> 1200000 | R50: 원
A51: 사업비 | B51: 계 | E51: =E52+E58 -> 3100000 | F51: =Q51 -> 10992000 | G51: =F51-E51 -> 7892000 | H51: =G51/E51*100 -> 254.58065 | I51: 사업비 계 | Q51: =Q52+Q58 -> 10992000 | R51: 원
B52: 운영비 | C52: 소계 | E52: 0 | F52: =Q52 -> 6192000 | G52: =F52-E52 -> 6192000 | H52: 100 | I52: 사업비 운영비 소계 | Q52: =Q53+Q54+Q55+Q56+Q57 -> 6192000 | R52: 원
C53: 생계비 | E53: 0 | F53: =Q53 -> 4992000 | G53: =F53-E53 -> 4992000 | H53: 100 | I53: 생계비 | K53: 600 | L53: × | M53: 260 | N53: × | O53: 32 | P53: = | Q53: =K53*M53*O53 -> 4992000 | R53: 원
C54: 수용기관경비 | D54: 소계 | E54: 0 | F54: =Q54 -> 0 | G54: =F54-E54 -> 0 | H54: 0 | I54: 수용기관경비 | K54: 0 | L54: × | M54: 12 | P54: = | Q54: =K54*M54 -> 0 | R54: 원
C55: 피복비 | E55: 0 | F55: =Q55 -> 0 | G55: =F55-E55 -> 0 | H55: 0 | I55: 피복구입비 | K55: 0 | L55: × | M55: 32 | P55: = | Q55: =K55*M55 -> 0 | R55: 원
C56: 의료비 | E56: 0 | F56: =Q56 -> 0 | G56: =F56-E56 -> 0 | H56: 0 | I56: 의료비 | K56: 0 | L56: × | M56: 12 | P56: = | Q56: =K56*M56 -> 0 | R56: 원
C57: 연료비 | E57: 0 | F57: =Q57 -> 1200000 | G57: =F57-E57 -> 1200000 | H57: 100 | I57: 난방 취사 연료 | K57: 100000 | L57: × | M57: 12 | P57: = | Q57: =K57*M57 -> 1200000 | R57: 원
B58: 사업비 | C58: 소계 | E58: =SUM(E59:E62) -> 3100000 | F58: =Q58 -> 4800000 | G58: =F58-E58 -> 1700000 | H58: =G58/E58*100 -> 54.83871 | I58: 사업비 사업비 소계 | Q58: =Q59+Q60+Q61+Q62 -> 4800000 | R58: 원
C59: 일상생활서비스 | E59: 775000 | F59: =Q59 -> 1200000 | G59: =F59-E59 -> 425000 | H59: =G59/E59*100 -> 54.83871 | I59: 일상생활서비스 | K59: 100000 | L59: × | M59: 12 | P59: = | Q59: =K59*M59 -> 1200000 | R59: 원
C60: 여가활동 | E60: 775000 | F60: =Q60 -> 1200000 | G60: =F60-E60 -> 425000 | H60: =G60/E60*100 -> 54.83871 | I60: 여가활동 | K60: 100000 | L60: × | M60: 12 | P60: = | Q60: =K60*M60 -> 1200000 | R60: 원
C61: 관계개선사업 | E61: 775000 | F61: =Q61 -> 1200000 | G61: =F61-E61 -> 425000 | H61: =G61/E61*100 -> 54.83871 | I61: 관계개선사업 | K61: 100000 | L61: × | M61: 12 | P61: = | Q61: =K61*M61 -> 1200000 | R61: 원
C62: 교육사업 | E62: 775000 | F62: =Q62 -> 1200000 | G62: =F62-E62 -> 425000 | H62: =G62/E62*100 -> 54.83871 | I62: 교육사업 | K62: 100000 | L62: × | M62: 12 | P62: = | Q62: =K62*M62 -> 1200000 | R62: 원
F63: =Q63 -> 0 | G63: =F63-E63 -> 0 | H63: =G63/E63*100 -> #DIV/0! | R63: 원
F64: =Q64 -> 0 | G64: =F64-E64 -> 0 | H64: =G64/E64*100 -> #DIV/0! | R64: 원
F65: =Q65 -> 0 | G65: =F65-E65 -> 0 | H65: =G65/E65*100 -> #DIV/0! | R65: 원
F66: =Q66 -> 0 | G66: =F66-E66 -> 0 | H66: =G66/E66*100 -> #DIV/0! | R66: 원
F67: =Q67 -> 0 | G67: =F67-E67 -> 0 | H67: =G67/E67*100 -> #DIV/0! | R67: 원
F68: =Q68 -> 0 | G68: =F68-E68 -> 0 | H68: =G68/E68*100 -> #DIV/0! | R68: 원
F69: =Q69 -> 0 | G69: =F69-E69 -> 0 | H69: =G69/E69*100 -> #DIV/0! | R69: 원
F70: =Q70 -> 0 | H70: =G70/E70*100 -> #DIV/0! | R70: 원
F71: =Q71 -> 0 | G71: =F71-E71 -> 0 | H71: =G71/E71*100 -> #DIV/0! | R71: 원
A72: 잡지출 | B72: 계 | E72: 0 | F72: =Q72 -> 200000 | G72: =F72-E72 -> 200000 | H72: 100 | I72: 잡지출 계 | Q72: =Q73 -> 200000 | R72: 원
B73: 잡지출 | C73: 계 | E73: 0 | F73: =Q73 -> 200000 | G73: =F73-E73 -> 200000 | H73: 100 | I73: 잡지출 소계 | Q73: =Q74 -> 200000 | R73: 원
C74: 잡지출 | D74: 소계 | E74: 0 | F74: =Q74 -> 200000 | G74: =F74-E74 -> 200000 | H74: 100 | I74: 잡지출 | Q74: 200000 | R74: 원
A75: 예비비 | D75: 공동모금회 사업비반환 | E75: 0 | F75: =Q75 -> 0 | G75: =F75-E75 -> 0 | H75: =G75/E75*100 -> #DIV/0! | I75: 예비비 계 | Q75: =Q76 -> 0 | R75: 원
B76: 예비비 | C76: 소계 | E76: 0 | F76: =Q76 -> 0 | G76: =F76-E76 -> 0 | H76: =G76/E76*100 -> #DIV/0! | I76: 예비비 소계 | Q76: =Q77 -> 0 | R76: 원
C77: 예비비 | E77: 0 | F77: =Q77 -> 0 | G77: =F77-E77 -> 0 | H77: =G77/E77*100 -> #DIV/0! | I77: 예비비 | Q77: 0 | R77: 원

Sheet 마. 세입세출(개요)
B1: 마. 세입 ∙ 세출 개요 (라온)
E3: (단위 : 원)
B4: 구 분 | C4: 세 입 | E4: 세 출
B5: 합 계 | C5: =D6+D14+D23+D26 -> 133326000 | E5: =F6+F14+F23+F26 -> 133326000
B6: 보조금 | C6: 소 계 | D6: =SUM(D7:D12) -> 106286870 | E6: 소 계 | F6: =SUM(F7:F13) -> 106286870
C7: 보조금수입 | D7: ='다. 세입내역서'!E16 -> 100425000 | E7: 사무비(인건비) | F7: ='라. 세출내역서'!H8 -> 87983000
C8: 이월금 | D8: ='다. 세입내역서'!E32 -> 5840530 | E8: 사무비(운영비) | F8: ='라. 세출내역서'!H48 -> 2600000
C9: 잡수입 | D9: 21340 | E9: 시설비 | F9: ='라. 세출내역서'!H74 -> 440000
E10: 사업비(운영비) | F10: ='라. 세출내역서'!H94 -> 4460000
E11: 사업비(사업비) | F11: ='라. 세출내역서'!H113 -> 4942000
E12: 잡지출 | F12: 21340
E13: 보조금반환 | F13: ='라. 세출내역서'!H154 -> 5840530
B14: 자부담 | C14: 소 계 | D14: =SUM(D15:D18) -> 27039130 | E14: 소 계 | F14: =SUM(F15:F22) -> 27039130
C15: 입소비용수입 | D15: ='다. 세입내역서'!E7 -> 19200000 | E15: 사무비(인건비) | F15: ='라. 세출내역서'!J8 -> 4074060
C16: 사업수입 | D16: 0 | E16: 업무추진비 | F16: ='라. 세출내역서'!J39 -> 140000
C17: 이월금 | D17: ='다. 세입내역서'!E30 -> 7763286 | E17: 사무비(운영비) | F17: ='라. 세출내역서'!J48 -> 7620000
C18: 잡수입 | D18: 75844 | E18: 시설비 | F18: ='라. 세출내역서'!J75 -> 1810000
E19: 사업비(운영비) | F19: ='라. 세출내역서'!J94 -> 10280000
E20: 사업비(사업비) | F20: ='라. 세출내역서'!J113 -> 3062000
E21: 잡지출 | F21: ='라. 세출내역서'!J150 -> 53070
E22: 예비비 | F22: ='라. 세출내역서'!J151 -> 0
B23: 법인 | C23: 소 계 | D23: =SUM(D24:D25) -> 0 | E23: 소 계 | F23: =SUM(F24:F25) -> 0
B24: 전입금 | C24: 법인전입금 | D24: ='다. 세입내역서'!E25 -> 0 | E24: 사무비(인건비) | F24: ='라. 세출내역서'!I8 -> 0
C25: 이월금 | D25: 0
B26: 후원금 | C26: 소 계 | D26: =SUM(D27:D31) -> 0 | E26: 소 계 | F26: =SUM(F27:F32) -> 0
C27: 후원금수입 | D27: ='다. 세입내역서'!E21 -> 0 | E27: 사무비(인건비) | F27: ='라. 세출내역서'!K8 -> 0
C28: 이월금 | D28: ='다. 세입내역서'!E31 -> 0 | E28: 사무비(운영비) | F28: ='라. 세출내역서'!K48 -> 0
C29: 잡수입 | D29: 0 | E29: 시설비 | F29: ='라. 세출내역서'!K74 -> 0
E30: 사업비(운영비) | F30: ='라. 세출내역서'!K94 -> 0
E31: 사업비(사업비) | F31: ='라. 세출내역서'!K113 -> 0
E32: 잡지출 | F32: ='라. 세출내역서'!K148 -> 0

Sheet 바. 증감사유
A2: 바. 증감사유 (라온)
P3: (단위 : 원)
A4: 세 입 | I4: 세 출
A5: 과 목 | D5: ='나. 세입세출(총괄)'!D5 -> 2024년 본 예산(A) | E5: ='나. 세입세출(총괄)'!E5 -> 2024년 1차 추경(B) | F5: 증감금액 (C=B-A) | G5: 증감율(%) (C/A*100) | H5: 증감사유 | I5: 과 목 | L5: ='나. 세입세출(총괄)'!D5 -> 2024년 본 예산(A) | M5: ='나. 세입세출(총괄)'!E5 -> 2024년 1차 추경(B) | N5: 증감금액 (C=B-A) | O5: 증감율(%) (C/A*100) | P5: 증감사유
A6: 관 | B6: 항 | C6: 목 | I6: 관 | J6: 항 | K6: 목
A7: 합 계 | D7: =D8+D11+D14+D17+D22+D26+D29+D34 -> 148045000 | E7: =SUM(E8,E11,E14,E17,E22,E26,E29,E34) -> 133326000 | F7: =E7-D7 -> -14719000 | G7: =F7/D7*100 -> -9.9422473 | I7: 합 계 | L7: =L8+L26+L31+L49+L52 -> 148045000 | M7: =SUM(M8,M26,M31,M49,M52) -> 133326000 | N7: =M7-L7 -> -14719000 | O7: =N7/L7*100 -> -9.9422473
A8: 입소자부담금 | B8: 계 | D8: =D9 -> 19200000 | E8: =E9 -> 19200000 | F8: =E8-D8 -> 0 | G8: =F8/D8*100 -> 0 | I8: 사무비 | J8: 계 | L8: =L9+L16+L19 -> 122066660 | M8: =M9+M16+M19 -> 102417060 | N8: =M8-L8 -> -19649600 | O8: =N8/L8*100 -> -16.097434
B9: 입소비용수입 | C9: 소계 | D9: =D10 -> 19200000 | E9: =E10 -> 19200000 | F9: =E9-D9 -> 0 | G9: =F9/D9*100 -> 0 | J9: 인건비 | K9: 소계 | L9: =SUM(L10:L15) -> 111706660 | M9: =SUM(M10:M15) -> 92057060 | N9: =M9-L9 -> -19649600 | O9: =N9/L9*100 -> -17.590357
C10: 입소비용수입 | D10: ='나. 세입세출(총괄)'!D10 -> 19200000 | E10: ='나. 세입세출(총괄)'!E10 -> 19200000 | F10: =E10-D10 -> 0 | G10: =F10/D10*100 -> 0 | K10: 급여 | L10: ='나. 세입세출(총괄)'!K10 -> 75315900 | M10: ='나. 세입세출(총괄)'!L10 -> 65999100 | N10: =M10-L10 -> -9316800 | O10: =N10/L10*100 -> -12.370296 | P10: * 예산 부족으로 생활재활교사 1월~9월 미채용에 따른 감액
A11: 사업수입 | B11: 계 | D11: =D12 -> 0 | E11: =E12 -> 0 | F11: 0 | G11: 0 | K11: 일용잡급 | L11: ='나. 세입세출(총괄)'!K11 -> 0 | M11: ='나. 세입세출(총괄)'!L11 -> 0 | N11: =M11-L11 -> 0 | O11: 0
B12: 사업수입 | C12: 소계 | D12: =D13 -> 0 | E12: =E13 -> 0 | F12: 0 | G12: 0 | K12: 제수당 | L12: ='나. 세입세출(총괄)'!K12 -> 18806420 | M12: ='나. 세입세출(총괄)'!L12 -> 15509220 | N12: =M12-L12 -> -3297200 | O12: =N12/L12*100 -> -17.532311 | P12: * 예산 부족으로 생활재활교사 1월~9월 미채용에 따른 감액
C13: 프로그램사업수입 | D13: ='나. 세입세출(총괄)'!D13 -> 0 | E13: ='나. 세입세출(총괄)'!E13 -> 0 | F13: 0 | G13: 0 | K13: 퇴직금및퇴직적립금 | L13: ='나. 세입세출(총괄)'!K13 -> 7843530 | M13: ='나. 세입세출(총괄)'!L13 -> 6792360 | N13: =M13-L13 -> -1051170 | O13: =N13/L13*100 -> -13.401746 | P13: * 예산 부족으로 생활재활교사 1월~9월 미채용에 따른 감액
A14: 과년도수입 | B14: 계 | D14: =D15 -> 0 | E14: 0 | F14: 0 | G14: 0 | K14: 사회보험부담비용 | L14: ='나. 세입세출(총괄)'!K14 -> 9740810 | M14: ='나. 세입세출(총괄)'!L14 -> 3756380 | N14: =M14-L14 -> -5984430 | O14: =N14/L14*100 -> -61.436677 | P14: * 예산 부족으로 생활재활교사 1월~9월 미채용에 따른 감액
B15: 과년도수입 | C15: 소계 | D15: =D16 -> 0 | E15: 0 | F15: 0 | G15: 0 | K15: 기타후생경비 | L15: ='나. 세입세출(총괄)'!K15 -> 0 | M15: ='나. 세입세출(총괄)'!L15 -> 0 | N15: =M15-L15 -> 0 | O15: 0
C16: 과년도수입 | D16: ='나. 세입세출(총괄)'!D16 -> 0 | E16: ='나. 세입세출(총괄)'!E16 -> 0 | F16: 0 | G16: 0 | J16: 업무추진비 | K16: 소계 | L16: =SUM(L17:L18) -> 140000 | M16: =SUM(M17:M18) -> 140000 | N16: =M16-L16 -> 0 | O16: =N16/L16*100 -> 0
A17: 보조금수입 | B17: 계 | D17: =D18 -> 123748660 | E17: =E18 -> 100425000 | F17: =E17-D17 -> -23323660 | G17: =F17/D17*100 -> -18.847606 | K17: 기관운영비 | L17: ='나. 세입세출(총괄)'!K17 -> 0 | M17: ='나. 세입세출(총괄)'!L17 -> 0 | N17: =M17-L17 -> 0 | O17: 0
B18: 보조금수입 | C18: 소계 | D18: =SUM(D19:D21) -> 123748660 | E18: =SUM(E19:E21) -> 100425000 | F18: =E18-D18 -> -23323660 | G18: =F18/D18*100 -> -18.847606 | K18: 회의비 | L18: ='나. 세입세출(총괄)'!K18 -> 140000 | M18: ='나. 세입세출(총괄)'!L18 -> 140000 | N18: =M18-L18 -> 0 | O18: 0
C19: 시도보조금(10%) | D19: ='나. 세입세출(총괄)'!D19 -> 123748660 | E19: ='나. 세입세출(총괄)'!E19 -> 100425000 | F19: =E19-D19 -> -23323660 | G19: =F19/D19*100 -> -18.847606 | H19: * 2024년보조금 확정액 | J19: 운영비 | K19: 소계 | L19: =SUM(L20:L25) -> 10220000 | M19: =SUM(M20:M25) -> 10220000 | N19: =M19-L19 -> 0 | O19: =N19/L19*100 -> 0
C20: 시군구보조금(90%) | D20: ='나. 세입세출(총괄)'!D20 -> 0 | E20: ='나. 세입세출(총괄)'!E20 -> 0 | F20: =E20-D20 -> 0 | G20: 0 | K20: 여비 | L20: ='나. 세입세출(총괄)'!K20 -> 0 | M20: ='나. 세입세출(총괄)'!L20 -> 0 | N20: =M20-L20 -> 0 | O20: 0
C21: 기타보조금 | D21: ='나. 세입세출(총괄)'!D21 -> 0 | E21: ='나. 세입세출(총괄)'!E21 -> 0 | F21: =E21-D21 -> 0 | G21: 0 | K21: 수용비및수수료 | L21: ='나. 세입세출(총괄)'!K21 -> 3900000 | M21: ='나. 세입세출(총괄)'!L21 -> 3900000 | N21: =M21-L21 -> 0 | O21: =N21/L21*100 -> 0
A22: 후원금 | B22: 계 | D22: =D23 -> 0 | E22: =E23 -> 0 | F22: =E22-D22 -> 0 | G22: 0 | K22: 공공요금 | L22: ='나. 세입세출(총괄)'!K22 -> 5400000 | M22: ='나. 세입세출(총괄)'!L22 -> 5400000 | N22: =M22-L22 -> 0 | O22: =N22/L22*100 -> 0
B23: 후원금수입 | C23: 소계 | D23: =SUM(D24:D25) -> 0 | E23: =SUM(E24:E25) -> 0 | F23: =E23-D23 -> 0 | G23: 0 | K23: 제세공과금 | L23: ='나. 세입세출(총괄)'!K23 -> 0 | M23: ='나. 세입세출(총괄)'!L23 -> 0 | N23: =M23-L23 -> 0 | O23: 0
C24: 지정후원금 | D24: ='나. 세입세출(총괄)'!D24 -> 0 | E24: ='나. 세입세출(총괄)'!E24 -> 0 | F24: =E24-D24 -> 0 | G24: 0 | K24: 차량비 | L24: ='나. 세입세출(총괄)'!K24 -> 920000 | M24: ='나. 세입세출(총괄)'!L24 -> 920000 | N24: =M24-L24 -> 0 | O24: =N24/L24*100 -> 0
C25: 비지정후원금 | D25: ='나. 세입세출(총괄)'!D25 -> 0 | E25: ='나. 세입세출(총괄)'!E25 -> 0 | F25: =E25-D25 -> 0 | G25: 0 | K25: 기타운영비 | L25: ='나. 세입세출(총괄)'!K25 -> 0 | M25: ='나. 세입세출(총괄)'!L25 -> 0 | N25: =M25-L25 -> 0 | O25: 0
A26: 전입금 | B26: 계 | D26: =D27 -> 0 | E26: =E27 -> 0 | F26: =E26-D26 -> 0 | G26: 0 | I26: 재산조성비 | J26: 계 | L26: =L27 -> 2250000 | M26: =M27 -> 2250000 | N26: =M26-L26 -> 0 | O26: =N26/L26*100 -> 0
B27: 전입금 | C27: 소계 | D27: =D28 -> 0 | E27: =E28 -> 0 | F27: =E27-D27 -> 0 | G27: 0 | J27: 시설비 | K27: 소계 | L27: =SUM(L28:L30) -> 2250000 | M27: =SUM(M28:M30) -> 2250000 | N27: =M27-L27 -> 0 | O27: =N27/L27*100 -> 0
C28: 법인전입금 | D28: ='나. 세입세출(총괄)'!D28 -> 0 | E28: ='나. 세입세출(총괄)'!E28 -> 0 | F28: =E28-D28 -> 0 | G28: 0 | K28: 시설비 | L28: ='나. 세입세출(총괄)'!K28 -> 0 | M28: ='나. 세입세출(총괄)'!L28 -> 0 | N28: =M28-L28 -> 0 | O28: 0
A29: 이월금 | B29: 계 | D29: =D30 -> 5000000 | E29: =E30 -> 13603816 | F29: =E29-D29 -> 8603816 | G29: =F29/D29*100 -> 172.07632 | K29: 자산취득비 | L29: ='나. 세입세출(총괄)'!K29 -> 0 | M29: ='나. 세입세출(총괄)'!L29 -> 0 | N29: =M29-L29 -> 0 | O29: 0
B30: 이월금 | C30: 소계 | D30: =SUM(D31:D33) -> 5000000 | E30: =SUM(E31:E33) -> 13603816 | F30: =E30-D30 -> 8603816 | G30: =F30/D30*100 -> 172.07632 | K30: 시설장비유지비 | L30: ='나. 세입세출(총괄)'!K30 -> 2250000 | M30: ='나. 세입세출(총괄)'!L30 -> 2250000 | N30: =M30-L30 -> 0 | O30: =N30/L30*100 -> 0
C31: 전년도이월금(자부담) | D31: ='나. 세입세출(총괄)'!D31 -> 4000000 | E31: ='나. 세입세출(총괄)'!E31 -> 7763286 | F31: =E31-D31 -> 3763286 | G31: =F31/D31*100 -> 94.08215 | H31: * 2023년도 자부담 집행잔액 및 예금이자 이월금 확정액 | I31: 사업비 | J31: 계 | L31: =L32+L38 -> 22632000 | M31: =M32+M38 -> 22744000 | N31: =M31-L31 -> 112000 | O31: =N31/L31*100 -> 0.49487451
C32: 전년도이월금(후원금) | D32: ='나. 세입세출(총괄)'!D32 -> 0 | E32: ='나. 세입세출(총괄)'!E32 -> 0 | F32: =E32-D32 -> 0 | G32: 0 | J32: 운영비 | K32: 소계 | L32: =SUM(L33:L37) -> 17528000 | M32: =SUM(M33:M37) -> 14740000 | N32: =M32-L32 -> -2788000 | O32: =N32/L32*100 -> -15.905979
C33: 전년도이월금(보조금) | D33: ='나. 세입세출(총괄)'!D33 -> 1000000 | E33: ='나. 세입세출(총괄)'!E33 -> 5840530 | F33: =E33-D33 -> 4840530 | G33: =F33/D33*100 -> 484.053 | H33: * 2023년도 보조금 집행잔액 및 예금이자 이월금 확정액 | K33: 생계비 | L33: ='나. 세입세출(총괄)'!K33 -> 8648000 | M33: ='나. 세입세출(총괄)'!L33 -> 6760000 | N33: =M33-L33 -> -1888000 | O33: =N33/L33*100 -> -21.831637 | P33: * 중식 중단으로 식재로 구입 감소
A34: 잡수입 | B34: 계 | D34: =D35 -> 96340 | E34: =E35 -> 97184 | F34: =E34-D34 -> 844 | G34: =F34/D34*100 -> 0.87606394 | K34: 수용기관경비 | L34: ='나. 세입세출(총괄)'!K34 -> 1380000 | M34: ='나. 세입세출(총괄)'!L34 -> 1380000 | N34: =M34-L34 -> 0 | O34: =N34/L34*100 -> 0
B35: 잡수입 | C35: 소계 | D35: =SUM(D36:D38) -> 96340 | E35: =SUM(E36:E38) -> 97184 | F35: =E35-D35 -> 844 | G35: =F35/D35*100 -> 0.87606394 | K35: 피복비 | L35: ='나. 세입세출(총괄)'!K35 -> 0 | M35: 0 | N35: =M35-L35 -> 0 | O35: 0
C36: 불용품매각대 | D36: ='나. 세입세출(총괄)'!D36 -> 60000 | E36: ='나. 세입세출(총괄)'!E36 -> 60000 | F36: =E36-D36 -> 0 | G36: =F36/D36*100 -> 0 | K36: 의료비 | L36: ='나. 세입세출(총괄)'!K36 -> 600000 | M36: ='나. 세입세출(총괄)'!L36 -> 600000 | N36: =M36-L36 -> 0 | O36: =N36/L36*100 -> 0
C37: 기타예금이자수입 | D37: ='나. 세입세출(총괄)'!D37 -> 26340 | E37: ='나. 세입세출(총괄)'!E37 -> 27184 | F37: =E37-D37 -> 844 | G37: =F37/D37*100 -> 3.2042521 | K37: 연료비 | L37: ='나. 세입세출(총괄)'!K37 -> 6900000 | M37: ='나. 세입세출(총괄)'!L37 -> 6000000 | N37: =M37-L37 -> -900000 | O37: =N37/L37*100 -> -13.043478 | P37: * 각 홈별 배분 조정
C38: 기타잡수입 | D38: ='나. 세입세출(총괄)'!D38 -> 10000 | E38: ='나. 세입세출(총괄)'!E38 -> 10000 | F38: =E38-D38 -> 0 | G38: =F38/D38*100 -> 0 | J38: 사업비 | K38: 소계 | L38: =SUM(L39:L48) -> 5104000 | M38: =SUM(M39:M48) -> 8004000 | N38: =M38-L38 -> 2900000 | O38: =N38/L38*100 -> 56.818182
K39: 교육재활사업비 | L39: ='나. 세입세출(총괄)'!K39 -> 50000 | M39: ='나. 세입세출(총괄)'!L39 -> 50000 | N39: =M39-L39 -> 0 | O39: 0
K40: 일상생활서비스 | L40: ='나. 세입세출(총괄)'!K40 -> 0 | M40: ='나. 세입세출(총괄)'!L40 -> 0 | N40: =M40-L40 -> 0 | O40: 0
K41: 여가활동사업비 | L41: ='나. 세입세출(총괄)'!K41 -> 2892000 | M41: ='나. 세입세출(총괄)'!L41 -> 2792000 | N41: =M41-L41 -> -100000 | O41: =N41/L41*100 -> -3.4578147
K42: 지역사회교류사업비 | L42: ='나. 세입세출(총괄)'!K42 -> 480000 | M42: ='나. 세입세출(총괄)'!L42 -> 480000 | N42: =M42-L42 -> 0 | O42: 0
K43: 자립지원사업비 | L43: ='나. 세입세출(총괄)'!K43 -> 40000 | M43: ='나. 세입세출(총괄)'!L43 -> 40000 | N43: =M43-L43 -> 0 | O43: 0
K44: 권익증진사업비 | L44: ='나. 세입세출(총괄)'!K44 -> 0 | M44: ='나. 세입세출(총괄)'!L44 -> 0 | N44: =M44-L44 -> 0 | O44: 0
K45: 가족과의유대사업비 | L45: ='나. 세입세출(총괄)'!K45 -> 0 | M45: ='나. 세입세출(총괄)'!L45 -> 0 | N45: =M45-L45 -> 0 | O45: 0
K46: 4종 운영지원사업비 | L46: ='나. 세입세출(총괄)'!K46 -> 1642000 | M46: ='나. 세입세출(총괄)'!L46 -> 1642000 | N46: =M46-L46 -> 0 | O46: 0
K47: 7종 운영지원 사업비 | L47: ='나. 세입세출(총괄)'!K47 -> 0 | M47: ='나. 세입세출(총괄)'!L47 -> 3000000 | N47: =M47-L47 -> 3000000 | O47: 0
K48: 환경개선사업비 | L48: ='나. 세입세출(총괄)'!K48 -> 0 | M48: ='나. 세입세출(총괄)'!L48 -> 0 | N48: =M48-L48 -> 0 | O48: 0
I49: 잡지출 | J49: 계 | L49: =L50 -> 96340 | M49: =M50 -> 74410 | N49: =M49-L49 -> -21930 | O49: =N49/L49*100 -> -22.763131
J50: 잡지출 | K50: 소계 | L50: =L51 -> 96340 | M50: =M51 -> 74410 | N50: =M50-L50 -> -21930 | O50: =N50/L50*100 -> -22.763131
K51: 잡지출 | L51: ='나. 세입세출(총괄)'!K51 -> 96340 | M51: ='나. 세입세출(총괄)'!L51 -> 74410 | N51: =M51-L51 -> -21930 | O51: =N51/L51*100 -> -22.763131
I52: 예비비및기타 | J52: 계 | L52: =L53 -> 1000000 | M52: =M53 -> 5840530 | N52: =M52-L52 -> 4840530 | O52: =N52/L52*100 -> 484.053
J53: 예비비및기타 | K53: 소계 | L53: =SUM(L54:L55) -> 1000000 | M53: =SUM(M54:M55) -> 5840530 | N53: =SUM(N54:N55) -> 4840530 | O53: =N53/L53*100 -> 484.053
K54: 예비비 | L54: ='나. 세입세출(총괄)'!K54 -> 0 | M54: ='나. 세입세출(총괄)'!L54 -> 0 | N54: =M54-L54 -> 0 | O54: 0
K55: 보조금반환 | L55: ='나. 세입세출(총괄)'!K55 -> 1000000 | M55: ='나. 세입세출(총괄)'!L55 -> 5840530 | N55: =M55-L55 -> 4840530 | O55: =N55/L55*100 -> 484.053

Sheet 사. 임직원보수 일람표
A1: 사. 임직원 보수 일람표 (라온)
A3: 순번 | B3: 직책 | C3: 성명 | D3: 호봉 | E3: 승급월 | F3: 급여 | G3: 제수당 | K3: 퇴직적립금 (연금) | L3: 사회보험부담금 | Q3: 사회보험부담금 | R3: 부담금계 | S3: 합계 | T3: 지자체 별도 지급액 | W3: 비고
G4: 명절휴가비 | H4: 가족수당 | I4: 연장근로수당 | J4: 제수당 계 | L4: 건강보험 | M4: 장기요양 | N4: 국민연금 | O4: 고용보험 | P4: 산재보험 | T4: 경기도 특수근무수당 | U4: 경기도 처우개선비 | V4: 지자체 지급액 계
A5: 1 | B5: 시설장 | C5: 이애경 | D5: 10 | W5: 별빛누리그룹홈 시설장 겸임
D6: 11
A7: 1 | B7: 조리원 | D7: 계약직 | F7: 0 | G7: 0 | I7: 0 | J7: =SUM(G7:I8) -> 0 | K7: =ROUND((F7+F8+J7)*1/12,-1) -> 0 | L7: =ROUND((F7+F8+J7)*3.495%,-1) -> 0 | M7: =ROUND(L7*12.27%,-1) -> 0 | N7: =INT(((F7+F8+J7)*4.5%)/10)*10 -> 0 | O7: =ROUND((F7+F8+J7)*1.05%,-1) -> 0 | P7: =ROUND((F7+F8+J7)*0.8%,-1) -> 0 | Q7: =SUM(L7:P7) -> 0 | R7: =K7+Q7 -> 0 | S7: =SUM(F7:F8)+SUM(J7:J8)+SUM(R7:R8) -> 0 | W7: 자부담 정년 외 계약직
A9: 1 | B9: 시설장 | C9: 이애경 | D9: 21 | E9: 4월 | F9: =4899600*3 -> 14698800 | G9: =4899600*60% -> 2939760 | H9: =0*3 -> 0 | I9: =ROUND((F9)*1/209*1.5,-1)*20 -> 2109800 | J9: =SUM(G9:I10) -> 14433420 | K9: =ROUND((F9+F10+J9)*1/12,-1) -> 6147760 | L9: =ROUND((F9+F10+J9)*3.545%,-1) -> 2615260 | M9: =ROUND(L9*12.95%,-1) -> 338680 | N9: =INT(((F9+F10+J9)*4.5%)/10)*0 -> 0 | O9: =ROUND((F9+F10+J9)*1.15%,-1)*0 -> 0 | P9: =ROUND((F9+F10+J9)*0.72%,-1)*0 -> 0 | Q9: =SUM(L9:P9) -> 2953940 | R9: =K9+Q9 -> 9101700 | S9: =SUM(F9:F10)+SUM(J9:J10)+SUM(R9:R10) -> 82874820 | T9: =250000*12 -> 3000000 | U9: =50000*12 -> 600000 | V9: =T9+U9 -> 3600000 | W9: 라온 사회재활교사 겸임 2021. 03. 01. 입사
D10: 22 | F10: =4960100*9 -> 44640900 | G10: =4960100*60% -> 2976060 | H10: =0*9 -> 0 | I10: =ROUND((F10)*1/209*1.5,-1)*20 -> 6407800 | V10: =T10+U10 -> 0
A11: 2 | B11: 라온 생활재활 교사 | C11: 채용 예정 | D11: 3 | E11: 1월 | F11: =2219800*3 -> 6659400 | H11: =40000*3 -> 120000 | I11: =ROUND((F11)*1/209*1.5,-1)*20 -> 955800 | J11: =SUM(G11:I12) -> 1075800 | K11: =ROUND((F11+F12+J11)*1/12,-1) -> 644600 | L11: =ROUND((F11+F12+J11)*3.545%,-1) -> 274210 | M11: =ROUND(L11*12.95%,-1) -> 35510 | N11: =INT(((F11+F12+J11)*4.5%)/10)*10 -> 348080 | O11: =ROUND((F11+F12+J11)*1.15%,-1) -> 88950 | P11: =ROUND((F11+F12+J11)*0.72%,-1) -> 55690 | Q11: =SUM(L11:P11) -> 802440 | R11: =K11+Q11 -> 1447040 | S11: =SUM(F11:F12)+SUM(J11:J12)+SUM(R11:R12) -> 9182240 | T11: =200000*12 -> 2400000 | U11: =50000*12 -> 600000 | V11: =T11+U11 -> 3000000 | W11: 2024.00.00. 입사예정
F12: 0 | G12: 0 | H12: 0 | I12: =ROUND((F12)*1/209*1.5,-1)*0 -> 0 | V12: =T12+U12 -> 0
A13: 4 | B13: 나온 사회재활 교사 | C13: 김태경 | D13: 5 | E13: 5월 | F13: 0 | G13: =0*60% -> 0 | I13: =ROUND((F13)*1/209*1.5,-1)*20 -> 0 | J13: =SUM(G13:I14) -> 0 | K13: =ROUND((F13+F14+J13)*1/12,-1) -> 0 | L13: =ROUND((F13+F14+J13)*3.495%,-1) -> 0 | M13: =ROUND(L13*12.27%,-1) -> 0 | N13: =INT(((F13+F14+J13)*4.5%)/10)*10 -> 0 | O13: =ROUND((F13+F14+J13)*1.05%,-1) -> 0 | P13: =ROUND((F13+F14+J13)*0.8%,-1) -> 0 | Q13: =SUM(L13:P13) -> 0 | R13: =K13+Q13 -> 0 | S13: =SUM(F13:F14)+SUM(J13:J14)+SUM(R13:R14) -> 0 | T13: 0 | U13: 0 | V13: =T13+U13 -> 0 | W13: 21년 02월 04일 입사
D14: 6 | F14: 0 | G14: =0*60% -> 0 | I14: =ROUND((F14)*1/209*1.5,-1)*20 -> 0 | T14: 0 | V14: =T14+U14 -> 0
A15: 5 | B15: 나온 보조인력 | C15: ooo | D15: 1 | F15: 0 | G15: 0 | H15: 0 | I15: 0 | J15: =SUM(G15:I16) -> 0 | K15: =ROUND((F15+F16+J15)*1/12,-1) -> 0 | L15: =ROUND((F15+F16+J15)*3.495%,-1) -> 0 | M15: =ROUND(L15*12.27%,-1) -> 0 | N15: =INT(((F15+F16+J15)*4.5%)/10)*10 -> 0 | O15: =ROUND((F15+F16+J15)*1.05%,-1) -> 0 | P15: =ROUND((F15+F16+J15)*0.8%,-1) -> 0 | Q15: =SUM(L15:P15) -> 0 | R15: =K15+Q15 -> 0 | S15: =SUM(F15:F16)+SUM(J15:J16)+SUM(R15:R16) -> 0 | U15: 0 | V15: =T15+U15 -> 0
F16: 0 | G16: 0 | H16: 0 | I16: =ROUND((F16)*1/209*1.5,-1)*20 -> 0 | V16: =T16+U16 -> 0
A17: 6 | B17: 다온 사회재활 교사 | C17: 홍경화 | D17: 3 | E17: 12월 | F17: 0 | G17: 0 | H17: 0 | I17: =ROUND((F17)*1/209*1.5,-1)*20 -> 0 | J17: =SUM(G17:I18) -> 0 | K17: =ROUND((F17+F18+J17)*1/12,-1) -> 0 | L17: =ROUND((F17+F18+J17)*3.495%,-1) -> 0 | M17: =ROUND(L17*12.27%,-1) -> 0 | N17: =INT(((F17+F18+J17)*4.5%)/10)*10 -> 0 | O17: =ROUND((F17+F18+J17)*1.05%,-1) -> 0 | P17: =ROUND((F17+F18+J17)*0.8%,-1) -> 0 | Q17: =SUM(L17:P17) -> 0 | R17: =K17+Q17 -> 0 | S17: =SUM(F17:F18)+SUM(J17:J18)+SUM(R17:R18) -> 0 | T17: 0 | U17: 0 | V17: =T17+U17 -> 0 | W17: 21년 01월 01일 입사 22년 02월 28일 퇴사
D18: 4 | F18: 0 | G18: 0 | H18: 0 | I18: =ROUND((F18)*1/209*1.5,-1)*20 -> 0 | V18: =T18+U18 -> 0
A19: 7 | B19: 다온 보조인력 | C19: 정영교 | D19: 1 | F19: 0 | G19: 0 | H19: 0 | I19: 0 | J19: =SUM(G19:I20) -> 0 | K19: =ROUND((F19+F20+J19)*1/12,-1) -> 0 | L19: =ROUND((F19+F20+J19)*3.495%,-1) -> 0 | M19: =ROUND(L19*12.27%,-1) -> 0 | N19: =INT(((F19+F20+J19)*4.5%)/10)*10 -> 0 | O19: =ROUND((F19+F20+J19)*1.05%,-1) -> 0 | P19: =ROUND((F19+F20+J19)*0.8%,-1) -> 0 | Q19: =SUM(L19:P19) -> 0 | R19: =K19+Q19 -> 0 | S19: =SUM(F19:F20)+SUM(J19:J20)+SUM(R19:R20) -> 0 | U19: 0 | V19: =T19+U19 -> 0 | W19: 22년 03월 01일 입사
F20: 0 | G20: 0 | H20: 0 | I20: =ROUND((F20)*1/209*1.5,-1)*20 -> 0 | V20: =T20+U20 -> 0
A21: 8 | B21: 시설장 | C21: 이애경 | D21: 10 | E21: 7월 | F21: 0 | G21: 0 | I21: =ROUND((F21)*1/209*1.5,-1)*20 -> 0 | J21: =SUM(G21:I22) -> 0 | K21: =ROUND((F21+F22+J21)*1/12,-1) -> 0 | L21: =ROUND((F21+F22+J21)*3.495%,-1) -> 0 | M21: =ROUND(L21*12.27%,-1) -> 0 | N21: =INT(((F21+F22+J21)*4.5%)/10)*10 -> 0 | O21: =ROUND((F21+F22+J21)*1.05%,-1) -> 0 | P21: =ROUND((F21+F22+J21)*0.8%,-1) -> 0 | Q21: =SUM(L21:P21) -> 0 | R21: =K21+Q21 -> 0 | S21: =SUM(F21:F22)+SUM(J21:J22)+SUM(R21:R22) -> 0 | T21: 0 | U21: 0 | V21: =T21+U21 -> 0 | W21: 라온사회재활교사겸임
D22: 11 | F22: 0 | G22: 0 | I22: =ROUND((F22)*1/209*1.5,-1)*20 -> 0 | T22: 0 | U22: 0 | V22: =T22+U22 -> 0
A23: 9 | B23: 라온 보조인력 | C23: ooo | D23: 1 | F23: 0 | G23: 0 | H23: 0 | I23: 0 | J23: =SUM(G23:I24) -> 0 | K23: =ROUND((F23+F24+J23)*1/12,-1) -> 0 | L23: =ROUND((F23+F24+J23)*3.495%,-1) -> 0 | M23: =ROUND(L23*12.27%,-1) -> 0 | N23: =INT(((F23+F24+J23)*4.5%)/10)*10 -> 0 | O23: =ROUND((F23+F24+J23)*1.05%,-1) -> 0 | P23: =ROUND((F23+F24+J23)*0.8%,-1) -> 0 | Q23: =SUM(L23:P23) -> 0 | R23: =K23+Q23 -> 0 | S23: =SUM(F23:F24)+SUM(J23:J24)+SUM(R23:R24) -> 0 | T23: 0 | U23: 0 | V23: =T23+U23 -> 0
F24: 0 | G24: 0 | H24: 0 | I24: =ROUND((F24)*1/209*1.5,-1)*20 -> 0 | T24: 0 | U24: 0 | V24: =T24+U24 -> 0
A25: 10 | B25: 마온 사회재활 교사 | C25: 박성화 | D25: 9 | E25: 2월 | F25: 0 | H25: 0 | I25: =ROUND((F25)*1/209*1.5,-1)*20 -> 0 | J25: =SUM(G25:I26) -> 0 | K25: =ROUND((F25+F26+J25)*1/12,-1) -> 0 | L25: =ROUND((F25+F26+J25)*3.495%,-1) -> 0 | M25: =ROUND(L25*12.27%,-1) -> 0 | N25: =INT(((F25+F26+J25)*4.5%)/10)*10 -> 0 | O25: =ROUND((F25+F26+J25)*1.05%,-1) -> 0 | P25: =ROUND((F25+F26+J25)*0.8%,-1) -> 0 | Q25: =SUM(L25:P25) -> 0 | R25: =K25+Q25 -> 0 | S25: =SUM(F25:F26)+SUM(J25:J26)+SUM(R25:R26) -> 0 | T25: 0 | U25: 0 | V25: =T25+U25 -> 0 | W25: 21년 08월 09일 입사
D26: 10 | F26: 0 | G26: 0 | H26: 0 | I26: =ROUND((F26)*1/209*1.5,-1)*20 -> 0 | T26: 0 | U26: 0 | V26: =T26+U26 -> 0
A27: 11 | B27: 마온 보조인력 | C27: 김병곤 | D27: 1 | F27: 0 | G27: 0 | H27: 0 | I27: 0 | J27: =SUM(G27:I28) -> 0 | K27: =ROUND((F27+F28+J27)*1/12,-1) -> 0 | L27: =ROUND((F27+F28+J27)*3.495%,-1) -> 0 | M27: =ROUND(L27*12.27%,-1) -> 0 | N27: =INT(((F27+F28+J27)*4.5%)/10)*10 -> 0 | O27: =ROUND((F27+F28+J27)*1.05%,-1) -> 0 | P27: =ROUND((F27+F28+J27)*0.8%,-1) -> 0 | Q27: =SUM(L27:P27) -> 0 | R27: =K27+Q27 -> 0 | S27: =SUM(F27:F28)+SUM(J27:J28)+SUM(R27:R28) -> 0 | U27: 0 | V27: =T27+U27 -> 0 | W27: 22년 02월 28일 퇴사
F28: 0 | G28: 0 | H28: 0 | I28: =ROUND((F28)*1/209*1.5,-1)*20 -> 0 | U28: 0 | V28: =T28+U28 -> 0
A29: 12 | B29: 바온 사회재활 교사 | C29: 신영철 | D29: 3 | E29: 12월 | F29: 0 | G29: 0 | H29: 0 | I29: =ROUND((F29)*1/209*1.5,-1)*20 -> 0 | J29: =SUM(G29:I30) -> 0 | K29: =ROUND((F29+F30+J29)*1/12,-1) -> 0 | L29: =ROUND((F29+F30+J29)*3.495%,-1) -> 0 | M29: =ROUND(L29*12.27%,-1) -> 0 | N29: =INT(((F29+F30+J29)*4.5%)/10)*10 -> 0 | O29: =ROUND((F29+F30+J29)*1.05%,-1) -> 0 | P29: =ROUND((F29+F30+J29)*0.8%,-1) -> 0 | Q29: =SUM(L29:P29) -> 0 | R29: =K29+Q29 -> 0 | S29: =SUM(F29:F30)+SUM(J29:J30)+SUM(R29:R30) -> 0 | T29: 0 | U29: 0 | V29: =T29+U29 -> 0 | W29: 21년 11월 01일 입사
D30: 4 | F30: 0 | G30: 0 | H30: 0 | I30: =ROUND((F30)*1/209*1.5,-1)*20 -> 0 | U30: 0 | V30: =T30+U30 -> 0
A31: 13 | B31: 바온 보조인력 | C31: ooo | D31: 1 | F31: 0 | G31: 0 | H31: 0 | I31: 0 | J31: =SUM(G31:I32) -> 0 | K31: =ROUND((F31+F32+J31)*1/12,-1) -> 0 | L31: =ROUND((F31+F32+J31)*3.495%,-1) -> 0 | M31: =ROUND(L31*12.27%,-1) -> 0 | N31: =INT(((F31+F32+J31)*4.5%)/10)*10 -> 0 | O31: =ROUND((F31+F32+J31)*1.05%,-1) -> 0 | P31: =ROUND((F31+F32+J31)*0.8%,-1) -> 0 | Q31: =SUM(L31:P31) -> 0 | R31: =K31+Q31 -> 0 | S31: =SUM(F31:F32)+SUM(J31:J32)+SUM(R31:R32) -> 0 | U31: 0 | V31: =T31+U31 -> 0
F32: 0 | G32: 0 | H32: 0 | I32: =ROUND((F32)*1/209*1.5,-1)*20 -> 0 | V32: =T32+U32 -> 0
A33: 14 | B33: 사온 사회재활 교사 | C33: 김윤미 | D33: 9 | E33: 8월 | F33: 0 | G33: 0 | I33: =ROUND((F33)*1/209*1.5,-1)*20 -> 0 | J33: =SUM(G33:I34) -> 0 | K33: =ROUND((F33+F34+J33)*1/12,-1) -> 0 | L33: =ROUND((F33+F34+J33)*3.495%,-1) -> 0 | M33: =ROUND(L33*12.27%,-1) -> 0 | N33: =INT(((F33+F34+J33)*4.5%)/10)*10 -> 0 | O33: =ROUND((F33+F34+J33)*1.05%,-1) -> 0 | P33: =ROUND((F33+F34+J33)*0.8%,-1) -> 0 | Q33: =SUM(L33:P33) -> 0 | R33: =K33+Q33 -> 0 | S33: =SUM(F33:F34)+SUM(J33:J34)+SUM(R33:R34) -> 0 | T33: 0 | U33: 0 | V33: =T33+U33 -> 0 | W33: 21년 08월 09일 입사
D34: 10 | F34: 0 | G34: 0 | I34: =ROUND((F34)*1/209*1.5,-1)*20 -> 0 | V34: =T34+U34 -> 0
A35: 15 | B35: 사온 보조인력 | C35: ooo | D35: 1 | F35: 0 | G35: 0 | H35: 0 | I35: 0 | J35: =SUM(G35:I36) -> 0 | K35: =ROUND((F35+F36+J35)*1/12,-1) -> 0 | L35: =ROUND((F35+F36+J35)*3.495%,-1) -> 0 | M35: =ROUND(L35*12.27%,-1) -> 0 | N35: =INT(((F35+F36+J35)*4.5%)/10)*10 -> 0 | O35: =ROUND((F35+F36+J35)*1.05%,-1) -> 0 | P35: =ROUND((F35+F36+J35)*0.8%,-1) -> 0 | Q35: =SUM(L35:P35) -> 0 | R35: =K35+Q35 -> 0 | S35: =SUM(F35:F36)+SUM(J35:J36)+SUM(R35:R36) -> 0 | U35: 0 | V35: =T35+U35 -> 0
F36: 0 | G36: 0 | H36: 0 | I36: =ROUND((F36)*1/209*1.5,-1)*20 -> 0 | V36: =T36+U36 -> 0
A37: 16 | B37: 아온 사회재활 교사 | C37: 정효정 | D37: 9 | E37: 6월 | F37: 0 | G37: 0 | I37: =ROUND((F37)*1/209*1.5,-1)*20 -> 0 | J37: =SUM(G37:I38) -> 0 | K37: =ROUND((F37+F38+J37)*1/12,-1) -> 0 | L37: =ROUND((F37+F38+J37)*3.495%,-1) -> 0 | M37: =ROUND(L37*12.27%,-1) -> 0 | N37: =INT(((F37+F38+J37)*4.5%)/10)*10 -> 0 | O37: =ROUND((F37+F38+J37)*1.05%,-1) -> 0 | P37: =ROUND((F37+F38+J37)*0.8%,-1) -> 0 | Q37: =SUM(L37:P37) -> 0 | R37: =K37+Q37 -> 0 | S37: =SUM(F37:F38)+SUM(J37:J38)+SUM(R37:R38) -> 0 | T37: 0 | U37: 0 | V37: =T37+U37 -> 0 | W37: 21년 08월 09일 입사
D38: 10 | F38: 0 | G38: 0 | I38: =ROUND((F38)*1/209*1.5,-1)*20 -> 0 | V38: =T38+U38 -> 0
A39: 17 | B39: 아온 보조인력 | C39: ooo | D39: 1 | F39: 0 | G39: 0 | H39: 0 | I39: 0 | J39: =SUM(G39:I40) -> 0 | K39: =ROUND((F39+F40+J39)*1/12,-1) -> 0 | L39: =ROUND((F39+F40+J39)*3.495%,-1) -> 0 | M39: =ROUND(L39*12.27%,-1) -> 0 | N39: =INT(((F39+F40+J39)*4.5%)/10)*10 -> 0 | O39: =ROUND((F39+F40+J39)*1.05%,-1) -> 0 | P39: =ROUND((F39+F40+J39)*0.8%,-1) -> 0 | Q39: =SUM(L39:P39) -> 0 | R39: =K39+Q39 -> 0 | S39: =SUM(F39:F40)+SUM(J39:J40)+SUM(R39:R40) -> 0 | U39: 0 | V39: =T39+U39 -> 0
F40: 0 | G40: 0 | H40: 0 | I40: =ROUND((F40)*1/209*1.5,-1)*20 -> 0 | V40: =T40+U40 -> 0
A41: 합 계 | F41: =SUM(F5:F40) -> 65999100 | G41: =SUM(G5:G40) -> 5915820 | H41: =SUM(H5:H40) -> 120000 | I41: =SUM(I5:I40) -> 9473400 | J41: =SUM(J5:J40) -> 15509220 | K41: =SUM(K5:K40) -> 6792360 | L41: =SUM(L5:L40) -> 2889470 | M41: =SUM(M5:M40) -> 374190 | ... V41: =SUM(V5:V40) -> 6600000

Sheet 아. 자부담 계약직 인건비
A1: 아. 자부담 계약직 인건비 일람표
A3: 순번 | B3: 직책 | C3: 성명 | D3: 호봉 | E3: 급여 | F3: 제수당 | H3: 퇴직금 및 퇴직적립금 | I3: 사회보험부담금 | J3: 계 | K3: 합계 | L3: 지자체 별도 지급액 | O3: 비고
F4: 명절휴가비 | G4: 제수당 계 | L4: 000 | M4: 000 | N4: 지자체 지급액 계
A5: 1 | B5: 조리원 | C5: 오혜은 | D5: 계약직 | E5: =1830000*12 -> 21960000 | F5: =1830000*60%*2 -> 2196000 | G5: =F5 -> 2196000 | H5: 2013000 | I5: 2420560 | J5: =H5+I5 -> 4433560 | K5: =E5:E6+G5:G6+J5:J6 -> 28589560 | O5: 정년외 계약직
A7: 합 계 | E7: =SUM(E5:E6) -> 21960000 | F7: =SUM(F5:F6) -> 2196000 | G7: =SUM(G5:G6) -> 2196000 | H7: =SUM(H5:H6) -> 2013000 | I7: =SUM(I5:I6) -> 2420560 | J7: =SUM(J5:J6) -> 4433560 | K7: =SUM(K5:K6) -> 28589560 | L7: =SUM(L5:L6) -> 0 | ... N7: =SUM(N5:N6) -> 0

Sheet 인건비총계표(보조금)
A1: ▣ 2021년 종사자 인건비 총계표
A3: (1) 국도시비 | AC3: (단위 : 원)
A4: 연 번 | B4: 직 종 | C4: 호 봉 | D4: 명 수 | E4: 구분 (월) | F4: 기본급 | G4: 기말수당 (50%씩 연4회 -3,6,9,12월) | H4: 정근수당 (1,7월) | I4: 처우개선비 (50,000원) | J4: 처우개선비 포함연장수당 | K4: 처우개선비 포함연장수당 | L4: 처우개선비 포함연장수당 | M4: 명절휴가비 (60%씩 연2회) | O4: 가족수당 (40,000원) (2만,6만,10만) | P4: 처우개선비 | Q4: 연장근로수당 | R4: 연장근로수당 (보수월액*1/ 209*1.5*20or40) | S4: 추가지원수당 (보수월액*1/ 209*1.5*5 | T4: 특수근무 수 당 (도비) | U4: 소 계 | V4: 비 고 | W4: 퇴직적립금 | X4: 국민연금 | Y4: 의료보험 | Z4: 의료보험 (장기요양보험) | AA4: 고용보험 | AB4: 산재보험 | AC4: 공제액합계
A5: 합 계 | F5: =F6+F19+F32+F45+F58+F71+F84+F97+F110 -> 233952000 | G5: =G6+G19+G32+G45+G58+G71+G84+G97+G110 -> 0 | H5: =H6+H19+H32+H45+H58+H71+H84+H97+H110 -> 0 | I5: =I6+I19+I32+I45+I58+I71+I84+I97+I110 -> 0 | J5: =J6+J19+J32+J45+J58+J71+J84+J97+J110 -> 0 | K5: =K6+K19+K32+K45+K58+K71+K84+K97+K110 -> 0 | L5: =L6+L19+L32+L45+L58+L71+L84+L97+L110 -> 0 | M5: =M6+M19+M32+M45+M58+M71+M84+M97+M110 -> 23395200 | ... AC5: =AC6+AC19+AC32+AC45+AC58+AC71+AC84+AC97+AC110 -> 54453920
A6: 1 | B6: 시 설 장 | C6: 13,14 | D6: 1 | E6: 소계 | F6: =SUM(F7:F18) -> 0 | G6: =SUM(G7:G18) -> 0 | H6: =SUM(H7:H18) -> 0 | I6: =SUM(I7:I18) -> 0 | J6: =SUM(J7:J18) -> 0 | K6: =SUM(K7:K18) -> 0 | L6: =SUM(L7:L18) -> 0 | M6: =SUM(M7:M18) -> 0 | ... P6: =SUM(P7:P18) -> 0 | R6: =SUM(R7:R18) -> 0 | S6: =SUM(S7:S18) -> 0 | T6: =SUM(T7:T18) -> 0 | U6: =SUM(U7:U18) -> 0 | W6: =SUM(W7:W18) -> 0 | X6: =SUM(X7:X18) -> 0 | Y6: =SUM(Y7:Y18) -> 0 | Z6: =SUM(Z7:Z18) -> 0 | AA6: =SUM(AA7:AA18) -> 0 | AB6: =SUM(AB7:AB18) -> 0 | AC6: =SUM(AC7:AC18) -> 0
B7: 이기수 | C7: 13 | E7: 1월 | F7: 0 | M7: - | O7: - | U7: =SUM(F7,M7,O7,R7,T7,S7) -> 0 | W7: =ROUNDUP(U7*1/12,-1) -> 0 | X7: =ROUND(U7*4.5%,-1) -> 0 | Y7: =ROUNDUP((U7-L7)*3.23%,-1) -> 0 | Z7: =ROUNDUP(Y7*8.51%,-1) -> 0 | AA7: 0 | AB7: 0 | AC7: =SUM(W7:AB7) -> 0
E8: 2월 | F8: =F7 -> 0 | M8: =F8*60% -> 0 | O8: - | Q8: =ROUND((F7+T7)*1/209*1.5,-1) -> 0 | R8: =Q8*20 -> 0 | S8: =Q8*5 -> 0 | U8: =SUM(F8,M8,O8,R8,T8,S8) -> 0 | W8: =ROUNDUP((T8+U8)*1/12,-1) -> 0 | X8: =ROUND(U8*4.5%,-1) -> 0 | Y8: =ROUNDUP((U8-L8)*3.23%,-1) -> 0 | Z8: =ROUNDUP(Y8*8.51%,-1) -> 0 | AA8: 0 | AB8: 0 | AC8: =SUM(W8:AB8) -> 0
E9: 3월 | F9: =F7 -> 0 | O9: - | Q9: =ROUND((F8+T8)*1/209*1.5,-1) -> 0 | R9: =Q9*20 -> 0 | S9: =Q9*5 -> 0 | U9: =SUM(F9,M9,O9,R9,T9,S9) -> 0 | W9: =ROUNDUP(U9*1/12,-1) -> 0 | X9: =ROUND(U9*4.5%,-1) -> 0 | Y9: =ROUNDUP((U9-L9)*3.23%,-1) -> 0 | Z9: =ROUNDUP(Y9*8.51%,-1) -> 0 | AA9: 0 | AB9: 0 | AC9: =SUM(W9:AB9) -> 0
E10: 4월 | F10: =F8 -> 0 | O10: - | Q10: =ROUND((F9+T9)*1/209*1.5,-1) -> 0 | R10: =Q10*20 -> 0 | S10: =Q10*5 -> 0 | U10: =SUM(F10,M10,O10,R10,T10,S10) -> 0 | W10: =ROUNDUP(U10*1/12,-1) -> 0 | X10: =ROUND(U10*4.5%,-1) -> 0 | Y10: =ROUNDUP((U10-L10)*3.23%,-1) -> 0 | Z10: =ROUNDUP(Y10*8.51%,-1) -> 0 | AA10: 0 | AB10: 0 | AC10: =SUM(W10:AB10) -> 0
E11: 5월 | F11: =F9 -> 0 | O11: - | Q11: =ROUND((F10+T10)*1/209*1.5,-1) -> 0 | R11: =Q11*20 -> 0 | S11: =Q11*5 -> 0 | U11: =SUM(F11,M11,O11,R11,T11,S11) -> 0 | W11: =ROUNDUP(U11*1/12,-1) -> 0 | X11: =ROUND(U11*4.5%,-1) -> 0 | Y11: =ROUNDUP((U11-L11)*3.23%,-1) -> 0 | Z11: =ROUNDUP(Y11*8.51%,-1) -> 0 | AA11: 0 | AB11: 0 | AC11: =SUM(W11:AB11) -> 0
C12: =C7+1 -> 14 | E12: 6월 | F12: 0 | O12: - | Q12: =ROUND((F11+T11)*1/209*1.5,-1) -> 0 | R12: =Q12*20 -> 0 | S12: =Q12*5 -> 0 | U12: =SUM(F12,M12,O12,R12,T12,S12) -> 0 | W12: =ROUNDUP(U12*1/12,-1) -> 0 | X12: =ROUND(U12*4.5%,-1) -> 0 | Y12: =ROUNDUP((U12-L12)*3.23%,-1) -> 0 | Z12: =ROUNDUP(Y12*8.51%,-1) -> 0 | AA12: 0 | AB12: 0 | AC12: =SUM(W12:AB12) -> 0
E13: 7월 | F13: =F12 -> 0 | O13: - | Q13: =ROUND((F12+T12)*1/209*1.5,-1) -> 0 | R13: =Q13*20 -> 0 | S13: =Q13*5 -> 0 | U13: =SUM(F13,M13,O13,R13,T13,S13) -> 0 | W13: =ROUNDUP(U13*1/12,-1) -> 0 | X13: =ROUND(U13*4.5%,-1) -> 0 | Y13: =ROUNDUP((U13-L13)*3.23%,-1) -> 0 | Z13: =ROUNDUP(Y13*8.51%,-1) -> 0 | AA13: 0 | AB13: 0 | AC13: =SUM(W13:AB13) -> 0
E14: 8월 | F14: =F13 -> 0 | O14: - | Q14: =ROUND((F13+T13)*1/209*1.5,-1) -> 0 | R14: =Q14*20 -> 0 | S14: =Q14*5 -> 0 | U14: =SUM(F14,M14,O14,R14,T14,S14) -> 0 | W14: =ROUNDUP(U14*1/12,-1) -> 0 | X14: =ROUND(U14*4.5%,-1) -> 0 | Y14: =ROUNDUP((U14-L14)*3.23%,-1) -> 0 | Z14: =ROUNDUP(Y14*8.51%,-1) -> 0 | AA14: 0 | AB14: 0 | AC14: =SUM(W14:AB14) -> 0
E15: 9월 | F15: =F13 -> 0 | M15: =F15*60% -> 0 | O15: - | Q15: =ROUND((F14+T14)*1/209*1.5,-1) -> 0 | R15: =Q15*20 -> 0 | S15: =Q15*5 -> 0 | U15: =SUM(F15,M15,O15,R15,T15,S15) -> 0 | W15: =ROUNDUP(U15*1/12,-1) -> 0 | X15: =ROUND(U15*4.5%,-1) -> 0 | Y15: =ROUNDUP((U15-L15)*3.23%,-1) -> 0 | Z15: =ROUNDUP(Y15*8.51%,-1) -> 0 | AA15: 0 | AB15: 0 | AC15: =SUM(W15:AB15) -> 0
E16: 10월 | F16: =F13 -> 0 | O16: - | Q16: =ROUND((F15+T15)*1/209*1.5,-1) -> 0 | R16: =Q16*20 -> 0 | S16: =Q16*5 -> 0 | U16: =SUM(F16,M16,O16,R16,T16,S16) -> 0 | W16: =ROUNDUP(U16*1/12,-1) -> 0 | X16: =ROUND(U16*4.5%,-1) -> 0 | Y16: =ROUNDUP((U16-L16)*3.23%,-1) -> 0 | Z16: =ROUNDUP(Y16*8.51%,-1) -> 0 | AA16: 0 | AB16: 0 | AC16: =SUM(W16:AB16) -> 0
E17: 11월 | F17: =F13 -> 0 | O17: - | Q17: =ROUND((F16+T16)*1/209*1.5,-1) -> 0 | R17: =Q17*20 -> 0 | S17: =Q17*5 -> 0 | U17: =SUM(F17,M17,O17,R17,T17,S17) -> 0 | W17: =ROUNDUP(U17*1/12,-1) -> 0 | X17: =ROUND(U17*4.5%,-1) -> 0 | Y17: =ROUNDUP((U17-L17)*3.23%,-1) -> 0 | Z17: =ROUNDUP(Y17*8.51%,-1) -> 0 | AA17: 0 | AB17: 0 | AC17: =SUM(W17:AB17) -> 0
E18: 12월 | F18: =F13 -> 0 | O18: - | Q18: =ROUND((F17+T17)*1/209*1.5,-1) -> 0 | R18: =Q18*20*2 -> 0 | S18: =Q18*5 -> 0 | U18: =SUM(F18,M18,O18,R18,T18,S18) -> 0 | W18: =ROUNDUP(U18*1/12,-1) -> 0 | X18: =ROUND(U18*4.5%,-1) -> 0 | Y18: =ROUNDUP((U18-L18)*3.23%,-1) -> 0 | Z18: =ROUNDUP(Y18*8.51%,-1) -> 0 | AA18: 0 | AB18: 0 | AC18: =SUM(W18:AB18) -> 0
A19: 2 | B19: 사회재활교사 | C19: 10 | D19: 1 | E19: 소계 | F19: =SUM(F20:F31) -> 33888000 | G19: =SUM(G20:G31) -> 0 | H19: =SUM(H20:H31) -> 0 | I19: =SUM(I20:I31) -> 0 | J19: =SUM(J20:J31) -> 0 | K19: =SUM(K20:K31) -> 0 | L19: =SUM(L20:L31) -> 0 | M19: =SUM(M20:M31) -> 3388800 | ... P19: =SUM(P20:P31) -> 0 | R19: =SUM(R20:R31) -> 4864800 | S19: =SUM(S20:S31) -> 0 | T19: =SUM(T20:T31) -> 0 | U19: =SUM(U20:U31) -> 42861600 | W19: =SUM(W20:W31) -> 3571840 | X19: =SUM(X20:X31) -> 1928750 | Y19: =SUM(Y20:Y31) -> 1429520 | Z19: =SUM(Z20:Z31) -> 146580 | AA19: =SUM(AA20:AA31) -> 450060 | AB19: =SUM(AB20:AB31) -> 339850 | AC19: =SUM(AC20:AC31) -> 7866600
B20: A | C20: 10 | E20: 1월 | F20: 2824000 | M20: - | O20: 60000 | U20: =SUM(F20,M20,O20,R20,T20,S20) -> 2884000 | W20: =ROUNDUP(U20*1/12,-1) -> 240340 | X20: =ROUND(U20*4.5%,-1) -> 129780 | Y20: =ROUNDUP((U20-L20)*6.67%*1/2,-1) -> 96190 | Z20: =ROUNDUP(Y20*10.25%,-1) -> 9860 | AA20: =ROUND(U20*1.05%,-1) -> 30280 | AB20: =ROUND(U20*0.793%,-1) -> 22870 | AC20: =SUM(W20:AB20) -> 529320
E21: 2월 | F21: =F20 -> 2824000 | M21: =F21*60% -> 1694400 | O21: =O20 -> 60000 | Q21: =ROUND((F20+T20)*1/209*1.5,-1) -> 20270 | R21: =Q21*20 -> 405400 | S21: 0 | U21: =SUM(F21,M21,O21,R21,T21,S21) -> 4983800 | W21: =ROUNDUP((T21+U21)*1/12,-1) -> 415320 | X21: =ROUND(U21*4.5%,-1) -> 224270 | Y21: =ROUNDUP((U21-L21)*6.67%*1/2,-1) -> 166210 | Z21: =ROUNDUP(Y21*10.25%,-1) -> 17040 | AA21: =ROUND(U21*1.05%,-1) -> 52330 | AB21: =ROUND(U21*0.793%,-1) -> 39520 | AC21: =SUM(W21:AB21) -> 914690
E22: 3월 | F22: =F20 -> 2824000 | O22: =O21 -> 60000 | Q22: =ROUND((F21+T21)*1/209*1.5,-1) -> 20270 | R22: =Q22*20 -> 405400 | S22: 0 | U22: =SUM(F22,M22,O22,R22,T22,S22) -> 3289400 | W22: =ROUNDUP(U22*1/12,-1) -> 274120 | X22: =ROUND(U22*4.5%,-1) -> 148020 | Y22: =ROUNDUP((U22-L22)*6.67%*1/2,-1) -> 109710 | Z22: =ROUNDUP(Y22*10.25%,-1) -> 11250 | AA22: =ROUND(U22*1.05%,-1) -> 34540 | AB22: =ROUND(U22*0.793%,-1) -> 26080 | AC22: =SUM(W22:AB22) -> 603720
E23: 4월 | F23: =F20 -> 2824000 | O23: =O22 -> 60000 | Q23: =ROUND((F22+T22)*1/209*1.5,-1) -> 20270 | R23: =Q23*20 -> 405400 | S23: 0 | U23: =SUM(F23,M23,O23,R23,T23,S23) -> 3289400 | W23: =ROUNDUP(U23*1/12,-1) -> 274120 | X23: =ROUND(U23*4.5%,-1) -> 148020 | Y23: =ROUNDUP((U23-L23)*6.67%*1/2,-1) -> 109710 | Z23: =ROUNDUP(Y23*10.25%,-1) -> 11250 | AA23: =ROUND(U23*1.05%,-1) -> 34540 | AB23: =ROUND(U23*0.793%,-1) -> 26080 | AC23: =SUM(W23:AB23) -> 603720
E24: 5월 | F24: =F23 -> 2824000 | O24: =O23 -> 60000 | Q24: =ROUND((F23+T23)*1/209*1.5,-1) -> 20270 | R24: =Q24*20 -> 405400 | S24: 0 | U24: =SUM(F24,M24,O24,R24,T24,S24) -> 3289400 | W24: =ROUNDUP(U24*1/12,-1) -> 274120 | X24: =ROUND(U24*4.5%,-1) -> 148020 | Y24: =ROUNDUP((U24-L24)*6.67%*1/2,-1) -> 109710 | Z24: =ROUNDUP(Y24*10.25%,-1) -> 11250 | AA24: =ROUND(U24*1.05%,-1) -> 34540 | AB24: =ROUND(U24*0.793%,-1) -> 26080 | AC24: =SUM(W24:AB24) -> 603720
E25: 6월 | F25: =F24 -> 2824000 | O25: =O24 -> 60000 | Q25: =ROUND((F24+T24)*1/209*1.5,-1) -> 20270 | R25: =Q25*20 -> 405400 | S25: 0 | U25: =SUM(F25,M25,O25,R25,T25,S25) -> 3289400 | W25: =ROUNDUP(U25*1/12,-1) -> 274120 | X25: =ROUND(U25*4.5%,-1) -> 148020 | Y25: =ROUNDUP((U25-L25)*6.67%*1/2,-1) -> 109710 | Z25: =ROUNDUP(Y25*10.25%,-1) -> 11250 | AA25: =ROUND(U25*1.05%,-1) -> 34540 | AB25: =ROUND(U25*0.793%,-1) -> 26080 | AC25: =SUM(W25:AB25) -> 603720
E26: 7월 | F26: =F25 -> 2824000 | O26: =O25 -> 60000 | Q26: =ROUND((F25+T25)*1/209*1.5,-1) -> 20270 | R26: =Q26*20 -> 405400 | S26: 0 | U26: =SUM(F26,M26,O26,R26,T26,S26) -> 3289400 | W26: =ROUNDUP(U26*1/12,-1) -> 274120 | X26: =ROUND(U26*4.5%,-1) -> 148020 | Y26: =ROUNDUP((U26-L26)*6.67%*1/2,-1) -> 109710 | Z26: =ROUNDUP(Y26*10.25%,-1) -> 11250 | AA26: =ROUND(U26*1.05%,-1) -> 34540 | AB26: =ROUND(U26*0.793%,-1) -> 26080 | AC26: =SUM(W26:AB26) -> 603720
E27: 8월 | F27: =F26 -> 2824000 | O27: =O26 -> 60000 | Q27: =ROUND((F26+T26)*1/209*1.5,-1) -> 20270 | R27: =Q27*20 -> 405400 | S27: 0 | U27: =SUM(F27,M27,O27,R27,T27,S27) -> 3289400 | W27: =ROUNDUP(U27*1/12,-1) -> 274120 | X27: =ROUND(U27*4.5%,-1) -> 148020 | Y27: =ROUNDUP((U27-L27)*6.67%*1/2,-1) -> 109710 | Z27: =ROUNDUP(Y27*10.25%,-1) -> 11250 | AA27: =ROUND(U27*1.05%,-1) -> 34540 | AB27: =ROUND(U27*0.793%,-1) -> 26080 | AC27: =SUM(W27:AB27) -> 603720
E28: 9월 | F28: =F27 -> 2824000 | M28: =F28*60% -> 1694400 | O28: =O27 -> 60000 | Q28: =ROUND((F27+T27)*1/209*1.5,-1) -> 20270 | R28: =Q28*20 -> 405400 | S28: 0 | U28: =SUM(F28,M28,O28,R28,T28,S28) -> 4983800 | W28: =ROUNDUP(U28*1/12,-1) -> 415320 | X28: =ROUND(U28*4.5%,-1) -> 224270 | Y28: =ROUNDUP((U28-L28)*6.67%*1/2,-1) -> 166210 | Z28: =ROUNDUP(Y28*10.25%,-1) -> 17040 | AA28: =ROUND(U28*1.05%,-1) -> 52330 | AB28: =ROUND(U28*0.793%,-1) -> 39520 | AC28: =SUM(W28:AB28) -> 914690
E29: 10월 | F29: =F27 -> 2824000 | O29: =O28 -> 60000 | Q29: =ROUND((F28+T28)*1/209*1.5,-1) -> 20270 | R29: =Q29*20 -> 405400 | S29: 0 | U29: =SUM(F29,M29,O29,R29,T29,S29) -> 3289400 | W29: =ROUNDUP(U29*1/12,-1) -> 274120 | X29: =ROUND(U29*4.5%,-1) -> 148020 | Y29: =ROUNDUP((U29-L29)*6.67%*1/2,-1) -> 109710 | Z29: =ROUNDUP(Y29*10.25%,-1) -> 11250 | AA29: =ROUND(U29*1.05%,-1) -> 34540 | AB29: =ROUND(U29*0.793%,-1) -> 26080 | AC29: =SUM(W29:AB29) -> 603720
E30: 11월 | F30: =F29 -> 2824000 | O30: =O29 -> 60000 | Q30: =ROUND((F29+T29)*1/209*1.5,-1) -> 20270 | R30: =Q30*20 -> 405400 | S30: 0 | U30: =SUM(F30,M30,O30,R30,T30,S30) -> 3289400 | W30: =ROUNDUP(U30*1/12,-1) -> 274120 | X30: =ROUND(U30*4.5%,-1) -> 148020 | Y30: =ROUNDUP((U30-L30)*6.67%*1/2,-1) -> 109710 | Z30: =ROUNDUP(Y30*10.25%,-1) -> 11250 | AA30: =ROUND(U30*1.05%,-1) -> 34540 | AB30: =ROUND(U30*0.793%,-1) -> 26080 | AC30: =SUM(W30:AB30) -> 603720
E31: 12월 | F31: =F30 -> 2824000 | O31: =O30 -> 60000 | Q31: =ROUND((F30+T30)*1/209*1.5,-1) -> 20270 | R31: =Q31*20*2 -> 810800 | S31: 0 | U31: =SUM(F31,M31,O31,R31,T31,S31) -> 3694800 | W31: =ROUNDUP(U31*1/12,-1) -> 307900 | X31: =ROUND(U31*4.5%,-1) -> 166270 | Y31: =ROUNDUP((U31-L31)*6.67%*1/2,-1) -> 123230 | Z31: =ROUNDUP(Y31*10.25%,-1) -> 12640 | AA31: =ROUND(U31*1.05%,-1) -> 38800 | AB31: =ROUND(U31*0.793%,-1) -> 29300 | AC31: =SUM(W31:AB31) -> 678140
A32: 3 | B32: 사회재활교사 | C32: 10 | D32: 1 | E32: 소계 | F32: =SUM(F33:F44) -> 33888000 | G32: =SUM(G33:G44) -> 0 | H32: =SUM(H33:H44) -> 0 | I32: =SUM(I33:I44) -> 0 | J32: =SUM(J33:J44) -> 0 | K32: =SUM(K33:K44) -> 0 | L32: =SUM(L33:L44) -> 0 | M32: =SUM(M33:M44) -> 3388800 | ... P32: =SUM(P33:P44) -> 0 | R32: =SUM(R33:R44) -> 4864800 | S32: =SUM(S33:S44) -> 0 | T32: =SUM(T33:T44) -> 0 | U32: =SUM(U33:U44) -> 42861600 | W32: =SUM(W33:W44) -> 3571840 | X32: =SUM(X33:X44) -> 1928750 | Y32: =SUM(Y33:Y44) -> 1429520 | Z32: =SUM(Z33:Z44) -> 146580 | AA32: =SUM(AA33:AA44) -> 450060 | AB32: =SUM(AB33:AB44) -> 339850 | AC32: =SUM(AC33:AC44) -> 7866600
B33: B | C33: 10 | E33: 1월 | F33: 2824000 | M33: - | O33: 60000 | U33: =SUM(F33,M33,O33,R33,T33,S33) -> 2884000 | W33: =ROUNDUP(U33*1/12,-1) -> 240340 | X33: =ROUND(U33*4.5%,-1) -> 129780 | Y33: =ROUNDUP((U33-L33)*6.67%*1/2,-1) -> 96190 | Z33: =ROUNDUP(Y33*10.25%,-1) -> 9860 | AA33: =ROUND(U33*1.05%,-1) -> 30280 | AB33: =ROUND(U33*0.793%,-1) -> 22870 | AC33: =SUM(W33:AB33) -> 529320
E34: 2월 | F34: =F33 -> 2824000 | M34: =F34*60% -> 1694400 | O34: =O33 -> 60000 | Q34: =ROUND((F33+T33)*1/209*1.5,-1) -> 20270 | R34: =Q34*20 -> 405400 | S34: 0 | U34: =SUM(F34,M34,O34,R34,T34,S34) -> 4983800 | W34: =ROUNDUP((T34+U34)*1/12,-1) -> 415320 | X34: =ROUND(U34*4.5%,-1) -> 224270 | Y34: =ROUNDUP((U34-L34)*6.67%*1/2,-1) -> 166210 | Z34: =ROUNDUP(Y34*10.25%,-1) -> 17040 | AA34: =ROUND(U34*1.05%,-1) -> 52330 | AB34: =ROUND(U34*0.793%,-1) -> 39520 | AC34: =SUM(W34:AB34) -> 914690
E35: 3월 | F35: =F33 -> 2824000 | O35: =O33 -> 60000 | Q35: =ROUND((F34+T34)*1/209*1.5,-1) -> 20270 | R35: =Q35*20 -> 405400 | S35: 0 | U35: =SUM(F35,M35,O35,R35,T35,S35) -> 3289400 | W35: =ROUNDUP(U35*1/12,-1) -> 274120 | X35: =ROUND(U35*4.5%,-1) -> 148020 | Y35: =ROUNDUP((U35-L35)*6.67%*1/2,-1) -> 109710 | Z35: =ROUNDUP(Y35*10.25%,-1) -> 11250 | AA35: =ROUND(U35*1.05%,-1) -> 34540 | AB35: =ROUND(U35*0.793%,-1) -> 26080 | AC35: =SUM(W35:AB35) -> 603720
E36: 4월 | F36: =F33 -> 2824000 | O36: =O33 -> 60000 | Q36: =ROUND((F35+T35)*1/209*1.5,-1) -> 20270 | R36: =Q36*20 -> 405400 | S36: 0 | U36: =SUM(F36,M36,O36,R36,T36,S36) -> 3289400 | W36: =ROUNDUP(U36*1/12,-1) -> 274120 | X36: =ROUND(U36*4.5%,-1) -> 148020 | Y36: =ROUNDUP((U36-L36)*6.67%*1/2,-1) -> 109710 | Z36: =ROUNDUP(Y36*10.25%,-1) -> 11250 | AA36: =ROUND(U36*1.05%,-1) -> 34540 | AB36: =ROUND(U36*0.793%,-1) -> 26080 | AC36: =SUM(W36:AB36) -> 603720
E37: 5월 | F37: =F33 -> 2824000 | O37: =O33 -> 60000 | Q37: =ROUND((F36+T36)*1/209*1.5,-1) -> 20270 | R37: =Q37*20 -> 405400 | S37: 0 | U37: =SUM(F37,M37,O37,R37,T37,S37) -> 3289400 | W37: =ROUNDUP(U37*1/12,-1) -> 274120 | X37: =ROUND(U37*4.5%,-1) -> 148020 | Y37: =ROUNDUP((U37-L37)*6.67%*1/2,-1) -> 109710 | Z37: =ROUNDUP(Y37*10.25%,-1) -> 11250 | AA37: =ROUND(U37*1.05%,-1) -> 34540 | AB37: =ROUND(U37*0.793%,-1) -> 26080 | AC37: =SUM(W37:AB37) -> 603720
E38: 6월 | F38: =F37 -> 2824000 | O38: =O33 -> 60000 | Q38: =ROUND((F37+T37)*1/209*1.5,-1) -> 20270 | R38: =Q38*20 -> 405400 | S38: 0 | U38: =SUM(F38,M38,O38,R38,T38,S38) -> 3289400 | W38: =ROUNDUP(U38*1/12,-1) -> 274120 | X38: =ROUND(U38*4.5%,-1) -> 148020 | Y38: =ROUNDUP((U38-L38)*6.67%*1/2,-1) -> 109710 | Z38: =ROUNDUP(Y38*10.25%,-1) -> 11250 | AA38: =ROUND(U38*1.05%,-1) -> 34540 | AB38: =ROUND(U38*0.793%,-1) -> 26080 | AC38: =SUM(W38:AB38) -> 603720
E39: 7월 | F39: =F38 -> 2824000 | O39: =O38 -> 60000 | Q39: =ROUND((F38+T38)*1/209*1.5,-1) -> 20270 | R39: =Q39*20 -> 405400 | S39: 0 | U39: =SUM(F39,M39,O39,R39,T39,S39) -> 3289400 | W39: =ROUNDUP(U39*1/12,-1) -> 274120 | X39: =ROUND(U39*4.5%,-1) -> 148020 | Y39: =ROUNDUP((U39-L39)*6.67%*1/2,-1) -> 109710 | Z39: =ROUNDUP(Y39*10.25%,-1) -> 11250 | AA39: =ROUND(U39*1.05%,-1) -> 34540 | AB39: =ROUND(U39*0.793%,-1) -> 26080 | AC39: =SUM(W39:AB39) -> 603720
E40: 8월 | F40: =F39 -> 2824000 | O40: =O39 -> 60000 | Q40: =ROUND((F39+T39)*1/209*1.5,-1) -> 20270 | R40: =Q40*20 -> 405400 | S40: 0 | U40: =SUM(F40,M40,O40,R40,T40,S40) -> 3289400 | W40: =ROUNDUP(U40*1/12,-1) -> 274120 | X40: =ROUND(U40*4.5%,-1) -> 148020 | Y40: =ROUNDUP((U40-L40)*6.67%*1/2,-1) -> 109710 | Z40: =ROUNDUP(Y40*10.25%,-1) -> 11250 | AA40: =ROUND(U40*1.05%,-1) -> 34540 | AB40: =ROUND(U40*0.793%,-1) -> 26080 | AC40: =SUM(W40:AB40) -> 603720
E41: 9월 | F41: =F39 -> 2824000 | M41: =F41*60% -> 1694400 | O41: =O39 -> 60000 | Q41: =ROUND((F40+T40)*1/209*1.5,-1) -> 20270 | R41: =Q41*20 -> 405400 | S41: 0 | U41: =SUM(F41,M41,O41,R41,T41,S41) -> 4983800 | W41: =ROUNDUP(U41*1/12,-1) -> 415320 | X41: =ROUND(U41*4.5%,-1) -> 224270 | Y41: =ROUNDUP((U41-L41)*6.67%*1/2,-1) -> 166210 | Z41: =ROUNDUP(Y41*10.25%,-1) -> 17040 | AA41: =ROUND(U41*1.05%,-1) -> 52330 | AB41: =ROUND(U41*0.793%,-1) -> 39520 | AC41: =SUM(W41:AB41) -> 914690
E42: 10월 | F42: =F40 -> 2824000 | O42: =O39 -> 60000 | Q42: =ROUND((F41+T41)*1/209*1.5,-1) -> 20270 | R42: =Q42*20 -> 405400 | S42: 0 | U42: =SUM(F42,M42,O42,R42,T42,S42) -> 3289400 | W42: =ROUNDUP(U42*1/12,-1) -> 274120 | X42: =ROUND(U42*4.5%,-1) -> 148020 | Y42: =ROUNDUP((U42-L42)*6.67%*1/2,-1) -> 109710 | Z42: =ROUNDUP(Y42*10.25%,-1) -> 11250 | AA42: =ROUND(U42*1.05%,-1) -> 34540 | AB42: =ROUND(U42*0.793%,-1) -> 26080 | AC42: =SUM(W42:AB42) -> 603720
E43: 11월 | F43: =F42 -> 2824000 | O43: =O39 -> 60000 | Q43: =ROUND((F42+T42)*1/209*1.5,-1) -> 20270 | R43: =Q43*20 -> 405400 | S43: 0 | U43: =SUM(F43,M43,O43,R43,T43,S43) -> 3289400 | W43: =ROUNDUP(U43*1/12,-1) -> 274120 | X43: =ROUND(U43*4.5%,-1) -> 148020 | Y43: =ROUNDUP((U43-L43)*6.67%*1/2,-1) -> 109710 | Z43: =ROUNDUP(Y43*10.25%,-1) -> 11250 | AA43: =ROUND(U43*1.05%,-1) -> 34540 | AB43: =ROUND(U43*0.793%,-1) -> 26080 | AC43: =SUM(W43:AB43) -> 603720
E44: 12월 | F44: =F43 -> 2824000 | O44: =O39 -> 60000 | Q44: =ROUND((F43+T43)*1/209*1.5,-1) -> 20270 | R44: =Q44*20*2 -> 810800 | S44: 0 | U44: =SUM(F44,M44,O44,R44,T44,S44) -> 3694800 | W44: =ROUNDUP(U44*1/12,-1) -> 307900 | X44: =ROUND(U44*4.5%,-1) -> 166270 | Y44: =ROUNDUP((U44-L44)*6.67%*1/2,-1) -> 123230 | Z44: =ROUNDUP(Y44*10.25%,-1) -> 12640 | AA44: =ROUND(U44*1.05%,-1) -> 38800 | AB44: =ROUND(U44*0.793%,-1) -> 29300 | AC44: =SUM(W44:AB44) -> 678140
A45: 4 | B45: 사회재활교사 | C45: 10 | D45: 1 | E45: 소계 | F45: =SUM(F46:F57) -> 33888000 | G45: =SUM(G46:G57) -> 0 | H45: =SUM(H46:H57) -> 0 | I45: =SUM(I46:I57) -> 0 | J45: =SUM(J46:J57) -> 0 | K45: =SUM(K46:K57) -> 0 | L45: =SUM(L46:L57) -> 0 | M45: =SUM(M46:M57) -> 3388800 | ... P45: =SUM(P46:P57) -> 0 | R45: =SUM(R46:R57) -> 4864800 | S45: =SUM(S46:S57) -> 0 | T45: =SUM(T46:T57) -> 0 | U45: =SUM(U46:U57) -> 42861600 | W45: =SUM(W46:W57) -> 3571840 | X45: =SUM(X46:X57) -> 1928750 | Y45: =SUM(Y46:Y57) -> 1429520 | Z45: =SUM(Z46:Z57) -> 146580 | AA45: =SUM(AA46:AA57) -> 450060 | AB45: =SUM(AB46:AB57) -> 339850 | AC45: =SUM(AC46:AC57) -> 7866600
B46: C | C46: 10 | E46: 1월 | F46: 2824000 | M46: - | O46: 60000 | U46: =SUM(F46,M46,O46,R46,T46,S46) -> 2884000 | W46: =ROUNDUP(U46*1/12,-1) -> 240340 | X46: =ROUND(U46*4.5%,-1) -> 129780 | Y46: =ROUNDUP((U46-L46)*6.67%*1/2,-1) -> 96190 | Z46: =ROUNDUP(Y46*10.25%,-1) -> 9860 | AA46: =ROUND(U46*1.05%,-1) -> 30280 | AB46: =ROUND(U46*0.793%,-1) -> 22870 | AC46: =SUM(W46:AB46) -> 529320
E47: 2월 | F47: =F46 -> 2824000 | M47: =F47*60% -> 1694400 | O47: =O46 -> 60000 | Q47: =ROUND((F46+T46)*1/209*1.5,-1) -> 20270 | R47: =Q47*20 -> 405400 | S47: 0 | U47: =SUM(F47,M47,O47,R47,T47,S47) -> 4983800 | W47: =ROUNDUP((T47+U47)*1/12,-1) -> 415320 | X47: =ROUND(U47*4.5%,-1) -> 224270 | Y47: =ROUNDUP((U47-L47)*6.67%*1/2,-1) -> 166210 | Z47: =ROUNDUP(Y47*10.25%,-1) -> 17040 | AA47: =ROUND(U47*1.05%,-1) -> 52330 | AB47: =ROUND(U47*0.793%,-1) -> 39520 | AC47: =SUM(W47:AB47) -> 914690
E48: 3월 | F48: =F46 -> 2824000 | O48: =O46 -> 60000 | Q48: =ROUND((F47+T47)*1/209*1.5,-1) -> 20270 | R48: =Q48*20 -> 405400 | S48: 0 | U48: =SUM(F48,M48,O48,R48,T48,S48) -> 3289400 | W48: =ROUNDUP(U48*1/12,-1) -> 274120 | X48: =ROUND(U48*4.5%,-1) -> 148020 | Y48: =ROUNDUP((U48-L48)*6.67%*1/2,-1) -> 109710 | Z48: =ROUNDUP(Y48*10.25%,-1) -> 11250 | AA48: =ROUND(U48*1.05%,-1) -> 34540 | AB48: =ROUND(U48*0.793%,-1) -> 26080 | AC48: =SUM(W48:AB48) -> 603720
E49: 4월 | F49: =F48 -> 2824000 | O49: =O46 -> 60000 | Q49: =ROUND((F48+T48)*1/209*1.5,-1) -> 20270 | R49: =Q49*20 -> 405400 | S49: 0 | U49: =SUM(F49,M49,O49,R49,T49,S49) -> 3289400 | W49: =ROUNDUP(U49*1/12,-1) -> 274120 | X49: =ROUND(U49*4.5%,-1) -> 148020 | Y49: =ROUNDUP((U49-L49)*6.67%*1/2,-1) -> 109710 | Z49: =ROUNDUP(Y49*10.25%,-1) -> 11250 | AA49: =ROUND(U49*1.05%,-1) -> 34540 | AB49: =ROUND(U49*0.793%,-1) -> 26080 | AC49: =SUM(W49:AB49) -> 603720
E50: 5월 | F50: =F49 -> 2824000 | O50: =O46 -> 60000 | Q50: =ROUND((F49+T49)*1/209*1.5,-1) -> 20270 | R50: =Q50*20 -> 405400 | S50: 0 | U50: =SUM(F50,M50,O50,R50,T50,S50) -> 3289400 | W50: =ROUNDUP(U50*1/12,-1) -> 274120 | X50: =ROUND(U50*4.5%,-1) -> 148020 | Y50: =ROUNDUP((U50-L50)*6.67%*1/2,-1) -> 109710 | Z50: =ROUNDUP(Y50*10.25%,-1) -> 11250 | AA50: =ROUND(U50*1.05%,-1) -> 34540 | AB50: =ROUND(U50*0.793%,-1) -> 26080 | AC50: =SUM(W50:AB50) -> 603720
E51: 6월 | F51: =F50 -> 2824000 | O51: =O46 -> 60000 | Q51: =ROUND((F50+T50)*1/209*1.5,-1) -> 20270 | R51: =Q51*20 -> 405400 | S51: 0 | U51: =SUM(F51,M51,O51,R51,T51,S51) -> 3289400 | W51: =ROUNDUP(U51*1/12,-1) -> 274120 | X51: =ROUND(U51*4.5%,-1) -> 148020 | Y51: =ROUNDUP((U51-L51)*6.67%*1/2,-1) -> 109710 | Z51: =ROUNDUP(Y51*10.25%,-1) -> 11250 | AA51: =ROUND(U51*1.05%,-1) -> 34540 | AB51: =ROUND(U51*0.793%,-1) -> 26080 | AC51: =SUM(W51:AB51) -> 603720
E52: 7월 | F52: =F51 -> 2824000 | O52: =O51 -> 60000 | Q52: =ROUND((F51+T51)*1/209*1.5,-1) -> 20270 | R52: =Q52*20 -> 405400 | S52: 0 | U52: =SUM(F52,M52,O52,R52,T52,S52) -> 3289400 | W52: =ROUNDUP(U52*1/12,-1) -> 274120 | X52: =ROUND(U52*4.5%,-1) -> 148020 | Y52: =ROUNDUP((U52-L52)*6.67%*1/2,-1) -> 109710 | Z52: =ROUNDUP(Y52*10.25%,-1) -> 11250 | AA52: =ROUND(U52*1.05%,-1) -> 34540 | AB52: =ROUND(U52*0.793%,-1) -> 26080 | AC52: =SUM(W52:AB52) -> 603720
E53: 8월 | F53: =F52 -> 2824000 | O53: =O52 -> 60000 | Q53: =ROUND((F52+T52)*1/209*1.5,-1) -> 20270 | R53: =Q53*20 -> 405400 | S53: 0 | U53: =SUM(F53,M53,O53,R53,T53,S53) -> 3289400 | W53: =ROUNDUP(U53*1/12,-1) -> 274120 | X53: =ROUND(U53*4.5%,-1) -> 148020 | Y53: =ROUNDUP((U53-L53)*6.67%*1/2,-1) -> 109710 | Z53: =ROUNDUP(Y53*10.25%,-1) -> 11250 | AA53: =ROUND(U53*1.05%,-1) -> 34540 | AB53: =ROUND(U53*0.793%,-1) -> 26080 | AC53: =SUM(W53:AB53) -> 603720
E54: 9월 | F54: =F52 -> 2824000 | M54: =F54*60% -> 1694400 | O54: =O52 -> 60000 | Q54: =ROUND((F53+T53)*1/209*1.5,-1) -> 20270 | R54: =Q54*20 -> 405400 | S54: 0 | U54: =SUM(F54,M54,O54,R54,T54,S54) -> 4983800 | W54: =ROUNDUP(U54*1/12,-1) -> 415320 | X54: =ROUND(U54*4.5%,-1) -> 224270 | Y54: =ROUNDUP((U54-L54)*6.67%*1/2,-1) -> 166210 | Z54: =ROUNDUP(Y54*10.25%,-1) -> 17040 | AA54: =ROUND(U54*1.05%,-1) -> 52330 | AB54: =ROUND(U54*0.793%,-1) -> 39520 | AC54: =SUM(W54:AB54) -> 914690
E55: 10월 | F55: =F52 -> 2824000 | O55: =O52 -> 60000 | Q55: =ROUND((F54+T54)*1/209*1.5,-1) -> 20270 | R55: =Q55*20 -> 405400 | S55: 0 | U55: =SUM(F55,M55,O55,R55,T55,S55) -> 3289400 | W55: =ROUNDUP(U55*1/12,-1) -> 274120 | X55: =ROUND(U55*4.5%,-1) -> 148020 | Y55: =ROUNDUP((U55-L55)*6.67%*1/2,-1) -> 109710 | Z55: =ROUNDUP(Y55*10.25%,-1) -> 11250 | AA55: =ROUND(U55*1.05%,-1) -> 34540 | AB55: =ROUND(U55*0.793%,-1) -> 26080 | AC55: =SUM(W55:AB55) -> 603720
E56: 11월 | F56: =F52 -> 2824000 | O56: =O52 -> 60000 | Q56: =ROUND((F55+T55)*1/209*1.5,-1) -> 20270 | R56: =Q56*20 -> 405400 | S56: 0 | U56: =SUM(F56,M56,O56,R56,T56,S56) -> 3289400 | W56: =ROUNDUP(U56*1/12,-1) -> 274120 | X56: =ROUND(U56*4.5%,-1) -> 148020 | Y56: =ROUNDUP((U56-L56)*6.67%*1/2,-1) -> 109710 | Z56: =ROUNDUP(Y56*10.25%,-1) -> 11250 | AA56: =ROUND(U56*1.05%,-1) -> 34540 | AB56: =ROUND(U56*0.793%,-1) -> 26080 | AC56: =SUM(W56:AB56) -> 603720
E57: 12월 | F57: =F52 -> 2824000 | O57: =O52 -> 60000 | Q57: =ROUND((F56+T56)*1/209*1.5,-1) -> 20270 | R57: =Q57*20*2 -> 810800 | S57: 0 | U57: =SUM(F57,M57,O57,R57,T57,S57) -> 3694800 | W57: =ROUNDUP(U57*1/12,-1) -> 307900 | X57: =ROUND(U57*4.5%,-1) -> 166270 | Y57: =ROUNDUP((U57-L57)*6.67%*1/2,-1) -> 123230 | Z57: =ROUNDUP(Y57*10.25%,-1) -> 12640 | AA57: =ROUND(U57*1.05%,-1) -> 38800 | AB57: =ROUND(U57*0.793%,-1) -> 29300 | AC57: =SUM(W57:AB57) -> 678140
A58: 5 | B58: 사회재활교사 | C58: 5 | D58: 1 | E58: 소계 | F58: =SUM(F59:F70) -> 27432000 | G58: =SUM(G59:G70) -> 0 | H58: =SUM(H59:H70) -> 0 | I58: =SUM(I59:I70) -> 0 | J58: =SUM(J59:J70) -> 0 | K58: =SUM(K59:K70) -> 0 | L58: =SUM(L59:L70) -> 0 | M58: =SUM(M59:M70) -> 2743200 | ... P58: =SUM(P59:P70) -> 0 | R58: =SUM(R59:R70) -> 3938400 | S58: =SUM(S59:S70) -> 0 | T58: =SUM(T59:T70) -> 0 | U58: =SUM(U59:U70) -> 34833600 | W58: =SUM(W59:W70) -> 2902800 | X58: =SUM(X59:X70) -> 1567520 | Y58: =SUM(Y59:Y70) -> 1161760 | Z58: =SUM(Z59:Z70) -> 119170 | AA58: =SUM(AA59:AA70) -> 365760 | AB58: =SUM(AB59:AB70) -> 276250 | AC58: =SUM(AC59:AC70) -> 6393260
B59: D | C59: 5 | E59: 1월 | F59: 2286000 | M59: - | O59: 60000 | U59: =SUM(F59,M59,O59,R59,T59,S59) -> 2346000 | W59: =ROUNDUP(U59*1/12,-1) -> 195500 | X59: =ROUND(U59*4.5%,-1) -> 105570 | Y59: =ROUNDUP((U59-L59)*6.67%*1/2,-1) -> 78240 | Z59: =ROUNDUP(Y59*10.25%,-1) -> 8020 | AA59: =ROUND(U59*1.05%,-1) -> 24630 | AB59: =ROUND(U59*0.793%,-1) -> 18600 | AC59: =SUM(W59:AB59) -> 430560
E60: 2월 | F60: =F59 -> 2286000 | M60: =F60*60% -> 1371600 | O60: =O59 -> 60000 | Q60: =ROUND((F59+T59)*1/209*1.5,-1) -> 16410 | R60: =Q60*20 -> 328200 | S60: 0 | U60: =SUM(F60,M60,O60,R60,T60,S60) -> 4045800 | W60: =ROUNDUP((T60+U60)*1/12,-1) -> 337150 | X60: =ROUND(U60*4.5%,-1) -> 182060 | Y60: =ROUNDUP((U60-L60)*6.67%*1/2,-1) -> 134930 | Z60: =ROUNDUP(Y60*10.25%,-1) -> 13840 | AA60: =ROUND(U60*1.05%,-1) -> 42480 | AB60: =ROUND(U60*0.793%,-1) -> 32080 | AC60: =SUM(W60:AB60) -> 742540
E61: 3월 | F61: =F59 -> 2286000 | O61: =O60 -> 60000 | Q61: =ROUND((F60+T60)*1/209*1.5,-1) -> 16410 | R61: =Q61*20 -> 328200 | S61: 0 | U61: =SUM(F61,M61,O61,R61,T61,S61) -> 2674200 | W61: =ROUNDUP(U61*1/12,-1) -> 222850 | X61: =ROUND(U61*4.5%,-1) -> 120340 | Y61: =ROUNDUP((U61-L61)*6.67%*1/2,-1) -> 89190 | Z61: =ROUNDUP(Y61*10.25%,-1) -> 9150 | AA61: =ROUND(U61*1.05%,-1) -> 28080 | AB61: =ROUND(U61*0.793%,-1) -> 21210 | AC61: =SUM(W61:AB61) -> 490820
E62: 4월 | F62: =F59 -> 2286000 | O62: =O61 -> 60000 | Q62: =ROUND((F61+T61)*1/209*1.5,-1) -> 16410 | R62: =Q62*20 -> 328200 | S62: 0 | U62: =SUM(F62,M62,O62,R62,T62,S62) -> 2674200 | W62: =ROUNDUP(U62*1/12,-1) -> 222850 | X62: =ROUND(U62*4.5%,-1) -> 120340 | Y62: =ROUNDUP((U62-L62)*6.67%*1/2,-1) -> 89190 | Z62: =ROUNDUP(Y62*10.25%,-1) -> 9150 | AA62: =ROUND(U62*1.05%,-1) -> 28080 | AB62: =ROUND(U62*0.793%,-1) -> 21210 | AC62: =SUM(W62:AB62) -> 490820
E63: 5월 | F63: =F59 -> 2286000 | O63: =O62 -> 60000 | Q63: =ROUND((F62+T62)*1/209*1.5,-1) -> 16410 | R63: =Q63*20 -> 328200 | S63: 0 | U63: =SUM(F63,M63,O63,R63,T63,S63) -> 2674200 | W63: =ROUNDUP(U63*1/12,-1) -> 222850 | X63: =ROUND(U63*4.5%,-1) -> 120340 | Y63: =ROUNDUP((U63-L63)*6.67%*1/2,-1) -> 89190 | Z63: =ROUNDUP(Y63*10.25%,-1) -> 9150 | AA63: =ROUND(U63*1.05%,-1) -> 28080 | AB63: =ROUND(U63*0.793%,-1) -> 21210 | AC63: =SUM(W63:AB63) -> 490820
E64: 6월 | F64: =F59 -> 2286000 | O64: =O63 -> 60000 | Q64: =ROUND((F63+T63)*1/209*1.5,-1) -> 16410 | R64: =Q64*20 -> 328200 | S64: 0 | U64: =SUM(F64,M64,O64,R64,T64,S64) -> 2674200 | W64: =ROUNDUP(U64*1/12,-1) -> 222850 | X64: =ROUND(U64*4.5%,-1) -> 120340 | Y64: =ROUNDUP((U64-L64)*6.67%*1/2,-1) -> 89190 | Z64: =ROUNDUP(Y64*10.25%,-1) -> 9150 | AA64: =ROUND(U64*1.05%,-1) -> 28080 | AB64: =ROUND(U64*0.793%,-1) -> 21210 | AC64: =SUM(W64:AB64) -> 490820
E65: 7월 | F65: =F59 -> 2286000 | O65: =O64 -> 60000 | Q65: =ROUND((F64+T64)*1/209*1.5,-1) -> 16410 | R65: =Q65*20 -> 328200 | S65: 0 | U65: =SUM(F65,M65,O65,R65,T65,S65) -> 2674200 | W65: =ROUNDUP(U65*1/12,-1) -> 222850 | X65: =ROUND(U65*4.5%,-1) -> 120340 | Y65: =ROUNDUP((U65-L65)*6.67%*1/2,-1) -> 89190 | Z65: =ROUNDUP(Y65*10.25%,-1) -> 9150 | AA65: =ROUND(U65*1.05%,-1) -> 28080 | AB65: =ROUND(U65*0.793%,-1) -> 21210 | AC65: =SUM(W65:AB65) -> 490820
E66: 8월 | F66: =F59 -> 2286000 | O66: =O65 -> 60000 | Q66: =ROUND((F65+T65)*1/209*1.5,-1) -> 16410 | R66: =Q66*20 -> 328200 | S66: 0 | U66: =SUM(F66,M66,O66,R66,T66,S66) -> 2674200 | W66: =ROUNDUP(U66*1/12,-1) -> 222850 | X66: =ROUND(U66*4.5%,-1) -> 120340 | Y66: =ROUNDUP((U66-L66)*6.67%*1/2,-1) -> 89190 | Z66: =ROUNDUP(Y66*10.25%,-1) -> 9150 | AA66: =ROUND(U66*1.05%,-1) -> 28080 | AB66: =ROUND(U66*0.793%,-1) -> 21210 | AC66: =SUM(W66:AB66) -> 490820
E67: 9월 | F67: =F59 -> 2286000 | M67: =F67*60% -> 1371600 | O67: =O66 -> 60000 | Q67: =ROUND((F66+T66)*1/209*1.5,-1) -> 16410 | R67: =Q67*20 -> 328200 | S67: 0 | U67: =SUM(F67,M67,O67,R67,T67,S67) -> 4045800 | W67: =ROUNDUP(U67*1/12,-1) -> 337150 | X67: =ROUND(U67*4.5%,-1) -> 182060 | Y67: =ROUNDUP((U67-L67)*6.67%*1/2,-1) -> 134930 | Z67: =ROUNDUP(Y67*10.25%,-1) -> 13840 | AA67: =ROUND(U67*1.05%,-1) -> 42480 | AB67: =ROUND(U67*0.793%,-1) -> 32080 | AC67: =SUM(W67:AB67) -> 742540
E68: 10월 | F68: =F59 -> 2286000 | O68: =O67 -> 60000 | Q68: =ROUND((F67+T67)*1/209*1.5,-1) -> 16410 | R68: =Q68*20 -> 328200 | S68: 0 | U68: =SUM(F68,M68,O68,R68,T68,S68) -> 2674200 | W68: =ROUNDUP(U68*1/12,-1) -> 222850 | X68: =ROUND(U68*4.5%,-1) -> 120340 | Y68: =ROUNDUP((U68-L68)*6.67%*1/2,-1) -> 89190 | Z68: =ROUNDUP(Y68*10.25%,-1) -> 9150 | AA68: =ROUND(U68*1.05%,-1) -> 28080 | AB68: =ROUND(U68*0.793%,-1) -> 21210 | AC68: =SUM(W68:AB68) -> 490820
E69: 11월 | F69: =F68 -> 2286000 | O69: =O68 -> 60000 | Q69: =ROUND((F68+T68)*1/209*1.5,-1) -> 16410 | R69: =Q69*20 -> 328200 | S69: 0 | U69: =SUM(F69,M69,O69,R69,T69,S69) -> 2674200 | W69: =ROUNDUP(U69*1/12,-1) -> 222850 | X69: =ROUND(U69*4.5%,-1) -> 120340 | Y69: =ROUNDUP((U69-L69)*6.67%*1/2,-1) -> 89190 | Z69: =ROUNDUP(Y69*10.25%,-1) -> 9150 | AA69: =ROUND(U69*1.05%,-1) -> 28080 | AB69: =ROUND(U69*0.793%,-1) -> 21210 | AC69: =SUM(W69:AB69) -> 490820
E70: 12월 | F70: =F69 -> 2286000 | O70: =O69 -> 60000 | Q70: =ROUND((F69+T69)*1/209*1.5,-1) -> 16410 | R70: =Q70*20*2 -> 656400 | S70: 0 | U70: =SUM(F70,M70,O70,R70,T70,S70) -> 3002400 | W70: =ROUNDUP(U70*1/12,-1) -> 250200 | X70: =ROUND(U70*4.5%,-1) -> 135110 | Y70: =ROUNDUP((U70-L70)*6.67%*1/2,-1) -> 100140 | Z70: =ROUNDUP(Y70*10.25%,-1) -> 10270 | AA70: =ROUND(U70*1.05%,-1) -> 31530 | AB70: =ROUND(U70*0.793%,-1) -> 23810 | AC70: =SUM(W70:AB70) -> 551060
A71: 6 | B71: 사회재활교사 | C71: 5 | D71: 1 | E71: 소계 | F71: =SUM(F72:F83) -> 27432000 | G71: =SUM(G72:G83) -> 0 | H71: =SUM(H72:H83) -> 0 | I71: =SUM(I72:I83) -> 0 | J71: =SUM(J72:J83) -> 0 | K71: =SUM(K72:K83) -> 0 | L71: =SUM(L72:L83) -> 0 | M71: =SUM(M72:M83) -> 2743200 | ... P71: =SUM(P72:P83) -> 0 | R71: =SUM(R72:R83) -> 3938400 | S71: =SUM(S72:S83) -> 0 | T71: =SUM(T72:T83) -> 0 | U71: =SUM(U72:U83) -> 34833600 | W71: =SUM(W72:W83) -> 2902800 | X71: =SUM(X72:X83) -> 1567520 | Y71: =SUM(Y72:Y83) -> 1161760 | Z71: =SUM(Z72:Z83) -> 119170 | AA71: =SUM(AA72:AA83) -> 365760 | AB71: =SUM(AB72:AB83) -> 276250 | AC71: =SUM(AC72:AC83) -> 6393260
B72: E | C72: 5 | E72: 1월 | F72: 2286000 | M72: - | O72: 60000 | U72: =SUM(F72,M72,O72,R72,T72,S72) -> 2346000 | W72: =ROUNDUP(U72*1/12,-1) -> 195500 | X72: =ROUND(U72*4.5%,-1) -> 105570 | Y72: =ROUNDUP((U72-L72)*6.67%*1/2,-1) -> 78240 | Z72: =ROUNDUP(Y72*10.25%,-1) -> 8020 | AA72: =ROUND(U72*1.05%,-1) -> 24630 | AB72: =ROUND(U72*0.793%,-1) -> 18600 | AC72: =SUM(W72:AB72) -> 430560
E73: 2월 | F73: =F72 -> 2286000 | M73: =F73*60% -> 1371600 | O73: =O72 -> 60000 | Q73: =ROUND((F72+T72)*1/209*1.5,-1) -> 16410 | R73: =Q73*20 -> 328200 | S73: 0 | U73: =SUM(F73,M73,O73,R73,T73,S73) -> 4045800 | W73: =ROUNDUP((T73+U73)*1/12,-1) -> 337150 | X73: =ROUND(U73*4.5%,-1) -> 182060 | Y73: =ROUNDUP((U73-L73)*6.67%*1/2,-1) -> 134930 | Z73: =ROUNDUP(Y73*10.25%,-1) -> 13840 | AA73: =ROUND(U73*1.05%,-1) -> 42480 | AB73: =ROUND(U73*0.793%,-1) -> 32080 | AC73: =SUM(W73:AB73) -> 742540
E74: 3월 | F74: =F73 -> 2286000 | O74: =O73 -> 60000 | Q74: =ROUND((F73+T73)*1/209*1.5,-1) -> 16410 | R74: =Q74*20 -> 328200 | S74: 0 | U74: =SUM(F74,M74,O74,R74,T74,S74) -> 2674200 | W74: =ROUNDUP(U74*1/12,-1) -> 222850 | X74: =ROUND(U74*4.5%,-1) -> 120340 | Y74: =ROUNDUP((U74-L74)*6.67%*1/2,-1) -> 89190 | Z74: =ROUNDUP(Y74*10.25%,-1) -> 9150 | AA74: =ROUND(U74*1.05%,-1) -> 28080 | AB74: =ROUND(U74*0.793%,-1) -> 21210 | AC74: =SUM(W74:AB74) -> 490820
E75: 4월 | F75: =F74 -> 2286000 | O75: =O74 -> 60000 | Q75: =ROUND((F74+T74)*1/209*1.5,-1) -> 16410 | R75: =Q75*20 -> 328200 | S75: 0 | U75: =SUM(F75,M75,O75,R75,T75,S75) -> 2674200 | W75: =ROUNDUP(U75*1/12,-1) -> 222850 | X75: =ROUND(U75*4.5%,-1) -> 120340 | Y75: =ROUNDUP((U75-L75)*6.67%*1/2,-1) -> 89190 | Z75: =ROUNDUP(Y75*10.25%,-1) -> 9150 | AA75: =ROUND(U75*1.05%,-1) -> 28080 | AB75: =ROUND(U75*0.793%,-1) -> 21210 | AC75: =SUM(W75:AB75) -> 490820
E76: 5월 | F76: =F75 -> 2286000 | O76: =O75 -> 60000 | Q76: =ROUND((F75+T75)*1/209*1.5,-1) -> 16410 | R76: =Q76*20 -> 328200 | S76: 0 | U76: =SUM(F76,M76,O76,R76,T76,S76) -> 2674200 | W76: =ROUNDUP(U76*1/12,-1) -> 222850 | X76: =ROUND(U76*4.5%,-1) -> 120340 | Y76: =ROUNDUP((U76-L76)*6.67%*1/2,-1) -> 89190 | Z76: =ROUNDUP(Y76*10.25%,-1) -> 9150 | AA76: =ROUND(U76*1.05%,-1) -> 28080 | AB76: =ROUND(U76*0.793%,-1) -> 21210 | AC76: =SUM(W76:AB76) -> 490820
E77: 6월 | F77: =F76 -> 2286000 | O77: =O76 -> 60000 | Q77: =ROUND((F76+T76)*1/209*1.5,-1) -> 16410 | R77: =Q77*20 -> 328200 | S77: 0 | U77: =SUM(F77,M77,O77,R77,T77,S77) -> 2674200 | W77: =ROUNDUP(U77*1/12,-1) -> 222850 | X77: =ROUND(U77*4.5%,-1) -> 120340 | Y77: =ROUNDUP((U77-L77)*6.67%*1/2,-1) -> 89190 | Z77: =ROUNDUP(Y77*10.25%,-1) -> 9150 | AA77: =ROUND(U77*1.05%,-1) -> 28080 | AB77: =ROUND(U77*0.793%,-1) -> 21210 | AC77: =SUM(W77:AB77) -> 490820
E78: 7월 | F78: =F77 -> 2286000 | O78: =O77 -> 60000 | Q78: =ROUND((F77+T77)*1/209*1.5,-1) -> 16410 | R78: =Q78*20 -> 328200 | S78: 0 | U78: =SUM(F78,M78,O78,R78,T78,S78) -> 2674200 | W78: =ROUNDUP(U78*1/12,-1) -> 222850 | X78: =ROUND(U78*4.5%,-1) -> 120340 | Y78: =ROUNDUP((U78-L78)*6.67%*1/2,-1) -> 89190 | Z78: =ROUNDUP(Y78*10.25%,-1) -> 9150 | AA78: =ROUND(U78*1.05%,-1) -> 28080 | AB78: =ROUND(U78*0.793%,-1) -> 21210 | AC78: =SUM(W78:AB78) -> 490820
E79: 8월 | F79: =F78 -> 2286000 | O79: =O78 -> 60000 | Q79: =ROUND((F78+T78)*1/209*1.5,-1) -> 16410 | R79: =Q79*20 -> 328200 | S79: 0 | U79: =SUM(F79,M79,O79,R79,T79,S79) -> 2674200 | W79: =ROUNDUP(U79*1/12,-1) -> 222850 | X79: =ROUND(U79*4.5%,-1) -> 120340 | Y79: =ROUNDUP((U79-L79)*6.67%*1/2,-1) -> 89190 | Z79: =ROUNDUP(Y79*10.25%,-1) -> 9150 | AA79: =ROUND(U79*1.05%,-1) -> 28080 | AB79: =ROUND(U79*0.793%,-1) -> 21210 | AC79: =SUM(W79:AB79) -> 490820
E80: 9월 | F80: =F79 -> 2286000 | M80: =F80*60% -> 1371600 | O80: =O79 -> 60000 | Q80: =ROUND((F79+T79)*1/209*1.5,-1) -> 16410 | R80: =Q80*20 -> 328200 | S80: 0 | U80: =SUM(F80,M80,O80,R80,T80,S80) -> 4045800 | W80: =ROUNDUP(U80*1/12,-1) -> 337150 | X80: =ROUND(U80*4.5%,-1) -> 182060 | Y80: =ROUNDUP((U80-L80)*6.67%*1/2,-1) -> 134930 | Z80: =ROUNDUP(Y80*10.25%,-1) -> 13840 | AA80: =ROUND(U80*1.05%,-1) -> 42480 | AB80: =ROUND(U80*0.793%,-1) -> 32080 | AC80: =SUM(W80:AB80) -> 742540
E81: 10월 | F81: =F80 -> 2286000 | O81: =O80 -> 60000 | Q81: =ROUND((F80+T80)*1/209*1.5,-1) -> 16410 | R81: =Q81*20 -> 328200 | S81: 0 | U81: =SUM(F81,M81,O81,R81,T81,S81) -> 2674200 | W81: =ROUNDUP(U81*1/12,-1) -> 222850 | X81: =ROUND(U81*4.5%,-1) -> 120340 | Y81: =ROUNDUP((U81-L81)*6.67%*1/2,-1) -> 89190 | Z81: =ROUNDUP(Y81*10.25%,-1) -> 9150 | AA81: =ROUND(U81*1.05%,-1) -> 28080 | AB81: =ROUND(U81*0.793%,-1) -> 21210 | AC81: =SUM(W81:AB81) -> 490820
E82: 11월 | F82: =F81 -> 2286000 | O82: =O81 -> 60000 | Q82: =ROUND((F81+T81)*1/209*1.5,-1) -> 16410 | R82: =Q82*20 -> 328200 | S82: 0 | U82: =SUM(F82,M82,O82,R82,T82,S82) -> 2674200 | W82: =ROUNDUP(U82*1/12,-1) -> 222850 | X82: =ROUND(U82*4.5%,-1) -> 120340 | Y82: =ROUNDUP((U82-L82)*6.67%*1/2,-1) -> 89190 | Z82: =ROUNDUP(Y82*10.25%,-1) -> 9150 | AA82: =ROUND(U82*1.05%,-1) -> 28080 | AB82: =ROUND(U82*0.793%,-1) -> 21210 | AC82: =SUM(W82:AB82) -> 490820
E83: 12월 | F83: =F82 -> 2286000 | O83: =O82 -> 60000 | Q83: =ROUND((F82+T82)*1/209*1.5,-1) -> 16410 | R83: =Q83*20*2 -> 656400 | S83: 0 | U83: =SUM(F83,M83,O83,R83,T83,S83) -> 3002400 | W83: =ROUNDUP(U83*1/12,-1) -> 250200 | X83: =ROUND(U83*4.5%,-1) -> 135110 | Y83: =ROUNDUP((U83-L83)*6.67%*1/2,-1) -> 100140 | Z83: =ROUNDUP(Y83*10.25%,-1) -> 10270 | AA83: =ROUND(U83*1.05%,-1) -> 31530 | AB83: =ROUND(U83*0.793%,-1) -> 23810 | AC83: =SUM(W83:AB83) -> 551060
A84: 7 | B84: 사회재활교사 | C84: 5 | D84: 1 | E84: 소계 | F84: =SUM(F85:F96) -> 27432000 | G84: =SUM(G85:G96) -> 0 | H84: =SUM(H85:H96) -> 0 | I84: =SUM(I85:I96) -> 0 | J84: =SUM(J85:J96) -> 0 | K84: =SUM(K85:K96) -> 0 | L84: =SUM(L85:L96) -> 0 | M84: =SUM(M85:M96) -> 2743200 | ... P84: =SUM(P85:P96) -> 0 | R84: =SUM(R85:R96) -> 3938400 | S84: =SUM(S85:S96) -> 0 | T84: =SUM(T85:T96) -> 0 | U84: =SUM(U85:U96) -> 34833600 | W84: =SUM(W85:W96) -> 2902800 | X84: =SUM(X85:X96) -> 1567520 | Y84: =SUM(Y85:Y96) -> 1161760 | Z84: =SUM(Z85:Z96) -> 119170 | AA84: =SUM(AA85:AA96) -> 365760 | AB84: =SUM(AB85:AB96) -> 276250 | AC84: =SUM(AC85:AC96) -> 6393260
B85: F | C85: 5 | E85: 1월 | F85: 2286000 | M85: - | O85: 60000 | U85: =SUM(F85,M85,O85,R85,T85,S85) -> 2346000 | W85: =ROUNDUP(U85*1/12,-1) -> 195500 | X85: =ROUND(U85*4.5%,-1) -> 105570 | Y85: =ROUNDUP((U85-L85)*6.67%*1/2,-1) -> 78240 | Z85: =ROUNDUP(Y85*10.25%,-1) -> 8020 | AA85: =ROUND(U85*1.05%,-1) -> 24630 | AB85: =ROUND(U85*0.793%,-1) -> 18600 | AC85: =SUM(W85:AB85) -> 430560
E86: 2월 | F86: =F85 -> 2286000 | M86: =F86*60% -> 1371600 | O86: =O85 -> 60000 | Q86: =ROUND((F85+T85)*1/209*1.5,-1) -> 16410 | R86: =Q86*20 -> 328200 | S86: 0 | U86: =SUM(F86,M86,O86,R86,T86,S86) -> 4045800 | W86: =ROUNDUP((T86+U86)*1/12,-1) -> 337150 | X86: =ROUND(U86*4.5%,-1) -> 182060 | Y86: =ROUNDUP((U86-L86)*6.67%*1/2,-1) -> 134930 | Z86: =ROUNDUP(Y86*10.25%,-1) -> 13840 | AA86: =ROUND(U86*1.05%,-1) -> 42480 | AB86: =ROUND(U86*0.793%,-1) -> 32080 | AC86: =SUM(W86:AB86) -> 742540
E87: 3월 | F87: =F86 -> 2286000 | O87: =O86 -> 60000 | Q87: =ROUND((F86+T86)*1/209*1.5,-1) -> 16410 | R87: =Q87*20 -> 328200 | S87: 0 | U87: =SUM(F87,M87,O87,R87,T87,S87) -> 2674200 | W87: =ROUNDUP(U87*1/12,-1) -> 222850 | X87: =ROUND(U87*4.5%,-1) -> 120340 | Y87: =ROUNDUP((U87-L87)*6.67%*1/2,-1) -> 89190 | Z87: =ROUNDUP(Y87*10.25%,-1) -> 9150 | AA87: =ROUND(U87*1.05%,-1) -> 28080 | AB87: =ROUND(U87*0.793%,-1) -> 21210 | AC87: =SUM(W87:AB87) -> 490820
E88: 4월 | F88: =F87 -> 2286000 | O88: =O87 -> 60000 | Q88: =ROUND((F87+T87)*1/209*1.5,-1) -> 16410 | R88: =Q88*20 -> 328200 | S88: 0 | U88: =SUM(F88,M88,O88,R88,T88,S88) -> 2674200 | W88: =ROUNDUP(U88*1/12,-1) -> 222850 | X88: =ROUND(U88*4.5%,-1) -> 120340 | Y88: =ROUNDUP((U88-L88)*6.67%*1/2,-1) -> 89190 | Z88: =ROUNDUP(Y88*10.25%,-1) -> 9150 | AA88: =ROUND(U88*1.05%,-1) -> 28080 | AB88: =ROUND(U88*0.793%,-1) -> 21210 | AC88: =SUM(W88:AB88) -> 490820
E89: 5월 | F89: =F88 -> 2286000 | O89: =O88 -> 60000 | Q89: =ROUND((F88+T88)*1/209*1.5,-1) -> 16410 | R89: =Q89*20 -> 328200 | S89: 0 | U89: =SUM(F89,M89,O89,R89,T89,S89) -> 2674200 | W89: =ROUNDUP(U89*1/12,-1) -> 222850 | X89: =ROUND(U89*4.5%,-1) -> 120340 | Y89: =ROUNDUP((U89-L89)*6.67%*1/2,-1) -> 89190 | Z89: =ROUNDUP(Y89*10.25%,-1) -> 9150 | AA89: =ROUND(U89*1.05%,-1) -> 28080 | AB89: =ROUND(U89*0.793%,-1) -> 21210 | AC89: =SUM(W89:AB89) -> 490820
E90: 6월 | F90: =F89 -> 2286000 | O90: =O89 -> 60000 | Q90: =ROUND((F89+T89)*1/209*1.5,-1) -> 16410 | R90: =Q90*20 -> 328200 | S90: 0 | U90: =SUM(F90,M90,O90,R90,T90,S90) -> 2674200 | W90: =ROUNDUP(U90*1/12,-1) -> 222850 | X90: =ROUND(U90*4.5%,-1) -> 120340 | Y90: =ROUNDUP((U90-L90)*6.67%*1/2,-1) -> 89190 | Z90: =ROUNDUP(Y90*10.25%,-1) -> 9150 | AA90: =ROUND(U90*1.05%,-1) -> 28080 | AB90: =ROUND(U90*0.793%,-1) -> 21210 | AC90: =SUM(W90:AB90) -> 490820
E91: 7월 | F91: =F90 -> 2286000 | O91: =O90 -> 60000 | Q91: =ROUND((F90+T90)*1/209*1.5,-1) -> 16410 | R91: =Q91*20 -> 328200 | S91: 0 | U91: =SUM(F91,M91,O91,R91,T91,S91) -> 2674200 | W91: =ROUNDUP(U91*1/12,-1) -> 222850 | X91: =ROUND(U91*4.5%,-1) -> 120340 | Y91: =ROUNDUP((U91-L91)*6.67%*1/2,-1) -> 89190 | Z91: =ROUNDUP(Y91*10.25%,-1) -> 9150 | AA91: =ROUND(U91*1.05%,-1) -> 28080 | AB91: =ROUND(U91*0.793%,-1) -> 21210 | AC91: =SUM(W91:AB91) -> 490820
E92: 8월 | F92: =F91 -> 2286000 | O92: =O91 -> 60000 | Q92: =ROUND((F91+T91)*1/209*1.5,-1) -> 16410 | R92: =Q92*20 -> 328200 | S92: 0 | U92: =SUM(F92,M92,O92,R92,T92,S92) -> 2674200 | W92: =ROUNDUP(U92*1/12,-1) -> 222850 | X92: =ROUND(U92*4.5%,-1) -> 120340 | Y92: =ROUNDUP((U92-L92)*6.67%*1/2,-1) -> 89190 | Z92: =ROUNDUP(Y92*10.25%,-1) -> 9150 | AA92: =ROUND(U92*1.05%,-1) -> 28080 | AB92: =ROUND(U92*0.793%,-1) -> 21210 | AC92: =SUM(W92:AB92) -> 490820
E93: 9월 | F93: =F92 -> 2286000 | M93: =F93*60% -> 1371600 | O93: =O92 -> 60000 | Q93: =ROUND((F92+T92)*1/209*1.5,-1) -> 16410 | R93: =Q93*20 -> 328200 | S93: 0 | U93: =SUM(F93,M93,O93,R93,T93,S93) -> 4045800 | W93: =ROUNDUP(U93*1/12,-1) -> 337150 | X93: =ROUND(U93*4.5%,-1) -> 182060 | Y93: =ROUNDUP((U93-L93)*6.67%*1/2,-1) -> 134930 | Z93: =ROUNDUP(Y93*10.25%,-1) -> 13840 | AA93: =ROUND(U93*1.05%,-1) -> 42480 | AB93: =ROUND(U93*0.793%,-1) -> 32080 | AC93: =SUM(W93:AB93) -> 742540
E94: 10월 | F94: =F93 -> 2286000 | O94: =O93 -> 60000 | Q94: =ROUND((F93+T93)*1/209*1.5,-1) -> 16410 | R94: =Q94*20 -> 328200 | S94: 0 | U94: =SUM(F94,M94,O94,R94,T94,S94) -> 2674200 | W94: =ROUNDUP(U94*1/12,-1) -> 222850 | X94: =ROUND(U94*4.5%,-1) -> 120340 | Y94: =ROUNDUP((U94-L94)*6.67%*1/2,-1) -> 89190 | Z94: =ROUNDUP(Y94*10.25%,-1) -> 9150 | AA94: =ROUND(U94*1.05%,-1) -> 28080 | AB94: =ROUND(U94*0.793%,-1) -> 21210 | AC94: =SUM(W94:AB94) -> 490820
E95: 11월 | F95: =F94 -> 2286000 | O95: =O94 -> 60000 | Q95: =ROUND((F94+T94)*1/209*1.5,-1) -> 16410 | R95: =Q95*20 -> 328200 | S95: 0 | U95: =SUM(F95,M95,O95,R95,T95,S95) -> 2674200 | W95: =ROUNDUP(U95*1/12,-1) -> 222850 | X95: =ROUND(U95*4.5%,-1) -> 120340 | Y95: =ROUNDUP((U95-L95)*6.67%*1/2,-1) -> 89190 | Z95: =ROUNDUP(Y95*10.25%,-1) -> 9150 | AA95: =ROUND(U95*1.05%,-1) -> 28080 | AB95: =ROUND(U95*0.793%,-1) -> 21210 | AC95: =SUM(W95:AB95) -> 490820
E96: 12월 | F96: =F95 -> 2286000 | O96: =O95 -> 60000 | Q96: =ROUND((F95+T95)*1/209*1.5,-1) -> 16410 | R96: =Q96*20*2 -> 656400 | S96: 0 | U96: =SUM(F96,M96,O96,R96,T96,S96) -> 3002400 | W96: =ROUNDUP(U96*1/12,-1) -> 250200 | X96: =ROUND(U96*4.5%,-1) -> 135110 | Y96: =ROUNDUP((U96-L96)*6.67%*1/2,-1) -> 100140 | Z96: =ROUNDUP(Y96*10.25%,-1) -> 10270 | AA96: =ROUND(U96*1.05%,-1) -> 31530 | AB96: =ROUND(U96*0.793%,-1) -> 23810 | AC96: =SUM(W96:AB96) -> 551060
A97: 8 | B97: 사회재활교사 | C97: 3 | D97: 1 | E97: 소계 | F97: =SUM(F98:F109) -> 24996000 | G97: =SUM(G98:G109) -> 0 | H97: =SUM(H98:H109) -> 0 | I97: =SUM(I98:I109) -> 0 | J97: =SUM(J98:J109) -> 0 | K97: =SUM(K98:K109) -> 0 | L97: =SUM(L98:L109) -> 0 | M97: =SUM(M98:M109) -> 2499600 | ... P97: =SUM(P98:P109) -> 0 | R97: =SUM(R98:R109) -> 3588000 | S97: =SUM(S98:S109) -> 0 | T97: =SUM(T98:T109) -> 0 | U97: =SUM(U98:U109) -> 31803600 | W97: =SUM(W98:W109) -> 2650310 | X97: =SUM(X98:X109) -> 1431170 | Y97: =SUM(Y98:Y109) -> 1060750 | Z97: =SUM(Z98:Z109) -> 108770 | AA97: =SUM(AA98:AA109) -> 333920 | AB97: =SUM(AB98:AB109) -> 252250 | AC97: =SUM(AC98:AC109) -> 5837170
B98: G | C98: 3 | E98: 1월 | F98: 2083000 | M98: - | O98: 60000 | U98: =SUM(F98,M98,O98,R98,T98,S98) -> 2143000 | W98: =ROUNDUP(U98*1/12,-1) -> 178590 | X98: =ROUND(U98*4.5%,-1) -> 96440 | Y98: =ROUNDUP((U98-L98)*6.67%*1/2,-1) -> 71470 | Z98: =ROUNDUP(Y98*10.25%,-1) -> 7330 | AA98: =ROUND(U98*1.05%,-1) -> 22500 | AB98: =ROUND(U98*0.793%,-1) -> 16990 | AC98: =SUM(W98:AB98) -> 393320
E99: 2월 | F99: =F98 -> 2083000 | M99: =F99*60% -> 1249800 | O99: =O98 -> 60000 | Q99: =ROUND((F98+T98)*1/209*1.5,-1) -> 14950 | R99: =Q99*20 -> 299000 | S99: 0 | U99: =SUM(F99,M99,O99,R99,T99,S99) -> 3691800 | W99: =ROUNDUP((T99+U99)*1/12,-1) -> 307650 | X99: =ROUND(U99*4.5%,-1) -> 166130 | Y99: =ROUNDUP((U99-L99)*6.67%*1/2,-1) -> 123130 | Z99: =ROUNDUP(Y99*10.25%,-1) -> 12630 | AA99: =ROUND(U99*1.05%,-1) -> 38760 | AB99: =ROUND(U99*0.793%,-1) -> 29280 | AC99: =SUM(W99:AB99) -> 677580
E100: 3월 | F100: =F99 -> 2083000 | O100: =O99 -> 60000 | Q100: =ROUND((F99+T99)*1/209*1.5,-1) -> 14950 | R100: =Q100*20 -> 299000 | S100: 0 | U100: =SUM(F100,M100,O100,R100,T100,S100) -> 2442000 | W100: =ROUNDUP(U100*1/12,-1) -> 203500 | X100: =ROUND(U100*4.5%,-1) -> 109890 | Y100: =ROUNDUP((U100-L100)*6.67%*1/2,-1) -> 81450 | Z100: =ROUNDUP(Y100*10.25%,-1) -> 8350 | AA100: =ROUND(U100*1.05%,-1) -> 25640 | AB100: =ROUND(U100*0.793%,-1) -> 19370 | AC100: =SUM(W100:AB100) -> 448200
E101: 4월 | F101: =F100 -> 2083000 | O101: =O100 -> 60000 | Q101: =ROUND((F100+T100)*1/209*1.5,-1) -> 14950 | R101: =Q101*20 -> 299000 | S101: 0 | U101: =SUM(F101,M101,O101,R101,T101,S101) -> 2442000 | W101: =ROUNDUP(U101*1/12,-1) -> 203500 | X101: =ROUND(U101*4.5%,-1) -> 109890 | Y101: =ROUNDUP((U101-L101)*6.67%*1/2,-1) -> 81450 | Z101: =ROUNDUP(Y101*10.25%,-1) -> 8350 | AA101: =ROUND(U101*1.05%,-1) -> 25640 | AB101: =ROUND(U101*0.793%,-1) -> 19370 | AC101: =SUM(W101:AB101) -> 448200
...

Sheet 인건비총계표(자부담)
A1: ▣ 2021년 종사자 인건비(자부담) 총계표
A3: (1) 자부담 | AA3: (단위 : 원)
A4: 연 번 | B4: 직 종 | C4: 호 봉 | D4: 명 수 | E4: 구분 (월) | F4: 기본급 | G4: 기말수당 (50%씩 연4회 -3,6,9,12월) | H4: 정근수당 (1,7월) | I4: 장기근속 수 당 | J4: 가계지원비 (50%씩 연4회 -4,5,10,11월) | K4: 시간당 연장근로수당 | L4: 직책수당 | M4: 명절휴가비 (60%씩 연2회) | N4: 명절휴가비 연평균액 | O4: 가족수당 (30,000원) (20,000원) | P4: 연장근로수당 (기본급*1/ 209*1.5*40/22) | Q4: 처우개선비 | R4: 특수근무 수 당 (도비) | S4: 지급액합계 | T4: 비 고 | U4: 퇴직적립금 | V4: 국민연금 | W4: 건강보험 | X4: 건강보험 (장기요양보험) | Y4: 고용보험 | Z4: 산재보험 | AA4: 공제액합계
A5: 합 계 | G5: =G6+G19+G32 -> 0 | H5: =H6+H19+H32 -> 0 | I5: =I6+I19+I32 -> 0 | J5: =J6+J19+J32 -> 0 | K5: =K6+K19+K32 -> 0 | L5: =L6+L19+L32 -> 0 | M5: =M6+M19+M32 -> 2196000 | N5: =N6+N19+N32 -> 0 | ... S5: =S6+S19+S32 -> 24156000 | U5: =U6+U19+U32 -> 2013000 | V5: =V6+V19+V32 -> 1087020 | W5: =W6+W19+W32 -> 805700 | X5: =X6+X19+X32 -> 82620 | Y5: =Y6+Y19+Y32 -> 253680 | Z5: =Z6+Z19+Z32 -> 191540 | AA5: =AA6+AA19+AA32 -> 4433560
A6: 1 | B6: 조리원 | C6: 1 | D6: 1 | E6: 소계 | F6: =SUM(F7:F18) -> 21960000 | G6: =SUM(G7:G18) -> 0 | H6: =SUM(H7:H18) -> 0 | I6: =SUM(I7:I18) -> 0 | J6: =SUM(J7:J18) -> 0 | K6: =SUM(K7:K18) -> 0 | L6: =SUM(L7:L18) -> 0 | M6: =SUM(M7:M18) -> 2196000 | ... S6: =SUM(S7:S18) -> 24156000 | U6: =SUM(U7:U18) -> 2013000 | V6: =SUM(V7:V18) -> 1087020 | W6: =SUM(W7:W18) -> 805700 | X6: =SUM(X7:X18) -> 82620 | Y6: =SUM(Y7:Y18) -> 253680 | Z6: =SUM(Z7:Z18) -> 191540 | AA6: =SUM(AA7:AA18) -> 4433560
C7: 1 | E7: 1월 | F7: 1830000 | R7: - | S7: =SUM(F7:R7) -> 1830000 | U7: =ROUND(S7*1/12,-1) -> 152500 | V7: =ROUND(S7*4.5%,-1) -> 82350 | W7: =ROUNDUP((S7-J7)*6.67%*1/2,-1) -> 61040 | X7: =ROUNDUP(W7*10.25%,-1) -> 6260 | Y7: =ROUND(S7*1.05%,-1) -> 19220 | Z7: =ROUND(S7*0.793%,-1) -> 14510 | AA7: =SUM(U7:Z7) -> 335880
E8: 2월 | F8: =F7 -> 1830000 | M8: =F8*60% -> 1098000 | R8: =R7 -> - | S8: =SUM(F8:R8) -> 2928000 | U8: =ROUND(S8*1/12,-1) -> 244000 | V8: =ROUND(S8*4.5%,-1) -> 131760 | W8: =ROUNDUP((S8-J8)*6.67%*1/2,-1) -> 97650 | X8: =ROUNDUP(W8*10.25%,-1) -> 10010 | Y8: =ROUND(S8*1.05%,-1) -> 30740 | Z8: =ROUND(S8*0.793%,-1) -> 23220 | AA8: =SUM(U8:Z8) -> 537380
E9: 3월 | F9: =F8 -> 1830000 | R9: =R8 -> - | S9: =SUM(F9:R9) -> 1830000 | U9: =ROUND(S9*1/12,-1) -> 152500 | V9: =ROUND(S9*4.5%,-1) -> 82350 | W9: =ROUNDUP((S9-J9)*6.67%*1/2,-1) -> 61040 | X9: =ROUNDUP(W9*10.25%,-1) -> 6260 | Y9: =ROUND(S9*1.05%,-1) -> 19220 | Z9: =ROUND(S9*0.793%,-1) -> 14510 | AA9: =SUM(U9:Z9) -> 335880
E10: 4월 | F10: =F9 -> 1830000 | R10: =R9 -> - | S10: =SUM(F10:R10) -> 1830000 | U10: =ROUND(S10*1/12,-1) -> 152500 | V10: =ROUND(S10*4.5%,-1) -> 82350 | W10: =ROUNDUP((S10-J10)*6.67%*1/2,-1) -> 61040 | X10: =ROUNDUP(W10*10.25%,-1) -> 6260 | Y10: =ROUND(S10*1.05%,-1) -> 19220 | Z10: =ROUND(S10*0.793%,-1) -> 14510 | AA10: =SUM(U10:Z10) -> 335880
E11: 5월 | F11: =F10 -> 1830000 | R11: =R10 -> - | S11: =SUM(F11:R11) -> 1830000 | U11: =ROUND(S11*1/12,-1) -> 152500 | V11: =ROUND(S11*4.5%,-1) -> 82350 | W11: =ROUNDUP((S11-J11)*6.67%*1/2,-1) -> 61040 | X11: =ROUNDUP(W11*10.25%,-1) -> 6260 | Y11: =ROUND(S11*1.05%,-1) -> 19220 | Z11: =ROUND(S11*0.793%,-1) -> 14510 | AA11: =SUM(U11:Z11) -> 335880
E12: 6월 | F12: =F11 -> 1830000 | R12: =R11 -> - | S12: =SUM(F12:R12) -> 1830000 | U12: =ROUND(S12*1/12,-1) -> 152500 | V12: =ROUND(S12*4.5%,-1) -> 82350 | W12: =ROUNDUP((S12-J12)*6.67%*1/2,-1) -> 61040 | X12: =ROUNDUP(W12*10.25%,-1) -> 6260 | Y12: =ROUND(S12*1.05%,-1) -> 19220 | Z12: =ROUND(S12*0.793%,-1) -> 14510 | AA12: =SUM(U12:Z12) -> 335880
E13: 7월 | F13: =F12 -> 1830000 | R13: =R12 -> - | S13: =SUM(F13:R13) -> 1830000 | U13: =ROUND(S13*1/12,-1) -> 152500 | V13: =ROUND(S13*4.5%,-1) -> 82350 | W13: =ROUNDUP((S13-J13)*6.67%*1/2,-1) -> 61040 | X13: =ROUNDUP(W13*10.25%,-1) -> 6260 | Y13: =ROUND(S13*1.05%,-1) -> 19220 | Z13: =ROUND(S13*0.793%,-1) -> 14510 | AA13: =SUM(U13:Z13) -> 335880
E14: 8월 | F14: =F13 -> 1830000 | R14: =R13 -> - | S14: =SUM(F14:R14) -> 1830000 | U14: =ROUND(S14*1/12,-1) -> 152500 | V14: =ROUND(S14*4.5%,-1) -> 82350 | W14: =ROUNDUP((S14-J14)*6.67%*1/2,-1) -> 61040 | X14: =ROUNDUP(W14*10.25%,-1) -> 6260 | Y14: =ROUND(S14*1.05%,-1) -> 19220 | Z14: =ROUND(S14*0.793%,-1) -> 14510 | AA14: =SUM(U14:Z14) -> 335880
E15: 9월 | F15: =F14 -> 1830000 | M15: =F15*60% -> 1098000 | R15: =R14 -> - | S15: =SUM(F15:R15) -> 2928000 | U15: =ROUND(S15*1/12,-1) -> 244000 | V15: =ROUND(S15*4.5%,-1) -> 131760 | W15: =ROUNDUP((S15-J15)*6.67%*1/2,-1) -> 97650 | X15: =ROUNDUP(W15*10.25%,-1) -> 10010 | Y15: =ROUND(S15*1.05%,-1) -> 30740 | Z15: =ROUND(S15*0.793%,-1) -> 23220 | AA15: =SUM(U15:Z15) -> 537380
E16: 10월 | F16: =F15 -> 1830000 | R16: =R15 -> - | S16: =SUM(F16:R16) -> 1830000 | U16: =ROUND(S16*1/12,-1) -> 152500 | V16: =ROUND(S16*4.5%,-1) -> 82350 | W16: =ROUNDUP((S16-J16)*6.67%*1/2,-1) -> 61040 | X16: =ROUNDUP(W16*10.25%,-1) -> 6260 | Y16: =ROUND(S16*1.05%,-1) -> 19220 | Z16: =ROUND(S16*0.793%,-1) -> 14510 | AA16: =SUM(U16:Z16) -> 335880
E17: 11월 | F17: =F16 -> 1830000 | R17: =R16 -> - | S17: =SUM(F17:R17) -> 1830000 | U17: =ROUND(S17*1/12,-1) -> 152500 | V17: =ROUND(S17*4.5%,-1) -> 82350 | W17: =ROUNDUP((S17-J17)*6.67%*1/2,-1) -> 61040 | X17: =ROUNDUP(W17*10.25%,-1) -> 6260 | Y17: =ROUND(S17*1.05%,-1) -> 19220 | Z17: =ROUND(S17*0.793%,-1) -> 14510 | AA17: =SUM(U17:Z17) -> 335880
E18: 12월 | F18: =F17 -> 1830000 | R18: =R17 -> - | S18: =SUM(F18:R18) -> 1830000 | U18: =ROUND(S18*1/12,-1) -> 152500 | V18: =ROUND(S18*4.5%,-1) -> 82350 | W18: =ROUNDUP((S18-J18)*6.67%*1/2,-1) -> 61040 | X18: =ROUNDUP(W18*10.25%,-1) -> 6260 | Y18: =ROUND(S18*1.05%,-1) -> 19220 | Z18: =ROUND(S18*0.793%,-1) -> 14510 | AA18: =SUM(U18:Z18) -> 335880
A19: 1 | B19: 운전원 | C19: 3,4 | D19: 1 | E19: 소계 | F19: =SUM(F20:F31) -> 0 | G19: =SUM(G20:G31) -> 0 | H19: =SUM(H20:H31) -> 0 | I19: =SUM(I20:I31) -> 0 | J19: =SUM(J20:J31) -> 0 | K19: =SUM(K20:K31) -> 0 | L19: =SUM(L20:L31) -> 0 | M19: =SUM(M20:M31) -> 0 | ... S19: =SUM(S20:S31) -> 0 | T19: 3월지급종료 | U19: =SUM(U20:U31) -> 0 | V19: =SUM(V20:V31) -> 0 | W19: =ROUNDUP((S19-J19)*6.67%*1/2,-1) -> 0 | X19: =ROUNDUP(W19*10.25%,-1) -> 0 | Y19: =ROUND(S19*1.05%,-1) -> 0 | Z19: =SUM(Z20:Z31) -> 0 | AA19: =SUM(AA20:AA31) -> 0
C20: 3 | E20: 1월 | R20: - | S20: =SUM(F20:R20) -> 0 | U20: =ROUND(S20*1/12,-1) -> 0 | V20: =ROUND(S20*4.5%,-1) -> 0 | W20: =ROUNDUP((S20-J20)*6.67%*1/2,-1) -> 0 | X20: =ROUNDUP(W20*10.25%,-1) -> 0 | Y20: =ROUND(S20*1.05%,-1) -> 0 | Z20: =ROUND(S20*0.7%,-1) -> 0 | AA20: =SUM(U20:Z20) -> 0
E21: 2월 | R21: =R20 -> - | S21: =SUM(F21:R21) -> 0 | U21: =ROUND(S21*1/12,-1) -> 0 | V21: =ROUND(S21*4.5%,-1) -> 0 | W21: =ROUNDUP((S21-J21)*6.67%*1/2,-1) -> 0 | X21: =ROUNDUP(W21*10.25%,-1) -> 0 | Y21: =ROUND(S21*1.05%,-1) -> 0 | Z21: =ROUND(S21*0.7%,-1) -> 0 | AA21: =SUM(U21:Z21) -> 0
E22: 3월 | R22: =R21 -> - | S22: =SUM(F22:R22) -> 0 | U22: =ROUND(S22*1/12,-1) -> 0 | V22: =ROUND(S22*4.5%,-1) -> 0 | W22: =ROUNDUP((S22-J22)*6.67%*1/2,-1) -> 0 | X22: =ROUNDUP(W22*10.25%,-1) -> 0 | Y22: =ROUND(S22*1.05%,-1) -> 0 | Z22: =ROUND(S22*0.7%,-1) -> 0 | AA22: =SUM(U22:Z22) -> 0
E23: 4월 | R23: =R22 -> - | S23: =SUM(F23:R23) -> 0 | U23: =ROUND(S23*1/12,-1) -> 0 | V23: =ROUND(S23*4.5%,-1) -> 0 | W23: =ROUNDUP((S23-J23)*6.67%*1/2,-1) -> 0 | X23: =ROUNDUP(W23*10.25%,-1) -> 0 | Y23: =ROUND(S23*1.05%,-1) -> 0 | Z23: =ROUND(S23*0.7%,-1) -> 0 | AA23: =SUM(U23:Z23) -> 0
E24: 5월 | R24: =R23 -> - | S24: =SUM(F24:R24) -> 0 | U24: =ROUND(S24*1/12,-1) -> 0 | V24: =ROUND(S24*4.5%,-1) -> 0 | W24: =ROUNDUP((S24-J24)*6.67%*1/2,-1) -> 0 | X24: =ROUNDUP(W24*10.25%,-1) -> 0 | Y24: =ROUND(S24*1.05%,-1) -> 0 | Z24: =ROUND(S24*0.7%,-1) -> 0 | AA24: =SUM(U24:Z24) -> 0
E25: 6월 | R25: =R24 -> - | S25: =SUM(F25:R25) -> 0 | U25: =ROUND(S25*1/12,-1) -> 0 | V25: =ROUND(S25*4.5%,-1) -> 0 | W25: =ROUNDUP((S25-J25)*6.67%*1/2,-1) -> 0 | X25: =ROUNDUP(W25*10.25%,-1) -> 0 | Y25: =ROUND(S25*1.05%,-1) -> 0 | Z25: =ROUND(S25*0.7%,-1) -> 0 | AA25: =SUM(U25:Z25) -> 0
E26: 7월 | R26: =R25 -> - | S26: =SUM(F26:R26) -> 0 | U26: =ROUND(S26*1/12,-1) -> 0 | V26: =ROUND(S26*4.5%,-1) -> 0 | W26: =ROUNDUP((S26-J26)*6.67%*1/2,-1) -> 0 | X26: =ROUNDUP(W26*10.25%,-1) -> 0 | Y26: =ROUND(S26*1.05%,-1) -> 0 | Z26: =ROUND(S26*0.7%,-1) -> 0 | AA26: =SUM(U26:Z26) -> 0
E27: 8월 | R27: =R26 -> - | S27: =SUM(F27:R27) -> 0 | U27: =ROUND(S27*1/12,-1) -> 0 | V27: =ROUND(S27*4.5%,-1) -> 0 | W27: =ROUNDUP((S27-J27)*6.67%*1/2,-1) -> 0 | X27: =ROUNDUP(W27*10.25%,-1) -> 0 | Y27: =ROUND(S27*1.05%,-1) -> 0 | Z27: =ROUND(S27*0.7%,-1) -> 0 | AA27: =SUM(U27:Z27) -> 0
E28: 9월 | R28: =R27 -> - | S28: =SUM(F28:R28) -> 0 | U28: =ROUND(S28*1/12,-1) -> 0 | V28: =ROUND(S28*4.5%,-1) -> 0 | W28: =ROUNDUP((S28-J28)*6.67%*1/2,-1) -> 0 | X28: =ROUNDUP(W28*10.25%,-1) -> 0 | Y28: =ROUND(S28*1.05%,-1) -> 0 | Z28: =ROUND(S28*0.7%,-1) -> 0 | AA28: =SUM(U28:Z28) -> 0
C29: 4 | E29: 10월 | R29: =R28 -> - | S29: =SUM(F29:R29) -> 0 | U29: =ROUND(S29*1/12,-1) -> 0 | V29: =ROUND(S29*4.5%,-1) -> 0 | W29: =ROUNDUP((S29-J29)*6.67%*1/2,-1) -> 0 | X29: =ROUNDUP(W29*10.25%,-1) -> 0 | Y29: =ROUND(S29*1.05%,-1) -> 0 | Z29: =ROUND(S29*0.7%,-1) -> 0 | AA29: =SUM(U29:Z29) -> 0
E30: 11월 | R30: =R29 -> - | S30: =SUM(F30:R30) -> 0 | U30: =ROUND(S30*1/12,-1) -> 0 | V30: =ROUND(S30*4.5%,-1) -> 0 | W30: =ROUNDUP((S30-J30)*6.67%*1/2,-1) -> 0 | X30: =ROUNDUP(W30*10.25%,-1) -> 0 | Y30: =ROUND(S30*1.05%,-1) -> 0 | Z30: =ROUND(S30*0.7%,-1) -> 0 | AA30: =SUM(U30:Z30) -> 0
E31: 12월 | R31: =R30 -> - | S31: =SUM(F31:R31) -> 0 | U31: =ROUND(S31*1/12,-1) -> 0 | V31: =ROUND(S31*4.5%,-1) -> 0 | W31: =ROUNDUP((S31-J31)*6.67%*1/2,-1) -> 0 | X31: =ROUNDUP(W31*10.25%,-1) -> 0 | Y31: =ROUND(S31*1.05%,-1) -> 0 | Z31: =ROUND(S31*0.7%,-1) -> 0 | AA31: =SUM(U31:Z31) -> 0
A32: 1 | B32: 처우개선비 | D32: 9 | E32: 소계 | F32: =SUM(F33:F44) -> 0 | G32: =SUM(G33:G44) -> 0 | H32: =SUM(H33:H44) -> 0 | I32: =SUM(I33:I44) -> 0 | J32: =SUM(J33:J44) -> 0 | K32: =SUM(K33:K44) -> 0 | L32: =SUM(L33:L44) -> 0 | M32: =SUM(M33:M44) -> 0 | ... S32: =SUM(S33:S44) -> 0 | T32: 7월주임신설 | U32: =SUM(U33:U44) -> 0 | V32: =SUM(V33:V44) -> 0 | W32: =ROUNDUP((S32-J32)*6.67%*1/2,-1) -> 0 | X32: =ROUNDUP(W32*10.25%,-1) -> 0 | Y32: =ROUND(S32*1.05%,-1) -> 0 | Z32: =SUM(Z33:Z44) -> 0 | AA32: =SUM(AA33:AA44) -> 0
E33: 기관장 | R33: - | S33: =SUM(F33:R33) -> 0 | U33: =ROUND(S33*1/12,-1) -> 0 | V33: =ROUND(S33*4.5%,-1) -> 0 | W33: =ROUNDUP((S33-J33)*6.67%*1/2,-1) -> 0 | X33: =ROUNDUP(W33*10.25%,-1) -> 0 | Y33: =ROUND(S33*1.05%,-1) -> 0 | Z33: =ROUND(S33*0.7%,-1) -> 0 | AA33: =SUM(U33:Z33) -> 0
E34: 사무국장 | R34: =R33 -> - | S34: =SUM(F34:R34) -> 0 | U34: =ROUND(S34*1/12,-1) -> 0 | V34: =ROUND(S34*4.5%,-1) -> 0 | W34: =ROUNDUP((S34-J34)*6.67%*1/2,-1) -> 0 | X34: =ROUNDUP(W34*10.25%,-1) -> 0 | Y34: =ROUND(S34*1.05%,-1) -> 0 | Z34: =ROUND(S34*0.7%,-1) -> 0 | AA34: =SUM(U34:Z34) -> 0
E35: 과장(2) | R35: =R34 -> - | S35: =SUM(F35:R35) -> 0 | U35: =ROUND(S35*1/12,-1) -> 0 | V35: =ROUND(S35*4.5%,-1) -> 0 | W35: =ROUNDUP((S35-J35)*6.67%*1/2,-1) -> 0 | X35: =ROUNDUP(W35*10.25%,-1) -> 0 | Y35: =ROUND(S35*1.05%,-1) -> 0 | Z35: =ROUND(S35*0.7%,-1) -> 0 | AA35: =SUM(U35:Z35) -> 0
E36: 팀장(5) | R36: =R35 -> - | S36: =SUM(F36:R36) -> 0 | U36: =ROUND(S36*1/12,-1) -> 0 | V36: =ROUND(S36*4.5%,-1) -> 0 | W36: =ROUNDUP((S36-J36)*6.67%*1/2,-1) -> 0 | X36: =ROUNDUP(W36*10.25%,-1) -> 0 | Y36: =ROUND(S36*1.05%,-1) -> 0 | Z36: =ROUND(S36*0.7%,-1) -> 0 | AA36: =SUM(U36:Z36) -> 0
E37: 주임(3) | R37: =R36 -> - | S37: =SUM(F37:R37) -> 0 | T37: 7월신설 | U37: =ROUND(S37*1/12,-1) -> 0 | V37: =ROUND(S37*4.5%,-1) -> 0 | W37: =ROUNDUP((S37-J37)*6.67%*1/2,-1) -> 0 | X37: =ROUNDUP(W37*10.25%,-1) -> 0 | Y37: =ROUND(S37*1.05%,-1) -> 0 | Z37: =ROUND(S37*0.7%,-1) -> 0 | AA37: =SUM(U37:Z37) -> 0
R38: =R37 -> - | S38: =SUM(F38:R38) -> 0 | U38: =ROUND(S38*1/12,-1) -> 0 | V38: =ROUND(S38*4.5%,-1) -> 0 | W38: =ROUNDUP((S38-J38)*6.67%*1/2,-1) -> 0 | X38: =ROUNDUP(W38*10.25%,-1) -> 0 | Y38: =ROUND(S38*1.05%,-1) -> 0 | Z38: =ROUND(S38*0.7%,-1) -> 0 | AA38: =SUM(U38:Z38) -> 0
R39: =R38 -> - | S39: =SUM(F39:R39) -> 0 | U39: =ROUND(S39*1/12,-1) -> 0 | V39: =ROUND(S39*4.5%,-1) -> 0 | W39: =ROUNDUP((S39-J39)*6.67%*1/2,-1) -> 0 | X39: =ROUNDUP(W39*10.25%,-1) -> 0 | Y39: =ROUND(S39*1.05%,-1) -> 0 | Z39: =ROUND(S39*0.7%,-1) -> 0 | AA39: =SUM(U39:Z39) -> 0
R40: =R39 -> - | S40: =SUM(F40:R40) -> 0 | U40: =ROUND(S40*1/12,-1) -> 0 | V40: =ROUND(S40*4.5%,-1) -> 0 | W40: =ROUNDUP((S40-J40)*6.67%*1/2,-1) -> 0 | X40: =ROUNDUP(W40*10.25%,-1) -> 0 | Y40: =ROUND(S40*1.05%,-1) -> 0 | Z40: =ROUND(S40*0.7%,-1) -> 0 | AA40: =SUM(U40:Z40) -> 0
R41: =R40 -> - | S41: =SUM(F41:R41) -> 0 | U41: =ROUND(S41*1/12,-1) -> 0 | V41: =ROUND(S41*4.5%,-1) -> 0 | W41: =ROUNDUP((S41-J41)*6.67%*1/2,-1) -> 0 | X41: =ROUNDUP(W41*10.25%,-1) -> 0 | Y41: =ROUND(S41*1.05%,-1) -> 0 | Z41: =ROUND(S41*0.7%,-1) -> 0 | AA41: =SUM(U41:Z41) -> 0
R42: =R41 -> - | S42: =SUM(F42:R42) -> 0 | U42: =ROUND(S42*1/12,-1) -> 0 | V42: =ROUND(S42*4.5%,-1) -> 0 | W42: =ROUNDUP((S42-J42)*6.67%*1/2,-1) -> 0 | X42: =ROUNDUP(W42*10.25%,-1) -> 0 | Y42: =ROUND(S42*1.05%,-1) -> 0 | Z42: =ROUND(S42*0.7%,-1) -> 0 | AA42: =SUM(U42:Z42) -> 0
R43: =R42 -> - | S43: =SUM(F43:R43) -> 0 | U43: =ROUND(S43*1/12,-1) -> 0 | V43: =ROUND(S43*4.5%,-1) -> 0 | W43: =ROUNDUP((S43-J43)*6.67%*1/2,-1) -> 0 | X43: =ROUNDUP(W43*10.25%,-1) -> 0 | Y43: =ROUND(S43*1.05%,-1) -> 0 | Z43: =ROUND(S43*0.7%,-1) -> 0 | AA43: =SUM(U43:Z43) -> 0
R44: =R43 -> - | S44: =SUM(F44:R44) -> 0 | U44: =ROUND(S44*1/12,-1) -> 0 | V44: =ROUND(S44*4.5%,-1) -> 0 | W44: =ROUNDUP((S44-J44)*6.67%*1/2,-1) -> 0 | X44: =ROUNDUP(W44*10.25%,-1) -> 0 | Y44: =ROUND(S44*1.05%,-1) -> 0 | Z44: =ROUND(S44*0.7%,-1) -> 0 | AA44: =SUM(U44:Z44) -> 0
W45: =ROUNDUP((S45-J45)*6.67%*1/2,-1) -> 0 | X45: =ROUNDUP(W45*10.25%,-1) -> 0 | Y45: =ROUND(S45*1.05%,-1) -> 0
W46: =ROUNDUP((S46-J46)*6.67%*1/2,-1) -> 0 | X46: =ROUNDUP(W46*10.25%,-1) -> 0 | Y46: =ROUND(S46*1.05%,-1) -> 0
A47: (2) 후원금 | W47: =ROUNDUP((S47-J47)*6.67%*1/2,-1) -> 0 | X47: =ROUNDUP(W47*10.25%,-1) -> 0 | Y47: =ROUND(S47*1.05%,-1) -> 0 | AB47: (단위 : 원)
A48: 연 번 | B48: 직 종 | C48: 호 봉 | D48: 명 수 | E48: 구분 (월) | F48: 기본급 | G48: 기말수당 (50%씩 연4회 -3,6,9,12월) | H48: 정근수당 (1,7월) | I48: 장기근속 수 당 | J48: 가계지원비 (50%씩 연4회 -4,5,10,11월) | K48: 시간당 연장근로수당 | L48: 교통급식비 (110,000원) | M48: 명절휴가비 (50%씩 연2회) | N48: 명절휴가비 연평균액 | O48: 가족수당 (30,000원) (20,000원) | P48: 연장근로수당 | Q48: 처우개선비 | R48: 직책보조비 | S48: 특수근무 수 당 (도비) | T48: 소 계 | U48: 비 고 | V48: 퇴직적립금 | W48: =ROUNDUP((S48-J48)*6.67%*1/2,-1) -> #VALUE! | X48: =ROUNDUP(W48*10.25%,-1) -> #VALUE! | Y48: =ROUND(S48*1.05%,-1) -> #VALUE! | Z48: 고용보험 | AA48: 산재보험 | AB48: 합계
W49: =ROUNDUP((S49-J49)*6.67%*1/2,-1) -> 0 | X49: =ROUNDUP(W49*10.25%,-1) -> 0 | Y49: =ROUND(S49*1.05%,-1) -> 0
A50: 1 | B50: 생활재활교사 | C50: 1 | D50: 1 | E50: 소계 | F50: =SUM(F51:F62) -> 0 | G50: =SUM(G51:G62) -> 0 | H50: =SUM(H51:H62) -> 0 | I50: =SUM(I51:I62) -> 0 | J50: =SUM(J51:J62) -> 0 | K50: =SUM(K51:K62) -> 0 | L50: =SUM(L51:L62) -> 0 | M50: =SUM(M51:M62) -> 0 | ... O50: =SUM(O51:O62) -> 0 | Q50: =SUM(Q51:Q62) -> 0 | R50: =SUM(R51:R62) -> 0 | S50: =SUM(S51:S62) -> 0 | T50: =SUM(T51:T62) -> 0 | V50: =SUM(V51:V62) -> 0 | W50: =ROUNDUP((S50-J50)*6.67%*1/2,-1) -> 0 | X50: =ROUNDUP(W50*10.25%,-1) -> 0 | Y50: =ROUND(S50*1.05%,-1) -> 0 | Z50: =SUM(Z51:Z62) -> 0 | AA50: =SUM(AA51:AA62) -> 0 | AB50: =SUM(AB51:AB62) -> 0
B51: 유선주 | E51: 1월 | V51: =ROUNDUP(T51*1/12,-1) -> 0 | W51: =ROUNDUP((S51-J51)*6.67%*1/2,-1) -> 0 | X51: =ROUNDUP(W51*10.25%,-1) -> 0 | Y51: =ROUND(S51*1.05%,-1) -> 0 | Z51: =ROUND(T51*0.8%,-1) -> 0 | AA51: =ROUND(T51*0.785%,-1) -> 0 | AB51: =SUM(V51:AA51) -> 0
E52: 2월 | V52: =ROUNDUP(T52*1/12,-1) -> 0 | W52: =ROUNDUP((S52-J52)*6.67%*1/2,-1) -> 0 | X52: =ROUNDUP(W52*10.25%,-1) -> 0 | Y52: =ROUND(S52*1.05%,-1) -> 0 | Z52: =ROUND(T52*0.8%,-1) -> 0 | AA52: =ROUND(T52*0.785%,-1) -> 0 | AB52: =SUM(V52:AA52) -> 0
E53: 3월 | V53: =ROUNDUP(T53*1/12,-1) -> 0 | W53: =ROUNDUP((S53-J53)*6.67%*1/2,-1) -> 0 | X53: =ROUNDUP(W53*10.25%,-1) -> 0 | Y53: =ROUND(S53*1.05%,-1) -> 0 | Z53: =ROUND(T53*0.8%,-1) -> 0 | AA53: =ROUND(T53*0.785%,-1) -> 0 | AB53: =SUM(V53:AA53) -> 0
E54: 4월 | V54: =ROUNDUP(T54*1/12,-1) -> 0 | W54: =ROUNDUP((S54-J54)*6.67%*1/2,-1) -> 0 | X54: =ROUNDUP(W54*10.25%,-1) -> 0 | Y54: =ROUND(S54*1.05%,-1) -> 0 | Z54: =ROUND(T54*0.8%,-1) -> 0 | AA54: =ROUND(T54*0.785%,-1) -> 0 | AB54: =SUM(V54:AA54) -> 0
E55: 5월 | V55: =ROUNDUP(T55*1/12,-1) -> 0 | W55: =ROUNDUP((S55-J55)*6.67%*1/2,-1) -> 0 | X55: =ROUNDUP(W55*10.25%,-1) -> 0 | Y55: =ROUND(S55*1.05%,-1) -> 0 | Z55: =ROUND(T55*0.8%,-1) -> 0 | AA55: =ROUND(T55*0.785%,-1) -> 0 | AB55: =SUM(V55:AA55) -> 0
E56: 6월 | V56: =ROUNDUP(T56*1/12,-1) -> 0 | W56: =ROUNDUP((S56-J56)*6.67%*1/2,-1) -> 0 | X56: =ROUNDUP(W56*10.25%,-1) -> 0 | Y56: =ROUND(S56*1.05%,-1) -> 0 | Z56: =ROUND(T56*0.8%,-1) -> 0 | AA56: =ROUND(T56*0.785%,-1) -> 0 | AB56: =SUM(V56:AA56) -> 0
C57: 1 | E57: 7월 | V57: =ROUNDUP(T57*1/12,-1) -> 0 | W57: =ROUNDUP((S57-J57)*6.67%*1/2,-1) -> 0 | X57: =ROUNDUP(W57*10.25%,-1) -> 0 | Y57: =ROUND(S57*1.05%,-1) -> 0 | Z57: =ROUND(T57*0.8%,-1) -> 0 | AA57: =ROUND(T57*0.785%,-1) -> 0 | AB57: =SUM(V57:AA57) -> 0
E58: 8월 | V58: =ROUNDUP(T58*1/12,-1) -> 0 | W58: =ROUNDUP((S58-J58)*6.67%*1/2,-1) -> 0 | X58: =ROUNDUP(W58*10.25%,-1) -> 0 | Y58: =ROUND(S58*1.05%,-1) -> 0 | Z58: =ROUND(T58*0.8%,-1) -> 0 | AA58: =ROUND(T58*0.785%,-1) -> 0 | AB58: =SUM(V58:AA58) -> 0
E59: 9월 | V59: =ROUNDUP(T59*1/12,-1) -> 0 | W59: =ROUNDUP((S59-J59)*6.67%*1/2,-1) -> 0 | X59: =ROUNDUP(W59*10.25%,-1) -> 0 | Y59: =ROUND(S59*1.05%,-1) -> 0 | Z59: =ROUND(T59*0.8%,-1) -> 0 | AA59: =ROUND(T59*0.785%,-1) -> 0 | AB59: =SUM(V59:AA59) -> 0
E60: 10월 | V60: =ROUNDUP(T60*1/12,-1) -> 0 | W60: =ROUNDUP((S60-J60)*6.67%*1/2,-1) -> 0 | X60: =ROUNDUP(W60*10.25%,-1) -> 0 | Y60: =ROUND(S60*1.05%,-1) -> 0 | Z60: =ROUND(T60*0.8%,-1) -> 0 | AA60: =ROUND(T60*0.785%,-1) -> 0 | AB60: =SUM(V60:AA60) -> 0
E61: 11월 | V61: =ROUNDUP(T61*1/12,-1) -> 0 | W61: =ROUNDUP((S61-J61)*6.67%*1/2,-1) -> 0 | X61: =ROUNDUP(W61*10.25%,-1) -> 0 | Y61: =ROUND(S61*1.05%,-1) -> 0 | Z61: =ROUND(T61*0.8%,-1) -> 0 | AA61: =ROUND(T61*0.785%,-1) -> 0 | AB61: =SUM(V61:AA61) -> 0
E62: 12월 | V62: =ROUNDUP(T62*1/12,-1) -> 0 | W62: =ROUNDUP((S62-J62)*6.67%*1/2,-1) -> 0 | X62: =ROUNDUP(W62*10.25%,-1) -> 0 | Y62: =ROUND(S62*1.05%,-1) -> 0 | Z62: =ROUND(T62*0.8%,-1) -> 0 | AA62: =ROUND(T62*0.785%,-1) -> 0 | AB62: =SUM(V62:AA62) -> 0
W63: =ROUNDUP((S63-J63)*6.67%*1/2,-1) -> 0 | X63: =ROUNDUP(W63*10.25%,-1) -> 0 | Y63: =ROUND(S63*1.05%,-1) -> 0
W64: =ROUNDUP((S64-J64)*6.67%*1/2,-1) -> 0 | X64: =ROUNDUP(W64*10.25%,-1) -> 0 | Y64: =ROUND(S64*1.05%,-1) -> 0
W65: =ROUNDUP((S65-J65)*6.67%*1/2,-1) -> 0 | X65: =ROUNDUP(W65*10.25%,-1) -> 0 | Y65: =ROUND(S65*1.05%,-1) -> 0
W66: =ROUNDUP((S66-J66)*6.67%*1/2,-1) -> 0 | X66: =ROUNDUP(W66*10.25%,-1) -> 0 | Y66: =ROUND(S66*1.05%,-1) -> 0
E67: 0 | W67: =ROUNDUP((S67-J67)*6.67%*1/2,-1) -> 0 | X67: =ROUNDUP(W67*10.25%,-1) -> 0 | Y67: =ROUND(S67*1.05%,-1) -> 0
W68: =ROUNDUP((S68-J68)*6.67%*1/2,-1) -> 0 | X68: =ROUNDUP(W68*10.25%,-1) -> 0 | Y68: =ROUND(S68*1.05%,-1) -> 0
W69: =ROUNDUP((S69-J69)*6.67%*1/2,-1) -> 0 | X69: =ROUNDUP(W69*10.25%,-1) -> 0 | Y69: =ROUND(S69*1.05%,-1) -> 0
W70: =ROUNDUP((S70-J70)*6.67%*1/2,-1) -> 0 | X70: =ROUNDUP(W70*10.25%,-1) -> 0 | Y70: =ROUND(S70*1.05%,-1) -> 0
W71: =ROUNDUP((S71-J71)*6.67%*1/2,-1) -> 0 | X71: =ROUNDUP(W71*10.25%,-1) -> 0 | Y71: =ROUND(S71*1.05%,-1) -> 0
W72: =ROUNDUP((S72-J72)*6.67%*1/2,-1) -> 0 | X72: =ROUNDUP(W72*10.25%,-1) -> 0 | Y72: =ROUND(S72*1.05%,-1) -> 0
W73: =ROUNDUP((S73-J73)*6.67%*1/2,-1) -> 0 | X73: =ROUNDUP(W73*10.25%,-1) -> 0 | Y73: =ROUND(S73*1.05%,-1) -> 0
W74: =ROUNDUP((S74-J74)*6.67%*1/2,-1) -> 0 | X74: =ROUNDUP(W74*10.25%,-1) -> 0 | Y74: =ROUND(S74*1.05%,-1) -> 0
W75: =ROUNDUP((S75-J75)*6.67%*1/2,-1) -> 0 | X75: =ROUNDUP(W75*10.25%,-1) -> 0 | Y75: =ROUND(S75*1.05%,-1) -> 0
W76: =ROUNDUP((S76-J76)*6.67%*1/2,-1) -> 0 | X76: =ROUNDUP(W76*10.25%,-1) -> 0 | Y76: =ROUND(S76*1.05%,-1) -> 0
W77: =ROUNDUP((S77-J77)*6.67%*1/2,-1) -> 0 | X77: =ROUNDUP(W77*10.25%,-1) -> 0 | Y77: =ROUND(S77*1.05%,-1) -> 0
W78: =ROUNDUP((S78-J78)*6.67%*1/2,-1) -> 0 | X78: =ROUNDUP(W78*10.25%,-1) -> 0 | Y78: =ROUND(S78*1.05%,-1) -> 0
W79: =ROUNDUP((S79-J79)*6.67%*1/2,-1) -> 0 | X79: =ROUNDUP(W79*10.25%,-1) -> 0 | Y79: =ROUND(S79*1.05%,-1) -> 0
... W88: =ROUNDUP((S88-J88)*6.67%*1/2,-1) -> 0 | X88: =ROUNDUP(W88*10.25%,-1) -> 0 | Y88: =ROUND(S88*1.05%,-1) -> 0
A89: 1 | B89: 생활재활교사 | C89: 1 | D89: 1 | E89: 소계 | F89: =SUM(F90:F101) -> 0 | G89: =SUM(G90:G101) -> 0 | H89: =SUM(H90:H101) -> 0 | I89: =SUM(I90:I101) -> 0 | J89: =SUM(J90:J101) -> 0 | K89: =SUM(K90:K101) -> 0 | L89: =SUM(L90:L101) -> 0 | M89: =SUM(M90:M101) -> 0 | ... O89: =SUM(O90:O101) -> 0 | Q89: =SUM(Q90:Q101) -> 0 | R89: =SUM(R90:R101) -> 0 | S89: =SUM(S90:S101) -> 0 | T89: =SUM(T90:T101) -> 0 | V89: =SUM(V90:V101) -> 0 | W89: =ROUNDUP((S89-J89)*6.67%*1/2,-1) -> 0 | X89: =ROUNDUP(W89*10.25%,-1) -> 0 | Y89: =ROUND(S89*1.05%,-1) -> 0 | Z89: =SUM(Z90:Z101) -> 0 | AA89: =SUM(AA90:AA101) -> 0 | AB89: =SUM(AB90:AB101) -> 0
B90: 안가람 | E90: 1월 | W90: =ROUNDUP((S90-J90)*6.67%*1/2,-1) -> 0 | X90: =ROUNDUP(W90*10.25%,-1) -> 0 | Y90: =ROUND(S90*1.05%,-1) -> 0
E91: 2월 | W91: =ROUNDUP((S91-J91)*6.67%*1/2,-1) -> 0 | X91: =ROUNDUP(W91*10.25%,-1) -> 0 | Y91: =ROUND(S91*1.05%,-1) -> 0
E92: 3월 | T92: =SUM(S92,P92,O92,M92,L92,F92) -> 0 | W92: =ROUNDUP((S92-J92)*6.67%*1/2,-1) -> 0 | X92: =ROUNDUP(W92*10.25%,-1) -> 0 | Y92: =ROUND(S92*1.05%,-1) -> 0
E93: 4월 | T93: =SUM(S93,P93,O93,M93,L93,F93) -> 0 | W93: =ROUNDUP((S93-J93)*6.67%*1/2,-1) -> 0 | X93: =ROUNDUP(W93*10.25%,-1) -> 0 | Y93: =ROUND(S93*1.05%,-1) -> 0
E94: 5월 | T94: =SUM(S94,P94,O94,M94,L94,F94) -> 0 | V94: =ROUNDUP(T94*1/12,-1) -> 0 | W94: =ROUNDUP((S94-J94)*6.67%*1/2,-1) -> 0 | X94: =ROUNDUP(W94*10.25%,-1) -> 0 | Y94: =ROUND(S94*1.05%,-1) -> 0 | Z94: =ROUND(T94*0.8%,-1) -> 0 | AA94: =ROUND(T94*0.785%,-1) -> 0 | AB94: =SUM(V94:AA94) -> 0
E95: 6월 | T95: =SUM(S95,P95,O95,M95,L95,F95) -> 0 | V95: =ROUNDUP(T95*1/12,-1) -> 0 | W95: =ROUNDUP((S95-J95)*6.67%*1/2,-1) -> 0 | X95: =ROUNDUP(W95*10.25%,-1) -> 0 | Y95: =ROUND(S95*1.05%,-1) -> 0 | Z95: =ROUND(T95*0.8%,-1) -> 0 | AA95: =ROUND(T95*0.785%,-1) -> 0 | AB95: =SUM(V95:AA95) -> 0
E96: 7월 | T96: =SUM(S96,P96,O96,M96,L96,F96) -> 0 | V96: =ROUNDUP(T96*1/12,-1) -> 0 | W96: =ROUNDUP((S96-J96)*6.67%*1/2,-1) -> 0 | X96: =ROUNDUP(W96*10.25%,-1) -> 0 | Y96: =ROUND(S96*1.05%,-1) -> 0 | Z96: =ROUND(T96*0.8%,-1) -> 0 | AA96: =ROUND(T96*0.785%,-1) -> 0 | AB96: =SUM(V96:AA96) -> 0
E97: 8월 | T97: =SUM(S97,P97,O97,M97,L97,F97) -> 0 | V97: =ROUNDUP(T97*1/12,-1) -> 0 | W97: =ROUNDUP((S97-J97)*6.67%*1/2,-1) -> 0 | X97: =ROUNDUP(W97*10.25%,-1) -> 0 | Y97: =ROUND(S97*1.05%,-1) -> 0 | Z97: =ROUND(T97*0.8%,-1) -> 0 | AA97: =ROUND(T97*0.785%,-1) -> 0 | AB97: =SUM(V97:AA97) -> 0
E98: 9월 | T98: =SUM(S98,P98,O98,M98,L98,F98) -> 0 | V98: =ROUNDUP(T98*1/12,-1) -> 0 | W98: =ROUNDUP((S98-J98)*6.67%*1/2,-1) -> 0 | X98: =ROUNDUP(W98*10.25%,-1) -> 0 | Y98: =ROUND(S98*1.05%,-1) -> 0 | Z98: =ROUND(T98*0.8%,-1) -> 0 | AA98: =ROUND(T98*0.785%,-1) -> 0 | AB98: =SUM(V98:AA98) -> 0
E99: 10월 | T99: =SUM(S99,P99,O99,M99,L99,F99) -> 0 | V99: =ROUNDUP(T99*1/12,-1) -> 0 | W99: =ROUNDUP((S99-J99)*6.67%*1/2,-1) -> 0 | X99: =ROUNDUP(W99*10.25%,-1) -> 0 | Y99: =ROUND(S99*1.05%,-1) -> 0 | Z99: =ROUND(T99*0.8%,-1) -> 0 | AA99: =ROUND(T99*0.785%,-1) -> 0 | AB99: =SUM(V99:AA99) -> 0
E100: 11월 | T100: =SUM(S100,P100,O100,M100,L100,F100) -> 0 | V100: =ROUNDUP(T100*1/12,-1) -> 0 | W100: =ROUNDUP((S100-J100)*6.67%*1/2,-1) -> 0 | X100: =ROUNDUP(W100*10.25%,-1) -> 0 | Y100: =ROUND(S100*1.05%,-1) -> 0 | Z100: =ROUND(T100*0.8%,-1) -> 0 | AA100: =ROUND(T100*0.785%,-1) -> 0 | AB100: =SUM(V100:AA100) -> 0
E101: 12월 | T101: =SUM(S101,P101,O101,M101,L101,F101) -> 0 | V101: =ROUNDUP(T101*1/12,-1) -> 0 | W101: =ROUNDUP((S101-J101)*6.67%*1/2,-1) -> 0 | X101: =ROUNDUP(W101*10.25%,-1) -> 0 | Y101: =ROUND(S101*1.05%,-1) -> 0 | Z101: =ROUND(T101*0.8%,-1) -> 0 | AA101: =ROUND(T101*0.785%,-1) -> 0 | AB101: =SUM(V101:AA101) -> 0
A102: 2 | B102: 생활재활교사 | C102: 1 | D102: 1 | E102: 소계 | F102: =SUM(F103:F114) -> 0 | G102: =SUM(G103:G114) -> 0 | H102: =SUM(H103:H114) -> 0 | I102: =SUM(I103:I114) -> 0 | J102: =SUM(J103:J114) -> 0 | K102: =SUM(K103:K114) -> 0 | L102: =SUM(L103:L114) -> 0 | M102: =SUM(M103:M114) -> 0 | ... O102: =SUM(O103:O114) -> 0 | Q102: =SUM(Q103:Q114) -> 0 | R102: =SUM(R103:R114) -> 0 | S102: =SUM(S103:S114) -> 0 | T102: =SUM(T103:T114) -> 0 | V102: =SUM(V103:V114) -> 0 | W102: =ROUNDUP((S102-J102)*6.67%*1/2,-1) -> 0 | X102: =ROUNDUP(W102*10.25%,-1) -> 0 | Y102: =ROUND(S102*1.05%,-1) -> 0 | Z102: =SUM(Z103:Z114) -> 0 | AA102: =SUM(AA103:AA114) -> 0 | AB102: =SUM(AB103:AB114) -> 0
B103: 변호영 | E103: 1월 | W103: =ROUNDUP((S103-J103)*6.67%*1/2,-1) -> 0 | X103: =ROUNDUP(W103*10.25%,-1) -> 0 | Y103: =ROUND(S103*1.05%,-1) -> 0
E104: 2월 | W104: =ROUNDUP((S104-J104)*6.67%*1/2,-1) -> 0 | X104: =ROUNDUP(W104*10.25%,-1) -> 0 | Y104: =ROUND(S104*1.05%,-1) -> 0
E105: 3월 | W105: =ROUNDUP((S105-J105)*6.67%*1/2,-1) -> 0 | X105: =ROUNDUP(W105*10.25%,-1) -> 0 | Y105: =ROUND(S105*1.05%,-1) -> 0
E106: 4월 | W106: =ROUNDUP((S106-J106)*6.67%*1/2,-1) -> 0 | X106: =ROUNDUP(W106*10.25%,-1) -> 0 | Y106: =ROUND(S106*1.05%,-1) -> 0
E107: 5월 | W107: =ROUNDUP((S107-J107)*6.67%*1/2,-1) -> 0 | X107: =ROUNDUP(W107*10.25%,-1) -> 0 | Y107: =ROUND(S107*1.05%,-1) -> 0
E108: 6월 | T108: =SUM(S108,P108,O108,M108,L108,F108) -> 0 | V108: =ROUNDUP(T108*1/12,-1) -> 0 | W108: =ROUNDUP((S108-J108)*6.67%*1/2,-1) -> 0 | X108: =ROUNDUP(W108*10.25%,-1) -> 0 | Y108: =ROUND(S108*1.05%,-1) -> 0 | Z108: =ROUND(T108*0.8%,-1) -> 0 | AA108: =ROUND(T108*0.785%,-1) -> 0 | AB108: =SUM(V108:AA108) -> 0
E109: 7월 | T109: =SUM(S109,P109,O109,M109,L109,F109) -> 0 | V109: =ROUNDUP(T109*1/12,-1) -> 0 | W109: =ROUNDUP((S109-J109)*6.67%*1/2,-1) -> 0 | X109: =ROUNDUP(W109*10.25%,-1) -> 0 | Y109: =ROUND(S109*1.05%,-1) -> 0 | Z109: =ROUND(T109*0.8%,-1) -> 0 | AA109: =ROUND(T109*0.785%,-1) -> 0 | AB109: =SUM(V109:AA109) -> 0
...

Sheet 자. 일용잡급일람표
A1: 자. 일용잡급 일람표
A3: 순번 | B3: 직책 | C3: 성명 | D3: 호봉 | E3: 급여 | F3: 제수당 | L3: 퇴직금 및 퇴직적립금 | M3: 사회보험부담금 | N3: 총합계 | O3: 비고
F4: 00수당 | G4: 00수당 | H4: 00수당 | I4: 00수당 | J4: 00수당 | K4: 제수당 계
A5: 1
A6: 2
A7: 3 | O7: 00 / 00 입사
A8: 4
A9: 5
A10: 6 | O10: 00 / 00 퇴사
A11: 합 계
A13: ※ 보건복지가족부 0000년 00000 종사자 보수지급기준표 적용.
