Workbook
Name F: #REF!
Name F: #REF!
Name F: #REF!
Name F: #REF!
Name F: #REF!
Name F: #REF!
Name F: #REF!
Name 보수: #REF!
Name 보수일람표: #REF!
Name 보수일람표1: #REF!
Name 보수일람표2: #REF!
Name 보수일람표3: #REF!
Name ㅇㅇㅇ: #REF!
Name 아: #REF!

Sheet 표지
A4: 2024년도
A11: 2024년 1차 추경
A12: 세입ㆍ세출 예산서(안)
A23: 사회복지법인 천주교수원교구사회복지회
A24: 별빛누리그룹홈 라온
E67: 0

Sheet 가. 예산총칙
A2: 가. 예 산 총 칙
A4: 제1조 | B4: 본 예산(안)은 사회복지법인 천주교 수원교구 사회복지회 소속 시설 "별빛누리그룹홈 라온"의
B5: 2024년도 (2024.01.01 ~2024.12.31) 예산으로
A7: 제2조 | B7: 세입세출 예산 총액은 | D7: ='나. 세입세출(총괄)'!E7 -> 133326000 | E7: 원으로, | G7: 세입세출의 명세는 다음과 같다.
B9: 1. 세입의 주요재원은 다음과 같다. (관 기준)
B10: 1) | C10: 입소자부담금 | D10: ='나. 세입세출(총괄)'!E8 -> 19200000 | E10: 원 | G10: 2) | H10: 사업수입 | I10: ='나. 세입세출(총괄)'!E11 -> 0 | J10: 원
B11: 3) | C11: 보조금수입 | D11: ='나. 세입세출(총괄)'!E17 -> 100425000 | E11: 원 | G11: 4) | H11: 후원금수입 | I11: ='나. 세입세출(총괄)'!E22 -> 0 | J11: 원
B12: 5) | C12: 전입금 | D12: ='나. 세입세출(총괄)'!E26 -> 0 | E12: 원 | G12: 6) | H12: 이월금 | I12: ='나. 세입세출(총괄)'!E29 -> 13603816 | J12: 원
B13: 7) | C13: 잡수입 | D13: ='나. 세입세출(총괄)'!E34 -> 97184 | E13: 원 | G13: 8) | J13: 원
B15: 2. 세출의 내용은 다음과 같다. (관 또는 항기준)
B16: 1) | C16: 사무비 | D16: ='나. 세입세출(총괄)'!L8 -> 102417060 | E16: 원 | G16: 2) | H16: 재산조성비 | I16: ='나. 세입세출(총괄)'!L26 -> 2250000 | J16: 원
B17: 3) | C17: 사업비 | D17: ='나. 세입세출(총괄)'!L31 -> 22744000 | E17: 원 | G17: 4) | H17: 잡지출 | I17: ='나. 세입세출(총괄)'!L49 -> 74410 | J17: 원
B18: 5) | C18: 예비비및기타 | D18: ='나. 세입세출(총괄)'!L52 -> 5840530 | E18: 원 | G18: 6) | J18: 원
B19: 7) | E19: 원
B21: 3. 명시이월 사업은 | D21: 해당없음 | G21: 이며, 예산은 | I21: 0 | J21: 원이다.
B23: 4. 신설사업은 | D23: 해당없음 | G23: 이며, 예산은 | I23: 0 | J23: 원이다.
A26: 제3조 | B26: 본예산(안)은 법인 이사회의 승인을 얻어 확정한다.
A28: 제4조 | B28: 법인이사회의 예산승인을 받기 전에 일반경비 및 긴급을 요하는 예산집행은 직전예산에 준하여
B29: 지출할 수 있으며, 그 집행된 예산은 당해 연도의 확정예산에 의하여 집행된 것으로 간주한다.
A31: 제5조 | B31: 각 계정과목 내의 항목의 예산집행은 당해 계정과목의 승인예산의 범위 내에서 항목간 예산을
B32: 일부 조정하여 사용할 수 있다.
A34: 제6조 | B34: 「사회복지법인 및 사회복지시설 재무회계규칙」 제16조에 의거하여 예산을 전용할 수 있다.
B35: 단, 관·항간 예산을 전용 할 경우 법인 이사회의 의결을 거쳐야 한다.
A37: 제7조 | B37: 국가 또는 지방자치단체로부터 교부된 보조금 및 지정후원금, 수익자부담 경비 등은
B38: 추가경정예산의 성립 이전이라도 보조 및 후원 목적에 적절한 경우 먼저 사용할 수 있으며,
B39: 이는 반드시 차기 추가경정예산에 반영하여야 한다.
A41: 제8조 | B41: 국가, 지방자치단체 및 사회복지기금 등에서 공모사업 선정으로 받은 보조금은 사회복지법인
B42: 및 사회복지시설 재무회계규칙에 따라 기타보조금에 편성되어야 한다.
B43: (만약, 지정후원금 또는 별도 사업비 편성이 용이하다는 지차체의 증빙자료(공문)가 있을시에만
B44: 별도 편성 가능)
A46: 제9조 | B46: 기타 회계 관련 규정의 개정으로 예산과목이 변경된 경우에는 당해연도 변경된 과목으로 승인
B47: 된 것으로 하며, 그 외의 예산총칙에 명시되지 아니한 사항은 「사회복지법인
B48: 및 사회복지시설 재무회계규칙」에 따라 집행한다.

Sheet 나. 세입세출(총괄)
A2: 나. 세입.세출 총괄표 (라온)
M3: (단위 : 원)
A4: 세 입 | H4: 세 출
A5: 과 목 | D5: 2024년 본 예산(A) | E5: 2024년 1차 추경(B) | F5: 증감금액 (C=B-A) | G5: 증감율(%) (C/A*100) | H5: 과 목 | K5: =D5 -> 2024년 본 예산(A) | L5: =E5 -> 2024년 1차 추경(B) | M5: 증감금액 (C=B-A) | N5: 증감율(%) (C/A*100)
A6: 관 | B6: 항 | C6: 목 | H6: 관 | I6: 항 | J6: 목
A7: 합 계 | D7: =D8+D11+D14+D17+D22+D26+D29+D34 -> 148045000 | E7: =E8+E11+E14+E17+E22+E26+E29+E34 -> 133326000 | F7: =E7-D7 -> -14719000 | G7: =F7/D7*100 -> -9.9422473 | H7: 합 계 | K7: =K8+K26+K31+K49+K52 -> 148045000 | L7: =L8+L26+L31+L49+L52 -> 133326000 | M7: =L7-K7 -> -14719000 | N7: =M7/K7*100 -> -9.9422473
A8: 입소자부담금 | B8: 계 | D8: =D9 -> 19200000 | E8: =E9 -> 19200000 | F8: =E8-D8 -> 0 | G8: =F8/D8*100 -> 0 | H8: 사무비 | I8: 계 | K8: =K9+K16+K19 -> 122066660 | L8: =L9+L16+L19 -> 102417060 | M8: =L8-K8 -> -19649600 | N8: =M8/K8*100 -> -16.097434
B9: 입소비용수입 | C9: 소계 | D9: =D10 -> 19200000 | E9: =E10 -> 19200000 | F9: =E9-D9 -> 0 | G9: =F9/D9*100 -> 0 | I9: 인건비 | J9: 소계 | K9: =SUM(K10:K15) -> 111706660 | L9: =SUM(L10:L15) -> 92057060 | M9: =L9-K9 -> -19649600 | N9: =M9/K9*100 -> -17.590357
C10: 입소비용수입 | D10: ='다. 세입내역서'!D9 -> 19200000 | E10: ='다. 세입내역서'!E9 -> 19200000 | F10: =E10-D10 -> 0 | G10: =F10/D10*100 -> 0 | J10: 급여 | K10: ='라. 세출내역서'!D9 -> 75315900 | L10: ='라. 세출내역서'!E9 -> 65999100 | M10: =L10-K10 -> -9316800 | N10: =M10/K10*100 -> -12.370296
A11: 사업수입 | B11: 계 | D11: =D12 -> 0 | E11: =E12 -> 0 | F11: 0 | G11: 0 | J11: 일용잡급 | K11: ='라. 세출내역서'!D14 -> 0 | L11: ='라. 세출내역서'!E14 -> 0 | M11: =L11-K11 -> 0 | N11: 0
B12: 사업수입 | C12: 소계 | D12: =D13 -> 0 | E12: =E13 -> 0 | F12: 0 | G12: 0 | J12: 제수당 | K12: ='라. 세출내역서'!D16 -> 18806420 | L12: ='라. 세출내역서'!E16 -> 15509220 | M12: =L12-K12 -> -3297200 | N12: =M12/K12*100 -> -17.532311
C13: 프로그램사업수입 | D13: ='다. 세입내역서'!D12 -> 0 | E13: ='다. 세입내역서'!E12 -> 0 | F13: 0 | G13: 0 | J13: 퇴직금및퇴직적립금 | K13: ='라. 세출내역서'!D27 -> 7843530 | L13: ='라. 세출내역서'!E27 -> 6792360 | M13: =L13-K13 -> -1051170 | N13: =M13/K13*100 -> -13.401746
A14: 과년도수입 | B14: 계 | D14: =D15 -> 0 | E14: =E15 -> 0 | F14: 0 | G14: 0 | J14: 사회보험부담비용 | K14: ='라. 세출내역서'!D29 -> 9740810 | L14: ='라. 세출내역서'!E29 -> 3756380 | M14: =L14-K14 -> -5984430 | N14: =M14/K14*100 -> -61.436677
B15: 과년도수입 | C15: 소계 | D15: =D16 -> 0 | E15: =E16 -> 0 | F15: 0 | G15: 0 | J15: 기타후생경비 | K15: ='라. 세출내역서'!D35 -> 0 | L15: ='라. 세출내역서'!E35 -> 0 | M15: =L15-K15 -> 0 | N15: =M15/K15*100 -> #DIV/0!
C16: 과년도수입 | D16: ='다. 세입내역서'!D15 -> 0 | E16: ='다. 세입내역서'!E15 -> 0 | F16: 0 | G16: 0 | I16: 업무추진비 | J16: 소계 | K16: =SUM(K17:K18) -> 140000 | L16: =SUM(L17:L18) -> 140000 | M16: =L16-K16 -> 0 | N16: =M16/K16*100 -> 0
A17: 보조금수입 | B17: 계 | D17: =D18 -> 123748660 | E17: =E18 -> 100425000 | F17: =E17-D17 -> -23323660 | G17: =F17/D17*100 -> -18.847606 | J17: 기관운영비 | K17: ='라. 세출내역서'!D40 -> 0 | L17: ='라. 세출내역서'!E40 -> 0 | M17: =L17-K17 -> 0 | N17: 0
B18: 보조금수입 | C18: 소계 | D18: =SUM(D19:D21) -> 123748660 | E18: =SUM(E19:E21) -> 100425000 | F18: =E18-D18 -> -23323660 | G18: =F18/D18*100 -> -18.847606 | J18: 회의비 | K18: ='라. 세출내역서'!D45 -> 140000 | L18: ='라. 세출내역서'!E45 -> 140000 | M18: =L18-K18 -> 0 | N18: =M18/K18*100 -> 0
C19: 시도보조금 | D19: ='다. 세입내역서'!D18 -> 123748660 | E19: ='다. 세입내역서'!E18 -> 100425000 | F19: =E19-D19 -> -23323660 | G19: =F19/D19*100 -> -18.847606 | I19: 운영비 | J19: 소계 | K19: =SUM(K20:K25) -> 10220000 | L19: =SUM(L20:L25) -> 10220000 | M19: =L19-K19 -> 0 | N19: =M19/K19*100 -> 0
C20: 시군구보조금 | D20: ='다. 세입내역서'!D19 -> 0 | E20: ='다. 세입내역서'!E19 -> 0 | F20: =E20-D20 -> 0 | G20: 0 | J20: 여비 | K20: ='라. 세출내역서'!D49 -> 0 | L20: ='라. 세출내역서'!E49 -> 0 | M20: =L20-K20 -> 0 | N20: 0
C21: 기타보조금 | D21: ='다. 세입내역서'!D20 -> 0 | E21: ='다. 세입내역서'!E20 -> 0 | F21: =E21-D21 -> 0 | G21: 0 | J21: 수용비및수수료 | K21: ='라. 세출내역서'!D51 -> 3900000 | L21: ='라. 세출내역서'!E51 -> 3900000 | M21: =L21-K21 -> 0 | N21: =M21/K21*100 -> 0
A22: 후원금 | B22: 계 | D22: =D23 -> 0 | E22: =E23 -> 0 | F22: =E22-D22 -> 0 | G22: =G23 -> 0 | J22: 공공요금 | K22: ='라. 세출내역서'!D58 -> 5400000 | L22: ='라. 세출내역서'!E58 -> 5400000 | M22: =L22-K22 -> 0 | N22: =M22/K22*100 -> 0
B23: 후원금수입 | C23: 소계 | D23: =SUM(D24:D25) -> 0 | E23: =SUM(E24:E25) -> 0 | F23: =E23-D23 -> 0 | G23: 0 | J23: 제세공과금 | K23: ='라. 세출내역서'!D60 -> 0 | L23: ='라. 세출내역서'!E60 -> 0 | M23: =L23-K23 -> 0 | N23: 0
C24: 지정후원금 | D24: ='다. 세입내역서'!D23 -> 0 | E24: ='다. 세입내역서'!E23 -> 0 | F24: =E24-D24 -> 0 | G24: 0 | J24: 차량비 | K24: ='라. 세출내역서'!D67 -> 920000 | L24: ='라. 세출내역서'!E67 -> 920000 | M24: =L24-K24 -> 0 | N24: =M24/K24*100 -> 0
C25: 비지정후원금 | D25: ='다. 세입내역서'!D24 -> 0 | E25: ='다. 세입내역서'!E24 -> 0 | F25: =E25-D25 -> 0 | G25: 0 | J25: 기타운영비 | K25: ='라. 세출내역서'!D70 -> 0 | L25: ='라. 세출내역서'!E70 -> 0 | M25: =L25-K25 -> 0 | N25: 0
A26: 전입금 | B26: 계 | D26: =D27 -> 0 | E26: =E27 -> 0 | F26: =E26-D26 -> 0 | G26: =G27 -> 0 | H26: 재산조성비 | I26: 계 | K26: =K27 -> 2250000 | L26: =L27 -> 2250000 | M26: =L26-K26 -> 0 | N26: =M26/K26*100 -> 0
B27: 전입금 | C27: 소계 | D27: =D28 -> 0 | E27: =E28 -> 0 | F27: =E27-D27 -> 0 | G27: =G28 -> 0 | I27: 시설비 | J27: 소계 | K27: =SUM(K28:K30) -> 2250000 | L27: =SUM(L28:L30) -> 2250000 | M27: =L27-K27 -> 0 | N27: =M27/K27*100 -> 0
C28: 법인전입금 | D28: ='다. 세입내역서'!D27 -> 0 | E28: ='다. 세입내역서'!E27 -> 0 | F28: =E28-D28 -> 0 | G28: 0 | J28: 시설비 | K28: ='라. 세출내역서'!D76 -> 0 | L28: ='라. 세출내역서'!E76 -> 0 | M28: =L28-K28 -> 0 | N28: 0
A29: 이월금 | B29: 계 | D29: =D30 -> 5000000 | E29: =E30 -> 13603816 | F29: =E29-D29 -> 8603816 | G29: =F29/D29*100 -> 172.07632 | J29: 자산취득비 | K29: ='라. 세출내역서'!D77 -> 0 | L29: ='라. 세출내역서'!E77 -> 0 | M29: =L29-K29 -> 0 | N29: 0
B30: 이월금 | C30: 소계 | D30: =SUM(D31:D33) -> 5000000 | E30: =SUM(E31:E33) -> 13603816 | F30: =E30-D30 -> 8603816 | G30: =F30/D30*100 -> 172.07632 | J30: 시설장비유지비 | K30: ='라. 세출내역서'!D84 -> 2250000 | L30: ='라. 세출내역서'!E84 -> 2250000 | M30: =L30-K30 -> 0 | N30: =M30/K30*100 -> 0
C31: 전년도이월금(자부담) | D31: ='다. 세입내역서'!D30 -> 4000000 | E31: ='다. 세입내역서'!E30 -> 7763286 | F31: =E31-D31 -> 3763286 | G31: =F31/D31*100 -> 94.08215 | H31: 사업비 | I31: 계 | K31: =K32+K38 -> 22632000 | L31: =L32+L38 -> 22744000 | M31: =L31-K31 -> 112000 | N31: =M31/K31*100 -> 0.49487451
C32: 전년도이월금(후원금) | D32: ='다. 세입내역서'!D31 -> 0 | E32: ='다. 세입내역서'!E31 -> 0 | F32: =E32-D32 -> 0 | G32: 0 | I32: 운영비 | J32: 소계 | K32: =SUM(K33:K37) -> 17528000 | L32: =SUM(L33:L37) -> 14740000 | M32: =L32-K32 -> -2788000 | N32: =M32/K32*100 -> -15.905979
C33: 전년도이월금(보조금) | D33: ='다. 세입내역서'!D32 -> 1000000 | E33: ='다. 세입내역서'!E32 -> 5840530 | F33: =E33-D33 -> 4840530 | G33: =F33/D33*100 -> 484.053 | J33: 생계비 | K33: ='라. 세출내역서'!D95 -> 8648000 | L33: ='라. 세출내역서'!E95 -> 6760000 | M33: =L33-K33 -> -1888000 | N33: =M33/K33*100 -> -21.831637
A34: 잡수입 | B34: 계 | D34: =D35 -> 96340 | E34: =E35 -> 97184 | F34: =E34-D34 -> 844 | G34: =F34/D34*100 -> 0.87606394 | J34: 수용기관경비 | K34: ='라. 세출내역서'!D101 -> 1380000 | L34: ='라. 세출내역서'!E101 -> 1380000 | M34: =L34-K34 -> 0 | N34: =M34/K34*100 -> 0
B35: 잡수입 | C35: 소계 | D35: =SUM(D36:D38) -> 96340 | E35: =SUM(E36:E38) -> 97184 | F35: =E35-D35 -> 844 | G35: =F35/D35*100 -> 0.87606394 | J35: 피복비 | K35: ='라. 세출내역서'!D105 -> 0 | L35: ='라. 세출내역서'!E105 -> 0 | M35: =L35-K35 -> 0 | N35: 0
C36: 불용품매각대 | D36: ='다. 세입내역서'!D35 -> 60000 | E36: ='다. 세입내역서'!E35 -> 60000 | F36: =E36-D36 -> 0 | G36: =F36/D36*100 -> 0 | J36: 의료비 | K36: ='라. 세출내역서'!D107 -> 600000 | L36: ='라. 세출내역서'!E107 -> 600000 | M36: =L36-K36 -> 0 | N36: =M36/K36*100 -> 0
C37: 기타예금이자수입 | D37: ='다. 세입내역서'!D36 -> 26340 | E37: ='다. 세입내역서'!E36 -> 27184 | F37: =E37-D37 -> 844 | G37: =F37/D37*100 -> 3.2042521 | J37: 연료비 | K37: ='라. 세출내역서'!D110 -> 6900000 | L37: ='라. 세출내역서'!E110 -> 6000000 | M37: =L37-K37 -> -900000 | N37: =M37/K37*100 -> -13.043478
C38: 기타잡수입 | D38: ='다. 세입내역서'!D37 -> 10000 | E38: ='다. 세입내역서'!E37 -> 10000 | F38: =E38-D38 -> 0 | G38: =F38/D38*100 -> 0 | I38: 사업비 | J38: 소계 | K38: =SUM(K39:K48) -> 5104000 | L38: =SUM(L39:L48) -> 8004000 | M38: =L38-K38 -> 2900000 | N38: =M38/K38*100 -> 56.818182
J39: 교육재활사업비 | K39: ='라. 세출내역서'!D114 -> 50000 | L39: ='라. 세출내역서'!E114 -> 50000 | M39: =L39-K39 -> 0 | N39: 0
J40: 일상생활서비스 | K40: ='라. 세출내역서'!D116 -> 0 | L40: ='라. 세출내역서'!E116 -> 0 | M40: =L40-K40 -> 0 | N40: 0
J41: 여가활동사업비 | K41: ='라. 세출내역서'!D118 -> 2892000 | L41: ='라. 세출내역서'!E118 -> 2792000 | M41: =L41-K41 -> -100000 | N41: =M41/K41*100 -> -3.4578147
...

Sheet 다. 세입내역서
A2: 다. 세입내역서 (라온)
J3: (단위 : 원)
A4: 과 목 | D4: ='나. 세입세출(총괄)'!D5 -> 2024년 본 예산(A) | E4: ='나. 세입세출(총괄)'!E5 -> 2024년 1차 추경(B) | F4: 증감금액 (C=B-A) | G4: 증감율(%) (C/A*100) | H4: 산 출 내 역
A5: 관 | B5: 항 | C5: 목
A6: 합 계 | D6: =D7+D10+D13+D16+D21+D25+D28+D33 -> 148045000 | E6: =E7+E13+E16+E25+E28+E33+E10+E21 -> 133326000 | F6: =F7+F13+F16+F25+F28+F33+F10+F21 -> -14719000 | G6: =F6/D6*100 -> -9.9422473
A7: 입소자부담금 | B7: 계 | D7: =D8 -> 19200000 | E7: =E8 -> 19200000 | F7: =E7-D7 -> 0 | G7: =F7/D7*100 -> 0
B8: 입소비용수입 | C8: 소계 | D8: =D9 -> 19200000 | E8: =E9 -> 19200000 | F8: =E8-D8 -> 0 | G8: =F8/D8*100 -> 0
C9: 입소비용수입 | D9: 19200000 | E9: 19200000 | F9: =E9-D9 -> 0 | G9: =F9/D9*100 -> 0 | H9: *라온 입소비용 수입 - 4명 X400,000원X12개월= 19,200,000원
A10: 사업수입 | B10: 계 | D10: 0 | E10: =E11 -> 0 | F10: =E10-D10 -> 0 | G10: 0
B11: 사업수입 | C11: 소계 | D11: 0 | E11: =E12 -> 0 | F11: =E11-D11 -> 0 | G11: 0
C12: 프로그램사업수입 | D12: 0 | E12: 0 | F12: 0 | G12: 0
A13: 과년도수입 | B13: 계 | D13: 0 | E13: =E14 -> 0 | F13: =E13-D13 -> 0 | G13: 0
B14: 과년도수입 | C14: 소계 | D14: 0 | E14: =E15 -> 0 | F14: =E14-D14 -> 0 | G14: 0
C15: 과년도수입 | D15: 0 | E15: 0 | F15: 0 | G15: 0
A16: 보조금수입 | B16: 계 | D16: =D17 -> 123748660 | E16: =E17 -> 100425000 | F16: =E16-D16 -> -23323660 | G16: =F16/D16*100 -> -18.847606
B17: 보조금수입 | C17: 소계 | D17: =SUM(D18:D20) -> 123748660 | E17: =SUM(E18:E20) -> 100425000 | F17: =E17-D17 -> -23323660 | G17: =F17/D17*100 -> -18.847606
C18: 시도보조금 | D18: 123748660 | E18: 100425000 | F18: =E18-D18 -> -23323660 | G18: =F18/D18*100 -> -18.847606 | H18: *라온: 인건비 87,983,000원+운영비 7,800,000원+4종1,642,000원+6종 3,000,000=100,425,000원
C19: 시군구보조금 | D19: 0 | E19: 0 | F19: =E19-D19 -> 0 | G19: 0
C20: 기타보조금 | D20: 0 | E20: 0 | F20: =E20-D20 -> 0 | G20: 0
A21: 후원금 | B21: 계 | D21: 0 | E21: =E22 -> 0 | F21: =E21-D21 -> 0 | G21: =G22 -> 0
B22: 후원금수입 | C22: 소계 | D22: 0 | E22: =SUM(E23:E24) -> 0 | F22: =E22-D22 -> 0 | G22: 0
C23: 지정후원금 | D23: 0 | E23: 0 | F23: =E23-D23 -> 0 | G23: 0
C24: 비지정후원금 | D24: 0 | E24: 0 | F24: =E24-D24 -> 0 | G24: 0
A25: 전입금 | B25: 계 | D25: 0 | E25: =E26 -> 0 | F25: =E25-D25 -> 0 | G25: =G26 -> 0
B26: 전입금 | C26: 소계 | D26: 0 | E26: =E27 -> 0 | F26: =E26-D26 -> 0 | G26: =G27 -> 0
C27: 법인전입금 | D27: 0 | E27: 0 | F27: =E27-D27 -> 0 | G27: 0
A28: 이월금 | B28: 계 | D28: =D29 -> 5000000 | E28: =E29 -> 13603816 | F28: =E28-D28 -> 8603816 | G28: =F28/D28*100 -> 172.07632
B29: 이월금 | C29: 소계 | D29: =SUM(D30:D32) -> 5000000 | E29: =SUM(E30:E32) -> 13603816 | F29: =E29-D29 -> 8603816 | G29: =F29/D29*100 -> 172.07632
C30: 전년도이월금(자부담) | D30: 4000000 | E30: 7763286 | F30: =E30-D30 -> 3763286 | G30: =F30/D30*100 -> 94.08215 | H30: *자부담 : 입소비용수입이월금 (7,762,780원), 예금이자이월금 (505원), 잡수입이월금 1원
C31: 전년도이월금(후원금) | D31: 0 | E31: 0 | F31: =E31-D31 -> 0 | G31: 0
C32: 전년도이월금(보조금) | D32: 1000000 | E32: 5840530 | F32: =E32-D32 -> 4840530 | G32: =F32/D32*100 -> 484.053 | H32: *보조금 : 1,000,000원 - 운영비: 보조금이월금 (5,746,100원)+예금이자이월금 (14,420원)= 5,760,520원 - 4종 운영비: 보조금이월금 80,000원+예금이자이월금(10원)=80,010원
A33: 잡수입 | B33: 계 | D33: =D34 -> 96340 | E33: =E34 -> 97184 | F33: =E33-D33 -> 844 | G33: =F33/D33*100 -> 0.87606394
B34: 잡수입 | C34: 소계 | D34: =SUM(D35:D37) -> 96340 | E34: =SUM(E35:E37) -> 97184 | F34: =SUM(F35:F37) -> 844 | G34: =F34/D34*100 -> 0.87606394
C35: 불용품매각대 | D35: 60000 | E35: 60000 | F35: =E35-D35 -> 0 | G35: =F35/D35*100 -> 0 | H35: *불용품매각대 60,000원
C36: 기타예금이자수입 | D36: 26340 | E36: 27184 | F36: =E36-D36 -> 844 | G36: =F36/D36*100 -> 3.2042521 | H36: *예금이자: 보조금 (21,340원), 자부담 (5,844원)
C37: 기타잡수입 | D37: 10000 | E37: 10000 | F37: =E37-D37 -> 0 | G37: =F37/D37*100 -> 0 | H37: *기타잡수입: 자부담 (10,000원)

Sheet 라. 세출내역서
A2: 라. 세출내역서 (라온)
U3: (단위 : 원)
A4: 과 목 | D4: ='나. 세입세출(총괄)'!D5 -> 2024년 본 예산(A) | E4: ='나. 세입세출(총괄)'!E5 -> 2024년 1차 추경(B) | F4: 증감금액 (C=B-A) | G4: 증감율(%) (C/A*100) | H4: 재원 | L4: 산 출 내 역
A5: 관 | B5: 항 | C5: 목 | H5: 보조금 | I5: 법인전입금 | J5: 자부담 | K5: 후원금
A6: 합 계 | D6: =D7+D74+D93+D148+D151 -> 148045000 | E6: =E7+E74+E93+E148+E151 -> 133326000 | F6: =E6-D6 -> -14719000 | G6: =F6/D6*100 -> -9.9422473 | H6: =H7+H74+H93+H148+H151 -> 106286870 | I6: =I7+I74+I93+I148+I151 -> 0 | J6: =J7+J74+J93+J148+J151 -> 27039130 | K6: =K7+K74+K93+K148+K151 -> 0 | U6: =U7+U74+U93+U148+U151 -> 133326000 | W6: =SUM(H6:K6) -> 133326000 | X6: =E6-W6 -> 0 | Y6: =U6-W6 -> 0
A7: 사무비 | B7: 계 | D7: =SUM(D8+D39+D48) -> 122066660 | E7: =SUM(E8,E39,E48) -> 102417060 | F7: =E7-D7 -> -19649600 | G7: =F7/D7*100 -> -16.097434 | H7: =H8+H39+H48 -> 90583000 | I7: =I8+I39+I48 -> 0 | J7: =J8+J39+J48 -> 11834060 | K7: =K8+K39+K48 -> 0 | U7: =U8+U39+U48 -> 102417060 | W7: =SUM(H7:K7) -> 102417060 | X7: =E7-W7 -> 0 | Y7: =U7-W7 -> 0
B8: 인건비 | C8: 소계 | D8: =SUM(D9,D14,D16,D27,D29,D35,) -> 111706660 | E8: =SUM(E9,E14,E16,E27,E29,E35) -> 92057060 | F8: =E8-D8 -> -19649600 | G8: =F8/D8*100 -> -17.590357 | H8: =SUM(H9:H35) -> 87983000 | I8: =SUM(I9:I35) -> 0 | J8: =SUM(J9:J35) -> 4074060 | K8: =SUM(K9:K35) -> 0 | U8: =SUM(U9,U14,U16,U27,U29,U35) -> 92057060 | W8: =SUM(H8:K8) -> 92057060 | X8: =E8-W8 -> 0 | Y8: =U8-W8 -> 0
C9: 급여 | D9: 75315900 | E9: =SUM(H9:J9) -> 65999100 | F9: =E9-D9 -> -9316800 | G9: =F9/D9*100 -> -12.370296 | H9: 63606870 | I9: 0 | J9: 2392230 | K9: 0 | L9: ◆급여 | U9: =SUM(U10:U13) -> 65999100
L10: 사회재활교사 | M10: 이애경 | N10: =U10/P10/R10 -> 4899600 | O10: × | P10: 3 | Q10: × | R10: 1 | S10: = | U10: ='사. 임직원보수 일람표'!F9 -> 14698800
N11: =U11/P11/R11 -> 4960100 | O11: × | P11: 9 | Q11: × | R11: 1 | S11: = | U11: ='사. 임직원보수 일람표'!F10 -> 44640900
L12: 생활재활교사 | N12: =U12/P12/R12 -> 1109900 | O12: × | P12: 6 | Q12: × | R12: 1 | S12: = | U12: ='사. 임직원보수 일람표'!F11 -> 6659400
C14: 일용잡급 | D14: 0 | E14: =SUM(H14:K14) -> 0 | F14: =E14-D14 -> 0 | G14: 0 | H14: 0 | I14: 0 | J14: 0 | K14: 0 | L14: ◆일용잡급 | U14: =E14 -> 0 | W14: =SUM(H14:K14) -> 0 | X14: =E14-W14 -> 0 | Y14: =U14-W14 -> 0
L15: 계약직 | N15: 0 | O15: × | P15: 12 | Q15: × | R15: 1 | S15: = | U15: =N15*P15*R15 -> 0
C16: 제수당 | D16: 18806420 | E16: =SUM(H16:K16) -> 15509220 | F16: =E16-D16 -> -3297200 | G16: =F16/D16*100 -> -17.532311 | H16: 14792020 | I16: 0 | J16: 717200 | K16: 0 | L16: ◆제수당 | U16: =U17+U22+U25 -> 15509220 | W16: =SUM(H16:K16) -> 15509220 | X16: =E16-W16 -> 0 | Y16: =U16-W16 -> 0
L17: -명절휴가비 | U17: =SUM(U18:U21) -> 5915820
L18: 사회재활교사 | M18: 이애경 | N18: =U18/P18/R18 -> 4899600 | O18: × | P18: 1 | Q18: × | R18: 0.6 | S18: = | U18: ='사. 임직원보수 일람표'!G9 -> 2939760
N19: =U19/P19/R19 -> 4960100 | O19: × | P19: 1 | Q19: × | R19: 0.6 | S19: = | U19: ='사. 임직원보수 일람표'!G10 -> 2976060
L20: 생활재활교사 | N20: =U20/P20/R20 -> 0 | O20: × | P20: 1 | Q20: × | R20: 0.6 | S20: = | U20: ='사. 임직원보수 일람표'!G11 -> 0
N21: =U21/P21/R21 -> 0 | O21: × | P21: 1 | Q21: × | R21: 0.6 | S21: = | U21: ='사. 임직원보수 일람표'!G12 -> 0
L22: -가족수당 | U22: =SUM(U23:U24) -> 120000
L23: 사회재활교사 | M23: 이애경 | N23: =U23/P23/R23 -> 0 | O23: × | P23: 12 | Q23: × | R23: 1 | S23: = | U23: ='사. 임직원보수 일람표'!H9+'사. 임직원보수 일람표'!H10 -> 0
L24: 생활재활교사 | N24: =U24/P24/R24 -> 20000 | O24: × | P24: 6 | Q24: × | R24: 1 | S24: = | U24: ='사. 임직원보수 일람표'!H11+'사. 임직원보수 일람표'!H12 -> 120000
L25: -연장근로수당 | U25: =U26 -> 9473400
M26: =U10+U11 -> 59339700 | N26: X 1/209 | O26: × | P26: 1.5 | Q26: × | R26: 20시간 | S26: = | U26: ='사. 임직원보수 일람표'!I41 -> 9473400
C27: 퇴직금및퇴직적립금 | D27: 7843530 | E27: =SUM(H27:K27) -> 6792360 | F27: =E27-D27 -> -1051170 | G27: =F27/D27*100 -> -13.401746 | H27: 6362670 | I27: 0 | J27: 429690 | K27: 0 | L27: ◆퇴직적립금 | U27: =U28 -> 6792360 | W27: =SUM(H27:K27) -> 6792360 | X27: =E27-W27 -> 0 | Y27: =U27-W27 -> 0
N28: =U9+U16 -> 81508320 | O28: × | P28: 1/12 | S28: = | U28: ='사. 임직원보수 일람표'!K41 -> 6792360
C29: 사회보험부담비용 | D29: 9740810 | E29: =SUM(H29:K29) -> 3756380 | F29: =E29-D29 -> -5984430 | G29: =F29/D29*100 -> -61.436677 | H29: 3221440 | I29: 0 | J29: 534940 | K29: 0 | L29: ◆사회보험부담비용 | U29: =SUM(U30:U34) -> 3756380 | W29: =SUM(H29:K29) -> 3756380 | X29: =E29-W29 -> 0 | Y29: =U29-W29 -> 0
L30: 국민연금 | N30: =U9+U16 -> 81508320 | O30: × | P30: 0.045 | S30: = | U30: ='사. 임직원보수 일람표'!N41 -> 348080
L31: 건강보험료 | N31: =N30 -> 81508320 | O31: × | P31: 0.03545 | S31: = | U31: ='사. 임직원보수 일람표'!L41 -> 2889470
L32: 노인장기요양보험 | N32: =U31 -> 2889470 | O32: × | P32: 0.1281 | S32: = | U32: ='사. 임직원보수 일람표'!M41 -> 374190
L33: 고용보험 | N33: =N31 -> 81508320 | O33: × | P33: 0.0105 | S33: = | U33: ='사. 임직원보수 일람표'!O41 -> 88950
L34: 산재보험 | N34: =N33 -> 81508320 | O34: × | P34: 0.008 | S34: = | U34: ='사. 임직원보수 일람표'!P41 -> 55690
C35: 기타후생경비 | D35: 0 | E35: =SUM(H35:K35) -> 0 | F35: =E35-D35 -> 0 | G35: 0 | H35: 0 | I35: 0 | J35: 0 | K35: 0 | L35: ◆기타후생경비 | U35: =SUM(U36:U38) -> 0 | W35: =SUM(H35:K35) -> 0 | X35: =E35-W35 -> 0 | Y35: =U35-W35 -> 0
L36: 직원복리후생비 | N36: 0 | O36: × | P36: 12 | S36: = | U36: =N36*P36 -> 0
L37: 단체상해보험 | N37: 0 | O37: × | P37: 1 | Q37: × | R37: 16 | S37: = | U37: =N37*P37*R37 -> 0
L38: 명함제작비 | N38: 0 | O38: × | P38: 1 | Q38: × | R38: 10 | S38: = | U38: =N38*P38*R38 -> 0
B39: 업무추진비 | C39: 소계 | D39: =SUM(D40:D47) -> 140000 | E39: =SUM(E40,E45) -> 140000 | F39: =E39-D39 -> 0 | G39: =F39/D39*100 -> 0 | H39: =SUM(H40:H45) -> 0 | I39: =SUM(I40:I45) -> 0 | J39: =SUM(J40:J45) -> 140000 | K39: =SUM(K40:K45) -> 0 | U39: =SUM(U40,U43,U45) -> 140000 | W39: =SUM(H39:K39) -> 140000 | X39: =E39-W39 -> 0 | Y39: =U39-W39 -> 0
C40: 기관운영비 | D40: 0 | E40: =SUM(H40:K40) -> 0 | F40: =E40-D40 -> 0 | G40: 0 | H40: 0 | I40: 0 | J40: 0 | K40: 0 | L40: ◆기관운영비 | U40: =SUM(U41:U42) -> 0 | W40: =SUM(H40:K40) -> 0 | X40: =E40-W40 -> 0 | Y40: =U40-W40 -> 0
L41: 유관기관경비 | N41: 0 | O41: × | P41: 12 | S41: = | U41: 0
L42: 지역 명절 선물비 | N42: 0 | O42: × | P42: 2 | Q42: × | R42: 10 | S42: = | U42: 0
...

Sheet 라-1.보조금세출
A1: 라. 세 출
A2: 1) 보조금 세출내역
I3: (단위:원)
A4: 과 목 | E4: #REF! | F4: #REF! | G4: 증감(B-A) | I4: 산 출 내 역
A5: 관 | B5: 항 | C5: 목 | D5: 세목 | G5: 금액 | H5: 비율(%) | AB5: =#REF!+172000-'라-1.보조금세출'!F6 -> #REF!
A6: 총 계 | E6: 0 | F6: =F7+F34+F39+F52+F55 -> 271383340 | G6: =F6-E6 -> 271383340 | H6: 100 | I6: 총계 | Q6: =Q7+Q34+Q39+Q52+Q55 -> 269383340 | R6: 원 | T6: =(67920000)+(31750000) -> 99670000
A7: 사무비 | B7: 계 | E7: 0 | F7: =F8+F23+F27 -> 145835340 | G7: =F7-E7 -> 145835340 | H7: 100 | I7: 사무비 계 | Q7: =Q8+Q23+Q27 -> 145835340 | R7: 원 | T7: =SUM(F23,F28,F29,F30,#REF!,#REF!,#REF!,F32,F35,F43,F44,F47) -> #REF!
B8: 인건비 | C8: 소계 | E8: 0 | F8: =F9+F10+F16+F22+F15 -> 118030060 | G8: =F8-E8 -> 118030060 | H8: 100 | I8: 인건비 소계 | Q8: =Q9+Q10+Q15+Q16+Q22 -> 118030060 | R8: 원 | T8: =T6-T7 -> #REF!
C9: 급여 | E9: 0 | F9: =Q9 -> 65999100 | G9: =F9-E9 -> 65999100 | H9: 100 | I9: 급여 | K9: ='사. 임직원보수 일람표'!F41/8/12 -> 687490.62 | L9: × | M9: 12 | N9: × | O9: 8 | P9: = | Q9: ='사. 임직원보수 일람표'!F41 -> 65999100 | R9: 원
C10: 제수당 | D10: 소계 | E10: 0 | F10: =SUM(F11:F13) -> 15509220 | G10: =F10-E10 -> 15509220 | H10: 100 | I10: 제수당 소계 | Q10: =SUM(Q11:Q13) -> 15509220 | R10: 원
D11: 명절휴가비 | E11: 0 | F11: =Q11 -> 5915820 | G11: =F11-E11 -> 5915820 | H11: 100 | I11: 명절휴가비 | K11: ='사. 임직원보수 일람표'!G41/8/2 -> 369738.75 | L11: × | M11: 8 | N11: × | O11: 2 | P11: = | Q11: =K11*M11*O11 -> 5915820 | R11: 원
D12: 연장근로수당 | E12: 0 | F12: =Q12 -> 9473400 | G12: =F12-E12 -> 9473400 | H12: 100 | I12: 연장근로수당 | K12: ='사. 임직원보수 일람표'!I41/8/12 -> 98681.25 | L12: × | M12: 12 | N12: × | O12: 8 | P12: = | Q12: =K12*M12*O12 -> 9473400 | R12: 원
D13: 가족수당 | E13: 0 | F13: =Q13 -> 120000 | G13: =F13-E13 -> 120000 | H13: 100 | I13: 가족수당 | K13: ='사. 임직원보수 일람표'!H41/8/12 -> 1250 | L13: × | M13: 12 | N13: × | O13: 8 | P13: = | Q13: =K13*M13*O13 -> 120000 | R13: 원
H14: 100 | R14: 원 | T14: #REF!
C15: 퇴직적립금 | E15: 0 | F15: =Q15 -> 6792360 | G15: =F15-E15 -> 6792360 | H15: 100 | I15: 퇴직금및 퇴직적립금 | K15: ='사. 임직원보수 일람표'!F41+'사. 임직원보수 일람표'!J41 -> 81508320 | L15: × | M15: 0.083333333 | N15: × | P15: = | Q15: ='사. 임직원보수 일람표'!K41 -> 6792360 | R15: 원
C16: 사회보험부담금 | D16: 소계 | E16: 0 | F16: =SUM(F17:F21) -> 29729380 | G16: =F16-E16 -> 29729380 | H16: 100 | I16: 사회보험부담비용 | Q16: =SUM(Q17:Q21) -> 29729380 | R16: 원 | X16: =SUM(F17-X17) -> #REF! | Z16: #REF!
D17: 건강보험 부담금 | E17: 0 | F17: =Q17 -> 9895340 | G17: =F17-E17 -> 9895340 | H17: 100 | I17: 건강보험료 | K17: =K15 -> 81508320 | L17: × | M17: 0.0667 | N17: × | O17: 0.5 | P17: = | Q17: ='인건비총계표(보조금)'!Y5 -> 9895340 | R17: 원 | T17: #REF! | U17: =ROUNDUP(T17*3.23%,-1) -> #REF! | V17: =ROUNDUP(U17*8.51%,-1) -> #REF! | W17: #REF! | X17: =SUM(V17:W17) -> #REF! | Z17: =SUM(Y16:Y17) -> 0
D18: 장기요양보험 | F18: =Q18 -> 1014790 | G18: =F18-E18 -> 1014790 | H18: 100 | I18: 장기요양보험 | K18: =Q17 -> 9895340 | L18: × | M18: 0.1025 | P18: = | Q18: ='인건비총계표(보조금)'!Z5 -> 1014790 | R18: 원 | T18: #REF! | U18: =ROUNDUP(T18*4.5%,-1) -> #REF! | V18: =F19-U18 -> #REF!
D19: 국민연금 부담금 | E19: 0 | F19: =Q19 -> 13351150 | G19: =F19-E19 -> 13351150 | H19: 100 | I19: 국민연금 | K19: =K17 -> 81508320 | L19: × | M19: 0.09 | N19: × | O19: 0.5 | P19: = | Q19: ='인건비총계표(보조금)'!X5 -> 13351150 | R19: 원 | T19: #REF! | U19: =ROUNDUP(T19*0.9%,-1) -> #REF! | V19: =F20-U19 -> #REF!
D20: 고용보험 부담금 | E20: 0 | F20: =Q20 -> 3115300 | G20: =F20-E20 -> 3115300 | H20: 100 | I20: 고용보험 | K20: =K19 -> 81508320 | L20: × | M20: 0.0105 | P20: = | Q20: ='인건비총계표(보조금)'!AA5 -> 3115300 | R20: 원 | T20: #REF! | U20: =ROUNDUP(T20*0.8%,-1) -> #REF! | V20: =F21-U20 -> #REF!
D21: 산재보험 부담금 | E21: 0 | F21: =Q21 -> 2352800 | G21: =F21-E21 -> 2352800 | H21: 100 | I21: 산재보험 | K21: =K20 -> 81508320 | L21: × | M21: 0.00793 | P21: = | Q21: ='인건비총계표(보조금)'!AB5 -> 2352800 | R21: 원
C22: 기타후생경비 | E22: 0 | F22: =Q22 -> 0 | G22: =F22-E22 -> 0 | H22: 0 | I22: 직원연수, 경조사, 복리후생비 | Q22: 0 | R22: 원
B23: 업무 추진비 | C23: 소계 | E23: 0 | F23: =SUM(F24:F26) -> 0 | G23: =F23-E23 -> 0 | H23: 0 | I23: 업무추진비 소계 | Q23: =SUM(Q24:Q26) -> 0 | R23: 원
C24: 기관운영비 | E24: 0 | F24: =Q24 -> 0 | G24: =F24-E24 -> 0 | H24: 0 | I24: 유관기관 제 잡비 | K24: 0 | L24: × | M24: 12 | P24: = | Q24: =K24*M24 -> 0 | R24: 원
C25: 직책보조비 | E25: 0 | F25: =Q25 -> 0 | G25: =F25-E25 -> 0 | H25: 0 | I25: 직책보조비 | K25: 0 | L25: × | M25: 12 | P25: = | Q25: =K25*M25 -> 0 | R25: 원
C26: 회의비 | E26: 0 | F26: =Q26 -> 0 | G26: =F26-E26 -> 0 | H26: 0 | I26: 회의비 | K26: 0 | L26: × | M26: 12 | P26: = | Q26: =K26*M26 -> 0 | R26: 원
B27: 운영비 | C27: 소계 | E27: 0 | F27: =F28+F29+F30+F31+F32+F33 -> 27805280 | G27: =F27-E27 -> 27805280 | H27: 100 | I27: 운영비 소계 | Q27: =SUM(Q28:Q33) -> 27805280 | R27: 원
C28: 여비 | E28: 0 | F28: =Q28 -> 0 | G28: =F28-E28 -> 0 | H28: 0 | I28: 여비 | Q28: 0 | R28: 원
C29: 수용비및 수수료 | E29: 0 | F29: =Q29 -> 12305280 | G29: =F29-E29 -> 12305280 | H29: 100 | I29: 사무용품비, 인쇄비, 수수료 등 | Q29: 12305280 | R29: 원 | T29: 2931420 | U29: =T29*12 -> 35177040
C30: 공공요금 | E30: 0 | F30: =Q30 -> 12000000 | G30: =F30-E30 -> 12000000 | H30: 100 | I30: 수도료,전기료,우편료,전화료,운송료 등 | Q30: 12000000 | R30: 원 | T30: 43916 | U30: =T30*80*12 -> 42159360
C31: 제세공과금 | E31: 0 | F31: =Q31 -> 2000000 | G31: =F31-E31 -> 2000000 | H31: 100 | I31: 제세공과금 | Q31: 2000000 | R31: 원 | U31: =SUM(U29:U30) -> 77336400
C32: 차량비 | E32: 0 | F32: =Q32 -> 1500000 | G32: =F32-E32 -> 1500000 | H32: 100 | I32: 차량 주유비 및 정비료 | Q32: 1500000 | R32: 원
C33: 기타운영비 | E33: 0 | F33: =Q33 -> 0 | G33: =F33-E33 -> 0 | H33: 0 | I33: 직원근무복, 기타행사비(부활,성탄) | Q33: 0 | R33: 원
A34: 재산조성비 | B34: 계 | E34: 0 | F34: =F35 -> 18000000 | G34: =F34-E34 -> 18000000 | H34: 100 | I34: 재산조성비 계 | Q34: =Q35 -> 18000000 | R34: 원
B35: 시설비 | C35: 소계 | E35: 0 | F35: =SUM(F36:F38) -> 18000000 | G35: =F35-E35 -> 18000000 | H35: 100 | I35: 시설비 소계 | Q35: =Q36+Q37+Q38 -> 18000000 | R35: 원
C36: 시설비 | E36: 0 | F36: =Q36 -> 0 | G36: =F36-E36 -> 0 | H36: 0 | I36: 시설공사비 | Q36: 0 | R36: 원
C37: 자산취득비 | E37: 0 | F37: =Q37 -> 0 | G37: =F37-E37 -> 0 | H37: 0 | I37: 자산취득비 | K37: 0 | L37: × | M37: 0 | P37: = | Q37: =K37*M37 -> 0 | R37: 원
C38: 시설장비 유지비 | D38: 건물유지비 | E38: 0 | F38: =Q38 -> 18000000 | G38: =F38-E38 -> 18000000 | H38: 100 | I38: 장비 및 건물보수 유지비 | K38: 1500000 | L38: × | M38: 12 | P38: = | Q38: =K38*M38 -> 18000000 | R38: 원
A39: 사업비 | B39: 계 | E39: 0 | F39: =F40+F46 -> 107376000 | G39: =F39-E39 -> 107376000 | H39: 100 | I39: 사업비 계 | Q39: =Q40+Q46 -> 105376000 | R39: 원
B40: 운영비 | C40: 소계 | E40: 0 | F40: =SUM(F41:F45) -> 66976000 | G40: =F40-E40 -> 66976000 | H40: 100 | I40: 사업비 운영비 소계 | Q40: =Q41+Q43+Q42+Q44+Q45 -> 66976000 | R40: 원
...

Sheet 라-2.자부담세출
A1: 라. 세 출
A2: 3) 자부담 세출내역
I3: (단위:원)
A4: 과 목 | E4: ='라-1.보조금세출'!E4:E5 -> #REF! | F4: ='라-1.보조금세출'!F4:F5 -> #REF! | G4: 증감(B-A) | I4: 산 출 내 역
A5: 관 | B5: 항 | C5: 목 | D5: 세목 | G5: 금액 | H5: 비율(%) | T5: 이월금 포함 | AJ5: =#REF!+6300000+500000+100000+1000000-'라-2.자부담세출'!F6 -> #REF!
A6: 총 계 | E6: =E7+E46+E51+E63+E66 -> 70500000 | F6: =F7+F46+F51+F66+F63 -> #REF! | G6: =G7+G46+G51+G66+G63 -> #REF! | H6: =G6/E6*100 -> #REF! | I6: 총계 | Q6: =Q7+Q46+Q51+Q63+Q66 -> #REF! | R6: 원 | S6: #REF! | U6: =SUM(U7:U12) -> #REF! | V6: =SUM(V7:V12) -> #REF! | W6: =SUM(W33:W68) -> #REF! | Z6: #REF! | AB6: #REF! | AD6: #REF!
A7: 사무비 | B7: 계 | E7: =E8+E34+E39 -> 47485000 | F7: =F8+F34+F39 -> #REF! | G7: =F7-E7 -> #REF! | H7: =G7/E7*100 -> #REF! | I7: 사무비 계 | Q7: =Q8+Q34+Q39 -> #REF! | R7: 원 | T7: 유료입소 | U7: #REF! | V7: =U42+U53+U60+U62+#REF!+U55 -> #REF! | W7: =U7-V7 -> #REF!
B8: 인건비 | C8: 소계 | E8: =SUM(E9,E10,E11,E12,E26,E27,E33) -> 46085000 | F8: =F9+F10+F11+F12+F26+F27+F33 -> #REF! | G8: =F8-E8 -> #REF! | H8: =G8/E8*100 -> #REF! | I8: 인건비 소계 | Q8: =Q9+Q10+Q11+Q12+Q26+Q27+Q33 -> #REF! | R8: 원 | T8: 법인전입-승마 | U8: 0 | V8: =#REF! -> #REF! | W8: =U8-V8 -> #REF! | Z8: =F6-Z6 -> #REF!
C9: 급여 | E9: 10800000 | F9: #REF! | G9: =F9-E9 -> #REF! | H9: =G9/E9*100 -> #REF! | I9: 급여 | K9: 1830000 | L9: × | M9: 12 | N9: × | O9: 1 | P9: = | Q9: =K9*M9*O9 -> 21960000 | R9: 원 | T9: 법인전입 | U9: 43648948 | V9: =F9+F10+F11+F12+F26+F27+T33+T42+T41+T43+T45+T48+T49+T50+T36+T38+T44+T60+T61+T62+T55+T66 -> #REF! | W9: =U9-V9 -> #REF!
C10: 상여금 | E10: 0 | F10: 0 | G10: =F10-E10 -> 0 | H10: =G10/E10*100 -> #DIV/0! | I10: 상여금 | R10: 원 | T10: 잡수입-식대 | U10: 19000000 | V10: =V53 -> 19000000 | W10: =U10-V10 -> 0
C11: 일용잡급 | E11: 33000000 | F11: =Q11 -> 0 | G11: =F11-E11 -> -33000000 | H11: =G11/E11*100 -> -100 | I11: 일용잡급 | K11: 0 | L11: × | M11: 12 | N11: × | O11: 0 | P11: = | Q11: =K11*M11*O11 -> 0 | R11: 원 | T11: 잡수입 | U11: 9283923 | V11: =V66+V63+V55+V41+V42+V43+V44+V45+V50+V35+V38+#REF! -> #REF! | W11: =U11-V11 -> #REF!
C12: 제수당 | E12: =E21 -> 0 | F12: #REF! | G12: =F12-E12 -> #REF! | H12: =G12/E12*100 -> #REF! | I12: 제수당 | K12: 1830000 | L12: × | M12: 0.6 | N12: × | O12: 2 | P12: = | Q12: =K12*M12*O12 -> 2196000 | R12: 원 | T12: 프로그램수입 | U12: 5175729 | V12: =V59+V60+V61+V62 -> 5175729 | W12: =U12-V12 -> 0
D13: 가계보조수당 | E13: 0 | F13: 0 | G13: =F13-E13 -> 0 | H13: =G13/E13*100 -> #DIV/0! | R13: 원
D14: 교통급식비 | E14: 0 | F14: 0 | G14: =F14-E14 -> 0 | H14: =G14/E14*100 -> #DIV/0! | R14: 원
D15: 명절휴가비 | E15: 0 | F15: 0 | G15: =F15-E15 -> 0 | H15: =G15/E15*100 -> #DIV/0! | R15: 원
D16: 생활복지사수당 | E16: 0 | F16: 0 | G16: =F16-E16 -> 0 | H16: =G16/E16*100 -> #DIV/0! | R16: 원
D17: 생활지도원수당 | E17: 0 | F17: 0 | G17: =F17-E17 -> 0 | H17: =G17/E17*100 -> #DIV/0! | R17: 원
D18: 조리.위생수당 | E18: 0 | F18: 0 | G18: =F18-E18 -> 0 | H18: =G18/E18*100 -> #DIV/0! | R18: 원
G19: =F19-E19 -> 0 | H19: =G19/E19*100 -> #DIV/0! | R19: 원
D20: 가족수당 | E20: 0 | F20: 0 | G20: =F20-E20 -> 0 | H20: =G20/E20*100 -> #DIV/0! | R20: 원
D21: 직책수당 | E21: 0 | F21: 0 | G21: =F21-E21 -> 0 | H21: =G21/E21*100 -> #DIV/0! | I21: 기관장(300,000원),사무국장(200,000원), 과장(150,000원,2명),팀장(100,000원, 8명) | R21: 원
E22: 0 | F22: 0 | G22: =F22-E22 -> 0 | H22: =G22/E22*100 -> #DIV/0! | R22: 원
E23: 0 | F23: 0 | G23: =F23-E23 -> 0 | H23: =G23/E23*100 -> #DIV/0! | R23: 원
E24: 0 | F24: 0 | G24: =F24-E24 -> 0 | H24: =G24/E24*100 -> #DIV/0! | R24: 원
E25: 0 | F25: 0 | G25: =F25-E25 -> 0 | H25: =G25/E25*100 -> #DIV/0! | R25: 원
C26: 퇴직금및 적립금 | E26: 900000 | F26: #REF! | G26: =F26-E26 -> #REF! | H26: =G26/E26*100 -> #REF! | I26: 퇴직금및 퇴직적립금 | K26: 24156000 | L26: × | M26: 0.5 | P26: = | Q26: #REF! | R26: 원
C27: 사회보험 부담비용 | D27: 소계 | E27: 1085000 | F27: =Q27 -> #REF! | G27: =F27-E27 -> #REF! | H27: =G27/E27*100 -> #REF! | I27: 사회보험부담비용 | Q27: =SUM(Q28:Q32) -> #REF! | R27: 원
D28: 건강보험부담금 | H28: =G28/E28*100 -> #DIV/0! | I28: 건강보험료 | K28: 24156000 | L28: × | M28: 0.0667 | N28: × | O28: 0.5 | P28: = | Q28: #REF! | R28: 원 | S28: =ROUNDUP(F21*3.23%,-1) -> 0 | T28: =ROUNDUP(S28*8.51%,-1) -> 0 | U28: =SUM(S28:T28) -> 0 | V28: =U28-F28 -> 0
D29: 장기요양보험료 | H29: =G29/E29*100 -> #DIV/0! | I29: 장기요양보험 | K29: =Q28 -> #REF! | L29: × | M29: 0.1025 | P29: = | Q29: #REF! | R29: 원
D30: 국민연금부담금 | H30: =G30/E30*100 -> #DIV/0! | I30: 국민연금 | K30: =K28 -> 24156000 | L30: × | M30: 0.09 | N30: × | O30: 0.5 | P30: = | Q30: #REF! | R30: 원 | S30: =ROUNDUP(F22*3.12%,-1) -> 0
D31: 고용보험부담금 | H31: =G31/E31*100 -> #DIV/0! | I31: 고용보험 | K31: =K30 -> 24156000 | L31: × | M31: 0.0105 | P31: = | Q31: #REF! | R31: 원 | S31: #REF! | T31: =ROUNDUP(S31*0.9%,-1) -> #REF!
D32: 산재보험부담금 | H32: =G32/E32*100 -> #DIV/0! | I32: 산재보험 | K32: =K31 -> 24156000 | L32: × | M32: 0.00793 | P32: = | Q32: #REF! | R32: 원 | S32: #REF! | T32: =ROUNDUP(S32*0.8%,-1) -> #REF!
C33: 기타후생경비 | E33: 300000 | F33: 600000 | G33: =Q33 -> 600000 | H33: =G33/E33*100 -> 200 | I33: 직원연수, 경조사, 복리후생비 | Q33: 600000 | R33: 원 | S33: 법인 | T33: =F33 -> 600000 | W33: =T33+U33+V33 -> 600000
B34: 업무 추진비 | C34: 소계 | E34: =E35+E36+E38 -> 300000 | F34: =SUM(F35:F38) -> 3600000 | G34: =F34-E34 -> 3300000 | H34: =G34/E34*100 -> 1100 | I34: 업무추진비 소계 | Q34: =SUM(Q35:Q38) -> 3600000 | R34: 원 | W34: =T34+U34+V34 -> 0
C35: 기관운영비 | E35: 100000 | F35: =Q35 -> 1200000 | G35: =F35-E35 -> 1100000 | H35: =G35/E35*100 -> 1100 | I35: 유관기관 제 잡비 | K35: 100000 | L35: × | M35: 12 | P35: = | Q35: =K35*M35 -> 1200000 | R35: 원 | S35: 기타 | V35: 300000 | W35: =T35+U35+V35 -> 300000
C36: 직책보조비 | E36: 100000 | F36: =Q36 -> 1200000 | G36: =F36-E36 -> 1100000 | H36: =G36/E36*100 -> 1100 | I36: 직책보조비 | K36: 100000 | L36: × | M36: 12 | P36: = | Q36: =K36*M36 -> 1200000 | R36: 원 | T36: =F36 -> 1200000 | W36: =T36+U36+V36 -> 1200000
C37: 홍보비 | E37: 0 | F37: 0 | G37: =F37-E37 -> 0 | H37: =G37/E37*100 -> #DIV/0! | R37: 원 | W37: =T37+U37+V37 -> 0
C38: 회의비 | E38: 100000 | F38: =Q38 -> 1200000 | G38: =F38-E38 -> 1100000 | H38: =G38/E38*100 -> 1100 | I38: 회의비 | K38: 100000 | L38: × | M38: 12 | P38: = | Q38: =K38*M38 -> 1200000 | R38: 원 | S38: 기타,법인 | T38: 1000000 | V38: 1000000 | W38: =T38+U38+V38 -> 2000000
B39: 운영비 | C39: 소계 | E39: =SUM(E40:E45) -> 1100000 | F39: =SUM(F40:F45) -> 20690440 | G39: =F39-E39 -> 19590440 | H39: =G39/E39*100 -> 1780.9491 | I39: 운영비 소계 | Q39: =SUM(Q40:Q45) -> 20690440 | R39: 원 | W39: =T39+U39+V39 -> 0
C40: 여비 | E40: 100000 | F40: =Q40 -> 500000 | G40: =F40-E40 -> 400000 | H40: =G40/E40*100 -> 400 | I40: 여비 | Q40: 500000 | R40: 원 | W40: =T40+U40+V40 -> 0
...

Sheet 라-3.후원금세출
A1: 라. 세 출
A2: 4) 후원금 세출내역
I3: (단위:원)
A4: 과 목 | E4: ='라-2.자부담세출'!E4:E5 -> #REF! | F4: ='라-2.자부담세출'!F4:F5 -> #REF! | G4: 증감(B-A) | I4: 산 출 내 역
A5: 관 | B5: 항 | C5: 목 | D5: 세목 | G5: 금액 | H5: 비율(%) | AB5: #REF!
A6: 총 계 | E6: =E7+E46+E51+E72 -> 7100000 | F6: =F7+F46+F51+F72 -> #REF! | G6: =G7+G46+G51+G72 -> #REF! | H6: =G6/E6*100 -> #REF! | I6: 총계 | Q6: =Q7+Q46+Q51+Q72+Q75 -> 15200000 | R6: 원
A7: 사무비 | B7: 계 | E7: =E8+E34+E39 -> 4000000 | F7: =F8+F34+F39 -> #REF! | G7: =G8+G34+G39 -> #REF! | H7: =G7/E7*100 -> #REF! | I7: 사무비 계 | Q7: =Q8+Q34+Q39 -> 2808000 | R7: 원
B8: 인건비 | C8: 소계 | E8: =E9+E10+E11+E12+E26+E27+E33 -> 3000000 | F8: =F9+F10+F11+F12+F26+F27+F33 -> #REF! | G8: =F8-E8 -> #REF! | H8: =G8/E8*100 -> #REF! | I8: 인건비 소계 | Q8: =Q9+Q10+Q11+Q12+Q26+Q27+Q33 -> 1000000 | R8: 원
C9: 급여 | E9: 0 | F9: 0 | G9: =F9-E9 -> 0 | H9: =G9/E9*100 -> #DIV/0! | I9: 급여 | K9: 0 | L9: × | M9: 12 | N9: × | O9: 1 | P9: = | Q9: =K9*M9*O9 -> 0 | R9: 원
C10: 상여금 | E10: 0 | F10: #REF! | G10: =F10-E10 -> #REF! | H10: =G10/E10*100 -> #REF! | I10: 상여금 | R10: 원
C11: 일용잡급 | E11: 3000000 | F11: =Q11 -> 1000000 | G11: =F11-E11 -> -2000000 | H11: =G11/E11*100 -> -66.666667 | I11: 일용잡급 | K11: 1000000 | L11: × | M11: 1 | N11: × | O11: 1 | P11: = | Q11: =K11*M11*O11 -> 1000000 | R11: 원
C12: 제수당 | D12: 소계 | E12: 0 | F12: =SUM(F13:F25) -> #REF! | G12: =F12-E12 -> #REF! | H12: =G12/E12*100 -> #REF! | I12: 제수당 | K12: 0 | L12: × | M12: 0.6 | N12: × | O12: 2 | P12: = | Q12: =K12*M12*O12 -> 0 | R12: 원
D13: 가계보조수당 | E13: 0 | F13: #REF! | G13: =F13-E13 -> #REF! | H13: =G13/E13*100 -> #REF! | R13: 원
D14: 교통급식비 | E14: 0 | F14: #REF! | G14: =F14-E14 -> #REF! | H14: =G14/E14*100 -> #REF! | R14: 원
D15: 명절휴가비 | E15: 0 | F15: #REF! | G15: =F15-E15 -> #REF! | H15: =G15/E15*100 -> #REF! | R15: 원
D16: 생활복지사수당 | E16: 0 | F16: 0 | G16: =F16-E16 -> 0 | H16: =G16/E16*100 -> #DIV/0! | R16: 원
D17: 생활지도원수당 | E17: 0 | F17: #REF! | G17: =F17-E17 -> #REF! | H17: =G17/E17*100 -> #REF! | R17: 원
D18: 조리.위생수당 | E18: 0 | F18: 0 | G18: =F18-E18 -> 0 | H18: =G18/E18*100 -> #DIV/0! | R18: 원
D19: 연장근로수당 | E19: 0 | F19: #REF! | G19: =F19-E19 -> #REF! | H19: =G19/E19*100 -> #REF! | R19: 원
D20: 가족수당 | E20: 0 | F20: #REF! | G20: =F20-E20 -> #REF! | H20: =G20/E20*100 -> #REF! | R20: 원
D21: 직책보조비 | E21: 0 | F21: #REF! | G21: =F21-E21 -> #REF! | H21: =G21/E21*100 -> #REF! | I21: 기관장(300,000원),사무국장(200,000원), 과장(150,000원,2명),팀장(100,000원, 8명) | R21: 원
D22: 자가운전보조금 | E22: 0 | F22: 0 | G22: =F22-E22 -> 0 | H22: =G22/E22*100 -> #DIV/0! | R22: 원
D23: 특수근무수당(도) | E23: 0 | F23: #REF! | G23: =F23-E23 -> #REF! | H23: =G23/E23*100 -> #REF! | R23: 원
D24: 처우개선비 | E24: 0 | F24: 0 | G24: =F24-E24 -> 0 | H24: =G24/E24*100 -> #DIV/0! | R24: 원
D25: 보전수당 | G25: =F25-E25 -> 0 | H25: =G25/E25*100 -> #DIV/0! | R25: 원
C26: 퇴직금및 적립금 | E26: 0 | F26: 0 | G26: =F26-E26 -> 0 | H26: =G26/E26*100 -> #DIV/0! | I26: 퇴직금및 퇴직적립금 | K26: 0 | L26: × | M26: 0.5 | P26: = | Q26: =K26*M26*O26 -> 0 | R26: 원
C27: 사회보험 부담비용 | D27: 소계 | E27: 0 | F27: =SUM(F28:F32) -> #REF! | G27: =F27-E27 -> #REF! | H27: =G27/E27*100 -> #REF! | I27: 사회보험부담비용 | Q27: =SUM(Q28:Q32) -> 0 | R27: 원
D28: 건강보험 부담금 | E28: 0 | F28: =U28 -> 0 | G28: =F28-E28 -> 0 | H28: =G28/E28*100 -> #DIV/0! | I28: 건강보험료 | K28: 0 | L28: × | M28: 0.0667 | N28: × | O28: 0.5 | P28: = | Q28: =K28*M28*O28 -> 0 | R28: 원
H29: =G29/E29*100 -> #DIV/0! | I29: 장기요양보험 | K29: =Q28 -> 0 | L29: × | M29: 0.1025 | P29: = | Q29: =K29*M29*O29 -> 0 | R29: 원
D30: 국민연금부담금 | E30: 0 | F30: #REF! | G30: =F30-E30 -> #REF! | H30: =G30/E30*100 -> #REF! | I30: 국민연금 | K30: =K28 -> 0 | L30: × | M30: 0.09 | N30: × | O30: 0.5 | P30: = | Q30: =K30*M30*O30 -> 0 | R30: 원
D31: 고용보험 부담금 | E31: 0 | F31: =T30 -> 0 | G31: =F31-E31 -> 0 | H31: =G31/E31*100 -> #DIV/0! | I31: 고용보험 | K31: =K30 -> 0 | L31: × | M31: 0.0105 | P31: = | Q31: =K31*M31*O31 -> 0 | R31: 원
D32: 산재보험 부담금 | E32: 0 | F32: =T31 -> 0 | G32: =F32-E32 -> 0 | H32: =G32/E32*100 -> #DIV/0! | I32: 산재보험 | K32: =K31 -> 0 | L32: × | M32: 0.00793 | P32: = | Q32: =K32*M32*O32 -> 0 | R32: 원
C33: 기타후생경비 | E33: 0 | F33: 0 | G33: =F33-E33 -> 0 | H33: =G33/E33*100 -> #DIV/0! | I33: 직원연수, 경조사, 복리후생비 | Q33: 0 | R33: 원
B34: 업무추진비 | C34: 소계 | E34: 0 | F34: =SUM(F35:F38) -> 0 | G34: =F34-E34 -> 0 | H34: =G34/E34*100 -> #DIV/0! | I34: 업무추진비 소계 | Q34: =SUM(Q35:Q38) -> 0 | R34: 원
C35: 기관운영비 | E35: 0 | F35: 0 | G35: =F35-E35 -> 0 | H35: =G35/E35*100 -> #DIV/0! | I35: 유관기관 제 잡비 | K35: 0 | L35: × | M35: 12 | P35: = | Q35: =K35*M35 -> 0 | R35: 원
C36: 직책보조비 | E36: 0 | F36: 0 | G36: =F36-E36 -> 0 | H36: =G36/E36*100 -> #DIV/0! | I36: 직책보조비 | K36: 0 | L36: × | M36: 12 | P36: = | Q36: =K36*M36 -> 0 | R36: 원
C37: 홍보비 | E37: 0 | F37: 0 | G37: =F37-E37 -> 0 | H37: =G37/E37*100 -> #DIV/0! | R37: 원
C38: 회의비 | E38: 0 | F38: 0 | G38: =F38-E38 -> 0 | H38: =G38/E38*100 -> #DIV/0! | I38: 회의비 | K38: 0 | L38: × | M38: 12 | P38: = | Q38: =K38*M38 -> 0 | R38: 원
B39: 운영비 | C39: 소계 | E39: =E40+E41+E42+E43+E44+E45 -> 1000000 | F39: =SUM(F40,F41,F42:F45) -> 1808000 | G39: =F39-E39 -> 808000 | H39: =G39/E39*100 -> 80.8 | I39: 운영비 소계 | Q39: =SUM(Q40:Q45) -> 1808000 | R39: 원
C40: 여비 | E40: 0 | F40: =Q40 -> 0 | G40: =F40-E40 -> 0 | H40: 0 | I40: 여비 | Q40: 0 | R40: 원
...

Sheet 마. 세입세출(개요)
B1: 마. 세입 ∙ 세출 개요 (라온)
E3: (단위 : 원)
B4: 구 분 | C4: 세 입 | E4: 세 출
B5: 합 계 | C5: =D6+D14+D23+D26 -> 133326000 | E5: =F6+F14+F23+F26 -> 133326000
B6: 보조금 | C6: 소 계 | D6: =SUM(D7:D12) -> 106286870 | E6: 소 계 | F6: =SUM(F7:F13) -> 106286870
C7: 보조금수입 | D7: ='다. 세입내역서'!E16 -> 100425000 | E7: 사무비(인건비) | F7: ='라. 세출내역서'!H8 -> 87983000
C8: 이월금 | D8: ='다. 세입내역서'!E32 -> 5840530 | E8: 사무비(운영비) | F8: ='라. 세출내역서'!H48 -> 2600000
C9: 잡수입 | D9: 21340 | E9: 시설비 | F9: ='라. 세출내역서'!H74 -> 440000
E10: 사업비(운영비) | F10: ='라. 세출내역서'!H94 -> 4460000
E11: 사업비(사업비) | F11: ='라. 세출내역서'!H113 -> 4942000
E12: 잡지출 | F12: 21340
E13: 보조금반환 | F13: ='라. 세출내역서'!H154 -> 5840530
B14: 자부담 | C14: 소 계 | D14: =SUM(D15:D18) -> 27039130 | E14: 소 계 | F14: =SUM(F15:F22) -> 27039130
C15: 입소비용수입 | D15: ='다. 세입내역서'!E7 -> 19200000 | E15: 사무비(인건비) | F15: ='라. 세출내역서'!J8 -> 4074060
C16: 사업수입 | D16: 0 | E16: 업무추진비 | F16: ='라. 세출내역서'!J39 -> 140000
C17: 이월금 | D17: ='다. 세입내역서'!E30 -> 7763286 | E17: 사무비(운영비) | F17: ='라. 세출내역서'!J48 -> 7620000
C18: 잡수입 | D18: 75844 | E18: 시설비 | F18: ='라. 세출내역서'!J75 -> 1810000
E19: 사업비(운영비) | F19: ='라. 세출내역서'!J94 -> 10280000
E20: 사업비(사업비) | F20: ='라. 세출내역서'!J113 -> 3062000
E21: 잡지출 | F21: ='라. 세출내역서'!J150 -> 53070
E22: 예비비 | F22: ='라. 세출내역서'!J151 -> 0
B23: 법인 | C23: 소 계 | D23: =SUM(D24:D25) -> 0 | E23: 소 계 | F23: =SUM(F24:F25) -> 0
B24: 전입금 | C24: 법인전입금 | D24: ='다. 세입내역서'!E25 -> 0 | E24: 사무비(인건비) | F24: ='라. 세출내역서'!I8 -> 0
C25: 이월금 | D25: 0
B26: 후원금 | C26: 소 계 | D26: =SUM(D27:D31) -> 0 | E26: 소 계 | F26: =SUM(F27:F32) -> 0
C27: 후원금수입 | D27: ='다. 세입내역서'!E21 -> 0 | E27: 사무비(인건비) | F27: ='라. 세출내역서'!K8 -> 0
C28: 이월금 | D28: ='다. 세입내역서'!E31 -> 0 | E28: 사무비(운영비) | F28: ='라. 세출내역서'!K48 -> 0
C29: 잡수입 | D29: 0 | E29: 시설비 | F29: ='라. 세출내역서'!K74 -> 0
E30: 사업비(운영비) | F30: ='라. 세출내역서'!K94 -> 0
E31: 사업비(사업비) | F31: ='라. 세출내역서'!K113 -> 0
E32: 잡지출 | F32: ='라. 세출내역서'!K148 -> 0

Sheet 바. 증감사유
A2: 바. 증감사유 (라온)
P3: (단위 : 원)
A4: 세 입 | I4: 세 출
A5: 과 목 | D5: ='나. 세입세출(총괄)'!D5 -> 2024년 본 예산(A) | E5: ='나. 세입세출(총괄)'!E5 -> 2024년 1차 추경(B) | F5: 증감금액 (C=B-A) | G5: 증감율(%) (C/A*100) | H5: 증감사유 | I5: 과 목 | L5: ='나. 세입세출(총괄)'!D5 -> 2024년 본 예산(A) | M5: ='나. 세입세출(총괄)'!E5 -> 2024년 1차 추경(B) | N5: 증감금액 (C=B-A) | O5: 증감율(%) (C/A*100) | P5: 증감사유
A6: 관 | B6: 항 | C6: 목 | I6: 관 | J6: 항 | K6: 목
A7: 합 계 | D7: =D8+D11+D14+D17+D22+D26+D29+D34 -> 148045000 | E7: =SUM(E8,E11,E14,E17,E22,E26,E29,E34) -> 133326000 | F7: =E7-D7 -> -14719000 | G7: =F7/D7*100 -> -9.9422473 | I7: 합 계 | L7: =L8+L26+L31+L49+L52 -> 148045000 | M7: =SUM(M8,M26,M31,M49,M52) -> 133326000 | N7: =M7-L7 -> -14719000 | O7: =N7/L7*100 -> -9.9422473
A8: 입소자부담금 | B8: 계 | D8: =D9 -> 19200000 | E8: =E9 -> 19200000 | F8: =E8-D8 -> 0 | G8: =F8/D8*100 -> 0 | I8: 사무비 | J8: 계 | L8: =L9+L16+L19 -> 122066660 | M8: =M9+M16+M19 -> 102417060 | N8: =M8-L8 -> -19649600 | O8: =N8/L8*100 -> -16.097434
B9: 입소비용수입 | C9: 소계 | D9: =D10 -> 19200000 | E9: =E10 -> 19200000 | F9: =E9-D9 -> 0 | G9: =F9/D9*100 -> 0 | J9: 인건비 | K9: 소계 | L9: =SUM(L10:L15) -> 111706660 | M9: =SUM(M10:M15) -> 92057060 | N9: =M9-L9 -> -19649600 | O9: =N9/L9*100 -> -17.590357
C10: 입소비용수입 | D10: ='나. 세입세출(총괄)'!D10 -> 19200000 | E10: ='나. 세입세출(총괄)'!E10 -> 19200000 | F10: =E10-D10 -> 0 | G10: =F10/D10*100 -> 0 | K10: 급여 | L10: ='나. 세입세출(총괄)'!K10 -> 75315900 | M10: ='나. 세입세출(총괄)'!L10 -> 65999100 | N10: =M10-L10 -> -9316800 | O10: =N10/L10*100 -> -12.370296 | P10: * 예산 부족으로 생활재활교사 1월~9월 미채용에 따른 감액
A11: 사업수입 | B11: 계 | D11: =D12 -> 0 | E11: =E12 -> 0 | F11: 0 | G11: 0 | K11: 일용잡급 | L11: ='나. 세입세출(총괄)'!K11 -> 0 | M11: ='나. 세입세출(총괄)'!L11 -> 0 | N11: =M11-L11 -> 0 | O11: 0
B12: 사업수입 | C12: 소계 | D12: =D13 -> 0 | E12: =E13 -> 0 | F12: 0 | G12: 0 | K12: 제수당 | L12: ='나. 세입세출(총괄)'!K12 -> 18806420 | M12: ='나. 세입세출(총괄)'!L12 -> 15509220 | N12: =M12-L12 -> -3297200 | O12: =N12/L12*100 -> -17.532311 | P12: * 예산 부족으로 생활재활교사 1월~9월 미채용에 따른 감액
C13: 프로그램사업수입 | D13: ='나. 세입세출(총괄)'!D13 -> 0 | E13: ='나. 세입세출(총괄)'!E13 -> 0 | F13: 0 | G13: 0 | K13: 퇴직금및퇴직적립금 | L13: ='나. 세입세출(총괄)'!K13 -> 7843530 | M13: ='나. 세입세출(총괄)'!L13 -> 6792360 | N13: =M13-L13 -> -1051170 | O13: =N13/L13*100 -> -13.401746 | P13: * 예산 부족으로 생활재활교사 1월~9월 미채용에 따른 감액
A14: 과년도수입 | B14: 계 | D14: =D15 -> 0 | E14: 0 | F14: 0 | G14: 0 | K14: 사회보험부담비용 | L14: ='나. 세입세출(총괄)'!K14 -> 9740810 | M14: ='나. 세입세출(총괄)'!L14 -> 3756380 | N14: =M14-L14 -> -5984430 | O14: =N14/L14*100 -> -61.436677 | P14: * 예산 부족으로 생활재활교사 1월~9월 미채용에 따른 감액
B15: 과년도수입 | C15: 소계 | D15: =D16 -> 0 | E15: 0 | F15: 0 | G15: 0 | K15: 기타후생경비 | L15: ='나. 세입세출(총괄)'!K15 -> 0 | M15: ='나. 세입세출(총괄)'!L15 -> 0 | N15: =M15-L15 -> 0 | O15: 0
C16: 과년도수입 | D16: ='나. 세입세출(총괄)'!D16 -> 0 | E16: ='나. 세입세출(총괄)'!E16 -> 0 | F16: 0 | G16: 0 | J16: 업무추진비 | K16: 소계 | L16: =SUM(L17:L18) -> 140000 | M16: =SUM(M17:M18) -> 140000 | N16: =M16-L16 -> 0 | O16: =N16/L16*100 -> 0
A17: 보조금수입 | B17: 계 | D17: =D18 -> 123748660 | E17: =E18 -> 100425000 | F17: =E17-D17 -> -23323660 | G17: =F17/D17*100 -> -18.847606 | K17: 기관운영비 | L17: ='나. 세입세출(총괄)'!K17 -> 0 | M17: ='나. 세입세출(총괄)'!L17 -> 0 | N17: =M17-L17 -> 0 | O17: 0
B18: 보조금수입 | C18: 소계 | D18: =SUM(D19:D21) -> 123748660 | E18: =SUM(E19:E21) -> 100425000 | F18: =E18-D18 -> -23323660 | G18: =F18/D18*100 -> -18.847606 | K18: 회의비 | L18: ='나. 세입세출(총괄)'!K18 -> 140000 | M18: ='나. 세입세출(총괄)'!L18 -> 140000 | N18: =M18-L18 -> 0 | O18: 0
C19: 시도보조금(10%) | D19: ='나. 세입세출(총괄)'!D19 -> 123748660 | E19: ='나. 세입세출(총괄)'!E19 -> 100425000 | F19: =E19-D19 -> -23323660 | G19: =F19/D19*100 -> -18.847606 | H19: * 2024년보조금 확정액 | J19: 운영비 | K19: 소계 | L19: =SUM(L20:L25) -> 10220000 | M19: =SUM(M20:M25) -> 10220000 | N19: =M19-L19 -> 0 | O19: =N19/L19*100 -> 0
C20: 시군구보조금(90%) | D20: ='나. 세입세출(총괄)'!D20 -> 0 | E20: ='나. 세입세출(총괄)'!E20 -> 0 | F20: =E20-D20 -> 0 | G20: 0 | K20: 여비 | L20: ='나. 세입세출(총괄)'!K20 -> 0 | M20: ='나. 세입세출(총괄)'!L20 -> 0 | N20: =M20-L20 -> 0 | O20: 0
C21: 기타보조금 | D21: ='나. 세입세출(총괄)'!D21 -> 0 | E21: ='나. 세입세출(총괄)'!E21 -> 0 | F21: =E21-D21 -> 0 | G21: 0 | K21: 수용비및수수료 | L21: ='나. 세입세출(총괄)'!K21 -> 3900000 | M21: ='나. 세입세출(총괄)'!L21 -> 3900000 | N21: =M21-L21 -> 0 | O21: =N21/L21*100 -> 0
A22: 후원금 | B22: 계 | D22: =D23 -> 0 | E22: =E23 -> 0 | F22: =E22-D22 -> 0 | G22: 0 | K22: 공공요금 | L22: ='나. 세입세출(총괄)'!K22 -> 5400000 | M22: ='나. 세입세출(총괄)'!L22 -> 5400000 | N22: =M22-L22 -> 0 | O22: =N22/L22*100 -> 0
B23: 후원금수입 | C23: 소계 | D23: =SUM(D24:D25) -> 0 | E23: =SUM(E24:E25) -> 0 | F23: =E23-D23 -> 0 | G23: 0 | K23: 제세공과금 | L23: ='나. 세입세출(총괄)'!K23 -> 0 | M23: ='나. 세입세출(총괄)'!L23 -> 0 | N23: =M23-L23 -> 0 | O23: 0
C24: 지정후원금 | D24: ='나. 세입세출(총괄)'!D24 -> 0 | E24: ='나. 세입세출(총괄)'!E24 -> 0 | F24: =E24-D24 -> 0 | G24: 0 | K24: 차량비 | L24: ='나. 세입세출(총괄)'!K24 -> 920000 | M24: ='나. 세입세출(총괄)'!L24 -> 920000 | N24: =M24-L24 -> 0 | O24: =N24/L24*100 -> 0
C25: 비지정후원금 | D25: ='나. 세입세출(총괄)'!D25 -> 0 | E25: ='나. 세입세출(총괄)'!E25 -> 0 | F25: =E25-D25 -> 0 | G25: 0 | K25: 기타운영비 | L25: ='나. 세입세출(총괄)'!K25 -> 0 | M25: ='나. 세입세출(총괄)'!L25 -> 0 | N25: =M25-L25 -> 0 | O25: 0
A26: 전입금 | B26: 계 | D26: =D27 -> 0 | E26: =E27 -> 0 | F26: =E26-D26 -> 0 | G26: 0 | I26: 재산조성비 | J26: 계 | L26: =L27 -> 2250000 | M26: =M27 -> 2250000 | N26: =M26-L26 -> 0 | O26: =N26/L26*100 -> 0
B27: 전입금 | C27: 소계 | D27: =D28 -> 0 | E27: =E28 -> 0 | F27: =E27-D27 -> 0 | G27: 0 | J27: 시설비 | K27: 소계 | L27: =SUM(L28:L30) -> 2250000 | M27: =SUM(M28:M30) -> 2250000 | N27: =M27-L27 -> 0 | O27: =N27/L27*100 -> 0
C28: 법인전입금 | D28: ='나. 세입세출(총괄)'!D28 -> 0 | E28: ='나. 세입세출(총괄)'!E28 -> 0 | F28: =E28-D28 -> 0 | G28: 0 | K28: 시설비 | L28: ='나. 세입세출(총괄)'!K28 -> 0 | M28: ='나. 세입세출(총괄)'!L28 -> 0 | N28: =M28-L28 -> 0 | O28: 0
A29: 이월금 | B29: 계 | D29: =D30 -> 5000000 | E29: =E30 -> 13603816 | F29: =E29-D29 -> 8603816 | G29: =F29/D29*100 -> 172.07632 | K29: 자산취득비 | L29: ='나. 세입세출(총괄)'!K29 -> 0 | M29: ='나. 세입세출(총괄)'!L29 -> 0 | N29: =M29-L29 -> 0 | O29: 0
B30: 이월금 | C30: 소계 | D30: =SUM(D31:D33) -> 5000000 | E30: =SUM(E31:E33) -> 13603816 | F30: =E30-D30 -> 8603816 | G30: =F30/D30*100 -> 172.07632 | K30: 시설장비유지비 | L30: ='나. 세입세출(총괄)'!K30 -> 2250000 | M30: ='나. 세입세출(총괄)'!L30 -> 2250000 | N30: =M30-L30 -> 0 | O30: =N30/L30*100 -> 0
C31: 전년도이월금(자부담) | D31: ='나. 세입세출(총괄)'!D31 -> 4000000 | E31: ='나. 세입세출(총괄)'!E31 -> 7763286 | F31: =E31-D31 -> 3763286 | G31: =F31/D31*100 -> 94.08215 | H31: * 2023년도 자부담 집행잔액 및 예금이자 이월금 확정액 | I31: 사업비 | J31: 계 | L31: =L32+L38 -> 22632000 | M31: =M32+M38 -> 22744000 | N31: =M31-L31 -> 112000 | O31: =N31/L31*100 -> 0.49487451
C32: 전년도이월금(후원금) | D32: ='나. 세입세출(총괄)'!D32 -> 0 | E32: ='나. 세입세출(총괄)'!E32 -> 0 | F32: =E32-D32 -> 0 | G32: 0 | J32: 운영비 | K32: 소계 | L32: =SUM(L33:L37) -> 17528000 | M32: =SUM(M33:M37) -> 14740000 | N32: =M32-L32 -> -2788000 | O32: =N32/L32*100 -> -15.905979
C33: 전년도이월금(보조금) | D33: ='나. 세입세출(총괄)'!D33 -> 1000000 | E33: ='나. 세입세출(총괄)'!E33 -> 5840530 | F33: =E33-D33 -> 4840530 | G33: =F33/D33*100 -> 484.053 | H33: * 2023년도 보조금 집행잔액 및 예금이자 이월금 확정액 | K33: 생계비 | L33: ='나. 세입세출(총괄)'!K33 -> 8648000 | M33: ='나. 세입세출(총괄)'!L33 -> 6760000 | N33: =M33-L33 -> -1888000 | O33: =N33/L33*100 -> -21.831637 | P33: * 중식 중단으로 식재로 구입 감소
A34: 잡수입 | B34: 계 | D34: =D35 -> 96340 | E34: =E35 -> 97184 | F34: =E34-D34 -> 844 | G34: =F34/D34*100 -> 0.87606394 | K34: 수용기관경비 | L34: ='나. 세입세출(총괄)'!K34 -> 1380000 | M34: ='나. 세입세출(총괄)'!L34 -> 1380000 | N34: =M34-L34 -> 0 | O34: =N34/L34*100 -> 0
B35: 잡수입 | C35: 소계 | D35: =SUM(D36:D38) -> 96340 | E35: =SUM(E36:E38) -> 97184 | F35: =E35-D35 -> 844 | G35: =F35/D35*100 -> 0.87606394 | K35: 피복비 | L35: ='나. 세입세출(총괄)'!K35 -> 0 | M35: 0 | N35: =M35-L35 -> 0 | O35: 0
C36: 불용품매각대 | D36: ='나. 세입세출(총괄)'!D36 -> 60000 | E36: ='나. 세입세출(총괄)'!E36 -> 60000 | F36: =E36-D36 -> 0 | G36: =F36/D36*100 -> 0 | K36: 의료비 | L36: ='나. 세입세출(총괄)'!K36 -> 600000 | M36: ='나. 세입세출(총괄)'!L36 -> 600000 | N36: =M36-L36 -> 0 | O36: =N36/L36*100 -> 0
C37: 기타예금이자수입 | D37: ='나. 세입세출(총괄)'!D37 -> 26340 | E37: ='나. 세입세출(총괄)'!E37 -> 27184 | F37: =E37-D37 -> 844 | G37: =F37/D37*100 -> 3.2042521 | K37: 연료비 | L37: ='나. 세입세출(총괄)'!K37 -> 6900000 | M37: ='나. 세입세출(총괄)'!L37 -> 6000000 | N37: =M37-L37 -> -900000 | O37: =N37/L37*100 -> -13.043478 | P37: * 각 홈별 배분 조정
C38: 기타잡수입 | D38: ='나. 세입세출(총괄)'!D38 -> 10000 | E38: ='나. 세입세출(총괄)'!E38 -> 10000 | F38: =E38-D38 -> 0 | G38: =F38/D38*100 -> 0 | J38: 사업비 | K38: 소계 | L38: =SUM(L39:L48) -> 5104000 | M38: =SUM(M39:M48) -> 8004000 | N38: =M38-L38 -> 2900000 | O38: =N38/L38*100 -> 56.818182
K39: 교육재활사업비 | L39: ='나. 세입세출(총괄)'!K39 -> 50000 | M39: ='나. 세입세출(총괄)'!L39 -> 50000 | N39: =M39-L39 -> 0 | O39: 0
K40: 일상생활서비스 | L40: ='나. 세입세출(총괄)'!K40 -> 0 | M40: ='나. 세입세출(총괄)'!L40 -> 0 | N40: =M40-L40 -> 0 | O40: 0
K41: 여가활동사업비 | L41: ='나. 세입세출(총괄)'!K41 -> 2892000 | M41: ='나. 세입세출(총괄)'!L41 -> 2792000 | N41: =M41-L41 -> -100000 | O41: =N41/L41*100 -> -3.4578147
...

Sheet 사. 임직원보수 일람표
A1: 사. 임직원 보수 일람표 (라온)
A3: 순번 | B3: 직책 | C3: 성명 | D3: 호봉 | E3: 승급월 | F3: 급여 | G3: 제수당 | K3: 퇴직적립금 (연금) | L3: 사회보험부담금 | Q3: 사회보험부담금 | R3: 부담금계 | S3: 합계 | T3: 지자체 별도 지급액 | W3: 비고
G4: 명절휴가비 | H4: 가족수당 | I4: 연장근로수당 | J4: 제수당 계 | L4: 건강보험 | M4: 장기요양 | N4: 국민연금 | O4: 고용보험 | P4: 산재보험 | T4: 경기도 특수근무수당 | U4: 경기도 처우개선비 | V4: 지자체 지급액 계
A5: 1 | B5: 시설장 | C5: 이애경 | D5: 10 | W5: 별빛누리그룹홈 시설장 겸임
D6: 11
A7: 1 | B7: 조리원 | D7: 계약직 | F7: 0 | G7: 0 | I7: 0 | J7: =SUM(G7:I8) -> 0 | K7: =ROUND((F7+F8+J7)*1/12,-1) -> 0 | L7: =ROUND((F7+F8+J7)*3.495%,-1) -> 0 | M7: =ROUND(L7*12.27%,-1) -> 0 | N7: =INT(((F7+F8+J7)*4.5%)/10)*10 -> 0 | O7: =ROUND((F7+F8+J7)*1.05%,-1) -> 0 | P7: =ROUND((F7+F8+J7)*0.8%,-1) -> 0 | Q7: =SUM(L7:P7) -> 0 | R7: =K7+Q7 -> 0 | S7: =SUM(F7:F8)+SUM(J7:J8)+SUM(R7:R8) -> 0 | W7: 자부담 정년 외 계약직
A9: 1 | B9: 시설장 | C9: 이애경 | D9: 21 | E9: 4월 | F9: =4899600*3 -> 14698800 | G9: =4899600*60% -> 2939760 | H9: =0*3 -> 0 | I9: =ROUND((F9)*1/209*1.5,-1)*20 -> 2109800 | J9: =SUM(G9:I10) -> 14433420 | K9: =ROUND((F9+F10+J9)*1/12,-1) -> 6147760 | L9: =ROUND((F9+F10+J9)*3.545%,-1) -> 2615260 | M9: =ROUND(L9*12.95%,-1) -> 338680 | N9: =INT(((F9+F10+J9)*4.5%)/10)*0 -> 0 | O9: =ROUND((F9+F10+J9)*1.15%,-1)*0 -> 0 | P9: =ROUND((F9+F10+J9)*0.72%,-1)*0 -> 0 | Q9: =SUM(L9:P9) -> 2953940 | R9: =K9+Q9 -> 9101700 | S9: =SUM(F9:F10)+SUM(J9:J10)+SUM(R9:R10) -> 82874820 | T9: =250000*12 -> 3000000 | U9: =50000*12 -> 600000 | V9: =T9+U9 -> 3600000 | W9: 라온 사회재활교사 겸임 2021. 03. 01. 입사
D10: 22 | F10: =4960100*9 -> 44640900 | G10: =4960100*60% -> 2976060 | H10: =0*9 -> 0 | I10: =ROUND((F10)*1/209*1.5,-1)*20 -> 6407800 | V10: =T10+U10 -> 0
A11: 2 | B11: 라온 생활재활 교사 | C11: 채용 예정 | D11: 3 | E11: 1월 | F11: =2219800*3 -> 6659400 | H11: =40000*3 -> 120000 | I11: =ROUND((F11)*1/209*1.5,-1)*20 -> 955800 | J11: =SUM(G11:I12) -> 1075800 | K11: =ROUND((F11+F12+J11)*1/12,-1) -> 644600 | L11: =ROUND((F11+F12+J11)*3.545%,-1) -> 274210 | M11: =ROUND(L11*12.95%,-1) -> 35510 | N11: =INT(((F11+F12+J11)*4.5%)/10)*10 -> 348080 | O11: =ROUND((F11+F12+J11)*1.15%,-1) -> 88950 | P11: =ROUND((F11+F12+J11)*0.72%,-1) -> 55690 | Q11: =SUM(L11:P11) -> 802440 | R11: =K11+Q11 -> 1447040 | S11: =SUM(F11:F12)+SUM(J11:J12)+SUM(R11:R12) -> 9182240 | T11: =200000*12 -> 2400000 | U11: =50000*12 -> 600000 | V11: =T11+U11 -> 3000000 | W11: 2024.00.00. 입사예정
F12: 0 | G12: 0 | H12: 0 | I12: =ROUND((F12)*1/209*1.5,-1)*0 -> 0 | V12: =T12+U12 -> 0
A13: 4 | B13: 나온 사회재활 교사 | C13: 김태경 | D13: 5 | E13: 5월 | F13: 0 | G13: =0*60% -> 0 | I13: =ROUND((F13)*1/209*1.5,-1)*20 -> 0 | J13: =SUM(G13:I14) -> 0 | K13: =ROUND((F13+F14+J13)*1/12,-1) -> 0 | L13: =ROUND((F13+F14+J13)*3.495%,-1) -> 0 | M13: =ROUND(L13*12.27%,-1) -> 0 | N13: =INT(((F13+F14+J13)*4.5%)/10)*10 -> 0 | O13: =ROUND((F13+F14+J13)*1.05%,-1) -> 0 | P13: =ROUND((F13+F14+J13)*0.8%,-1) -> 0 | Q13: =SUM(L13:P13) -> 0 | R13: =K13+Q13 -> 0 | S13: =SUM(F13:F14)+SUM(J13:J14)+SUM(R13:R14) -> 0 | T13: 0 | U13: 0 | V13: =T13+U13 -> 0 | W13: 21년 02월 04일 입사
D14: 6 | F14: 0 | G14: =0*60% -> 0 | I14: =ROUND((F14)*1/209*1.5,-1)*20 -> 0 | T14: 0 | V14: =T14+U14 -> 0
A15: 5 | B15: 나온 보조인력 | C15: ooo | D15: 1 | F15: 0 | G15: 0 | H15: 0 | I15: 0 | J15: =SUM(G15:I16) -> 0 | K15: =ROUND((F15+F16+J15)*1/12,-1) -> 0 | L15: =ROUND((F15+F16+J15)*3.495%,-1) -> 0 | M15: =ROUND(L15*12.27%,-1) -> 0 | N15: =INT(((F15+F16+J15)*4.5%)/10)*10 -> 0 | O15: =ROUND((F15+F16+J15)*1.05%,-1) -> 0 | P15: =ROUND((F15+F16+J15)*0.8%,-1) -> 0 | Q15: =SUM(L15:P15) -> 0 | R15: =K15+Q15 -> 0 | S15: =SUM(F15:F16)+SUM(J15:J16)+SUM(R15:R16) -> 0 | U15: 0 | V15: =T15+U15 -> 0
F16: 0 | G16: 0 | H16: 0 | I16: =ROUND((F16)*1/209*1.5,-1)*20 -> 0 | V16: =T16+U16 -> 0
A17: 6 | B17: 다온 사회재활 교사 | C17: 홍경화 | D17: 3 | E17: 12월 | F17: 0 | G17: 0 | H17: 0 | I17: =ROUND((F17)*1/209*1.5,-1)*20 -> 0 | J17: =SUM(G17:I18) -> 0 | K17: =ROUND((F17+F18+J17)*1/12,-1) -> 0 | L17: =ROUND((F17+F18+J17)*3.495%,-1) -> 0 | M17: =ROUND(L17*12.27%,-1) -> 0 | N17: =INT(((F17+F18+J17)*4.5%)/10)*10 -> 0 | O17: =ROUND((F17+F18+J17)*1.05%,-1) -> 0 | P17: =ROUND((F17+F18+J17)*0.8%,-1) -> 0 | Q17: =SUM(L17:P17) -> 0 | R17: =K17+Q17 -> 0 | S17: =SUM(F17:F18)+SUM(J17:J18)+SUM(R17:R18) -> 0 | T17: 0 | U17: 0 | V17: =T17+U17 -> 0 | W17: 21년 01월 01일 입사 22년 02월 28일 퇴사
D18: 4 | F18: 0 | G18: 0 | H18: 0 | I18: =ROUND((F18)*1/209*1.5,-1)*20 -> 0 | V18: =T18+U18 -> 0
A19: 7 | B19: 다온 보조인력 | C19: 정영교 | D19: 1 | F19: 0 | G19: 0 | H19: 0 | I19: 0 | J19: =SUM(G19:I20) -> 0 | K19: =ROUND((F19+F20+J19)*1/12,-1) -> 0 | L19: =ROUND((F19+F20+J19)*3.495%,-1) -> 0 | M19: =ROUND(L19*12.27%,-1) -> 0 | N19: =INT(((F19+F20+J19)*4.5%)/10)*10 -> 0 | O19: =ROUND((F19+F20+J19)*1.05%,-1) -> 0 | P19: =ROUND((F19+F20+J19)*0.8%,-1) -> 0 | Q19: =SUM(L19:P19) -> 0 | R19: =K19+Q19 -> 0 | S19: =SUM(F19:F20)+SUM(J19:J20)+SUM(R19:R20) -> 0 | U19: 0 | V19: =T19+U19 -> 0 | W19: 22년 03월 01일 입사
F20: 0 | G20: 0 | H20: 0 | I20: =ROUND((F20)*1/209*1.5,-1)*20 -> 0 | V20: =T20+U20 -> 0
A21: 8 | B21: 시설장 | C21: 이애경 | D21: 10 | E21: 7월 | F21: 0 | G21: 0 | I21: =ROUND((F21)*1/209*1.5,-1)*20 -> 0 | J21: =SUM(G21:I22) -> 0 | K21: =ROUND((F21+F22+J21)*1/12,-1) -> 0 | L21: =ROUND((F21+F22+J21)*3.495%,-1) -> 0 | M21: =ROUND(L21*12.27%,-1) -> 0 | N21: =INT(((F21+F22+J21)*4.5%)/10)*10 -> 0 | O21: =ROUND((F21+F22+J21)*1.05%,-1) -> 0 | P21: =ROUND((F21+F22+J21)*0.8%,-1) -> 0 | Q21: =SUM(L21:P21) -> 0 | R21: =K21+Q21 -> 0 | S21: =SUM(F21:F22)+SUM(J21:J22)+SUM(R21:R22) -> 0 | T21: 0 | U21: 0 | V21: =T21+U21 -> 0 | W21: 라온사회재활교사겸임
D22: 11 | F22: 0 | G22: 0 | I22: =ROUND((F22)*1/209*1.5,-1)*20 -> 0 | T22: 0 | U22: 0 | V22: =T22+U22 -> 0
A23: 9 | B23: 라온 보조인력 | C23: ooo | D23: 1 | F23: 0 | G23: 0 | H23: 0 | I23: 0 | J23: =SUM(G23:I24) -> 0 | K23: =ROUND((F23+F24+J23)*1/12,-1) -> 0 | L23: =ROUND((F23+F24+J23)*3.495%,-1) -> 0 | M23: =ROUND(L23*12.27%,-1) -> 0 | N23: =INT(((F23+F24+J23)*4.5%)/10)*10 -> 0 | O23: =ROUND((F23+F24+J23)*1.05%,-1) -> 0 | P23: =ROUND((F23+F24+J23)*0.8%,-1) -> 0 | Q23: =SUM(L23:P23) -> 0 | R23: =K23+Q23 -> 0 | S23: =SUM(F23:F24)+SUM(J23:J24)+SUM(R23:R24) -> 0 | T23: 0 | U23: 0 | V23: =T23+U23 -> 0
F24: 0 | G24: 0 | H24: 0 | I24: =ROUND((F24)*1/209*1.5,-1)*20 -> 0 | T24: 0 | U24: 0 | V24: =T24+U24 -> 0
A25: 10 | B25: 마온 사회재활 교사 | C25: 박성화 | D25: 9 | E25: 2월 | F25: 0 | H25: 0 | I25: =ROUND((F25)*1/209*1.5,-1)*20 -> 0 | J25: =SUM(G25:I26) -> 0 | K25: =ROUND((F25+F26+J25)*1/12,-1) -> 0 | L25: =ROUND((F25+F26+J25)*3.495%,-1) -> 0 | M25: =ROUND(L25*12.27%,-1) -> 0 | N25: =INT(((F25+F26+J25)*4.5%)/10)*10 -> 0 | O25: =ROUND((F25+F26+J25)*1.05%,-1) -> 0 | P25: =ROUND((F25+F26+J25)*0.8%,-1) -> 0 | Q25: =SUM(L25:P25) -> 0 | R25: =K25+Q25 -> 0 | S25: =SUM(F25:F26)+SUM(J25:J26)+SUM(R25:R26) -> 0 | T25: 0 | U25: 0 | V25: =T25+U25 -> 0 | W25: 21년 08월 09일 입사
D26: 10 | F26: 0 | G26: 0 | H26: 0 | I26: =ROUND((F26)*1/209*1.5,-1)*20 -> 0 | T26: 0 | U26: 0 | V26: =T26+U26 -> 0
A27: 11 | B27: 마온 보조인력 | C27: 김병곤 | D27: 1 | F27: 0 | G27: 0 | H27: 0 | I27: 0 | J27: =SUM(G27:I28) -> 0 | K27: =ROUND((F27+F28+J27)*1/12,-1) -> 0 | L27: =ROUND((F27+F28+J27)*3.495%,-1) -> 0 | M27: =ROUND(L27*12.27%,-1) -> 0 | N27: =INT(((F27+F28+J27)*4.5%)/10)*10 -> 0 | O27: =ROUND((F27+F28+J27)*1.05%,-1) -> 0 | P27: =ROUND((F27+F28+J27)*0.8%,-1) -> 0 | Q27: =SUM(L27:P27) -> 0 | R27: =K27+Q27 -> 0 | S27: =SUM(F27:F28)+SUM(J27:J28)+SUM(R27:R28) -> 0 | U27: 0 | V27: =T27+U27 -> 0 | W27: 22년 02월 28일 퇴사
F28: 0 | G28: 0 | H28: 0 | I28: =ROUND((F28)*1/209*1.5,-1)*20 -> 0 | U28: 0 | V28: =T28+U28 -> 0
A29: 12 | B29: 바온 사회재활 교사 | C29: 신영철 | D29: 3 | E29: 12월 | F29: 0 | G29: 0 | H29: 0 | I29: =ROUND((F29)*1/209*1.5,-1)*20 -> 0 | J29: =SUM(G29:I30) -> 0 | K29: =ROUND((F29+F30+J29)*1/12,-1) -> 0 | L29: =ROUND((F29+F30+J29)*3.495%,-1) -> 0 | M29: =ROUND(L29*12.27%,-1) -> 0 | N29: =INT(((F29+F30+J29)*4.5%)/10)*10 -> 0 | O29: =ROUND((F29+F30+J29)*1.05%,-1) -> 0 | P29: =ROUND((F29+F30+J29)*0.8%,-1) -> 0 | Q29: =SUM(L29:P29) -> 0 | R29: =K29+Q29 -> 0 | S29: =SUM(F29:F30)+SUM(J29:J30)+SUM(R29:R30) -> 0 | T29: 0 | U29: 0 | V29: =T29+U29 -> 0 | W29: 21년 11월 01일 입사
D30: 4 | F30: 0 | G30: 0 | H30: 0 | I30: =ROUND((F30)*1/209*1.5,-1)*20 -> 0 | U30: 0 | V30: =T30+U30 -> 0
A31: 13 | B31: 바온 보조인력 | C31: ooo | D31: 1 | F31: 0 | G31: 0 | H31: 0 | I31: 0 | J31: =SUM(G31:I32) -> 0 | K31: =ROUND((F31+F32+J31)*1/12,-1) -> 0 | L31: =ROUND((F31+F32+J31)*3.495%,-1) -> 0 | M31: =ROUND(L31*12.27%,-1) -> 0 | N31: =INT(((F31+F32+J31)*4.5%)/10)*10 -> 0 | O31: =ROUND((F31+F32+J31)*1.05%,-1) -> 0 | P31: =ROUND((F31+F32+J31)*0.8%,-1) -> 0 | Q31: =SUM(L31:P31) -> 0 | R31: =K31+Q31 -> 0 | S31: =SUM(F31:F32)+SUM(J31:J32)+SUM(R31:R32) -> 0 | U31: 0 | V31: =T31+U31 -> 0
F32: 0 | G32: 0 | H32: 0 | I32: =ROUND((F32)*1/209*1.5,-1)*20 -> 0 | V32: =T32+U32 -> 0
A33: 14 | B33: 사온 사회재활 교사 | C33: 김윤미 | D33: 9 | E33: 8월 | F33: 0 | G33: 0 | I33: =ROUND((F33)*1/209*1.5,-1)*20 -> 0 | J33: =SUM(G33:I34) -> 0 | K33: =ROUND((F33+F34+J33)*1/12,-1) -> 0 | L33: =ROUND((F33+F34+J33)*3.495%,-1) -> 0 | M33: =ROUND(L33*12.27%,-1) -> 0 | N33: =INT(((F33+F34+J33)*4.5%)/10)*10 -> 0 | O33: =ROUND((F33+F34+J33)*1.05%,-1) -> 0 | P33: =ROUND((F33+F34+J33)*0.8%,-1) -> 0 | Q33: =SUM(L33:P33) -> 0 | R33: =K33+Q33 -> 0 | S33: =SUM(F33:F34)+SUM(J33:J34)+SUM(R33:R34) -> 0 | T33: 0 | U33: 0 | V33: =T33+U33 -> 0 | W33: 21년 08월 09일 입사
D34: 10 | F34: 0 | G34: 0 | I34: =ROUND((F34)*1/209*1.5,-1)*20 -> 0 | V34: =T34+U34 -> 0
A35: 15 | B35: 사온 보조인력 | C35: ooo | D35: 1 | F35: 0 | G35: 0 | H35: 0 | I35: 0 | J35: =SUM(G35:I36) -> 0 | K35: =ROUND((F35+F36+J35)*1/12,-1) -> 0 | L35: =ROUND((F35+F36+J35)*3.495%,-1) -> 0 | M35: =ROUND(L35*12.27%,-1) -> 0 | N35: =INT(((F35+F36+J35)*4.5%)/10)*10 -> 0 | O35: =ROUND((F35+F36+J35)*1.05%,-1) -> 0 | P35: =ROUND((F35+F36+J35)*0.8%,-1) -> 0 | Q35: =SUM(L35:P35) -> 0 | R35: =K35+Q35 -> 0 | S35: =SUM(F35:F36)+SUM(J35:J36)+SUM(R35:R36) -> 0 | U35: 0 | V35: =T35+U35 -> 0
F36: 0 | G36: 0 | H36: 0 | I36: =ROUND((F36)*1/209*1.5,-1)*20 -> 0 | V36: =T36+U36 -> 0
A37: 16 | B37: 아온 사회재활 교사 | C37: 정효정 | D37: 9 | E37: 6월 | F37: 0 | G37: 0 | I37: =ROUND((F37)*1/209*1.5,-1)*20 -> 0 | J37: =SUM(G37:I38) -> 0 | K37: =ROUND((F37+F38+J37)*1/12,-1) -> 0 | L37: =ROUND((F37+F38+J37)*3.495%,-1) -> 0 | M37: =ROUND(L37*12.27%,-1) -> 0 | N37: =INT(((F37+F38+J37)*4.5%)/10)*10 -> 0 | O37: =ROUND((F37+F38+J37)*1.05%,-1) -> 0 | P37: =ROUND((F37+F38+J37)*0.8%,-1) -> 0 | Q37: =SUM(L37:P37) -> 0 | R37: =K37+Q37 -> 0 | S37: =SUM(F37:F38)+SUM(J37:J38)+SUM(R37:R38) -> 0 | T37: 0 | U37: 0 | V37: =T37+U37 -> 0 | W37: 21년 08월 09일 입사
D38: 10 | F38: 0 | G38: 0 | I38: =ROUND((F38)*1/209*1.5,-1)*20 -> 0 | V38: =T38+U38 -> 0
