Workbook
Name F: #REF!
Name F: #REF!
Name F: #REF!
Name F: #REF!
Name F: #REF!
Name F: #REF!
Name F: #REF!
Name F: #REF!
Name 보수: #REF!
Name 보수: #REF!
Name 보수일람표: #REF!
Name 보수일람표: #REF!
Name 보수일람표1: #REF!
Name 보수일람표1: #REF!
Name 보수일람표2: #REF!
Name 보수일람표2: #REF!
Name 보수일람표3: #REF!
Name 보수일람표3: #REF!
Name ㅇ: #REF!
Name ㅇㅇㅇ: #REF!
Name ㅇㅇㅇ: #REF!
Name 아: #REF!
Name 아: #REF!
Name 임직원보수일람표: #REF!

Sheet 가. 세입세출(총괄)
A2: 가. 세입.세출 총괄표(라온)
M3: (단위 : 원)
A4: 세 입 | H4: 세 출
A5: 과 목 | D5: 2023년 예산 (A) | E5: 2023년 결산 (B) | F5: 증감금액 (C=B-A) | G5: 증감율(%) (C/A*100) | H5: 과 목 | K5: 2023년 예산 (A) | L5: 2023년 결산 (B) | M5: 증감금액 (C=B-A) | N5: 증감율(%) (C/A*100)
A6: 관 | B6: 항 | C6: 목 | H6: 관 | I6: 항 | J6: 목
A7: 합 계 | D7: =D8+D11+D14+D18+D21+D26 -> 122457000 | E7: =E8+E11+E14+E18+E21+E26 -> 114074217 | F7: =F8+F11+F14+F18+F21+F26 -> -8382783 | G7: =F7/D7*100 -> -6.8454911 | H7: 합 계 | K7: =SUM(K8+K20+K23+K36+K39+K42) -> 122457000 | L7: =SUM(L8+L20+L23+L36+L39+L42) -> 114074217 | M7: =L7-K7 -> -8382783 | N7: =M7/K7*100 -> -6.8454911
A8: 입소자부담금 | B8: 계 | D8: =D9 -> 18800000 | E8: =E9 -> 10700000 | F8: =E8-D8 -> -8100000 | G8: =F8/D8*100 -> -43.085106 | H8: 사무비 | I8: 계 | K8: =SUM(K9+K14+K16) -> 94603180 | L8: =SUM(L9+L14+L16) -> 84487840 | M8: =L8-K8 -> -10115340 | N8: =M8/K8*100 -> -10.692389
B9: 입소비용수입 | C9: 소계 | D9: =D10 -> 18800000 | E9: =E10 -> 10700000 | F9: =E9-D9 -> -8100000 | G9: =F9/D9*100 -> -43.085106 | I9: 인건비 | J9: 소계 | K9: =SUM(K10:K13) -> 84363180 | L9: =SUM(L10:L13) -> 79253900 | M9: =L9-K9 -> -5109280 | N9: =M9/K9*100 -> -6.0562914
C10: 입소비용수입 | D10: ='나. 세입결산'!D9 -> 18800000 | E10: ='나. 세입결산'!E9 -> 10700000 | F10: =E10-D10 -> -8100000 | G10: =F10/D10*100 -> -43.085106 | J10: 급여 | K10: ='다. 세출결산'!D9 -> 57176700 | L10: ='다. 세출결산'!E9 -> 57176700 | M10: =L10-K10 -> 0 | N10: =M10/K10*100 -> 0
A11: 보조금수입 | B11: 계 | D11: =SUM(D12) -> 96405180 | E11: =E12 -> 96262500 | F11: =E11-D11 -> -142680 | G11: =F11/D11*100 -> -0.14800035 | J11: 제수당 | K11: ='다. 세출결산'!D16 -> 13906420 | L11: ='다. 세출결산'!E16 -> 13221020 | M11: =L11-K11 -> -685400 | N11: =M11/K11*100 -> -4.9286588
B12: 보조금수입 | C12: 소계 | D12: =SUM(D13) -> 96405180 | E12: =E13 -> 96262500 | F12: =E12-D12 -> -142680 | G12: =F12/D12*100 -> -0.14800035 | J12: 퇴직금및퇴직적립금 | K12: ='다. 세출결산'!D28 -> 5923590 | L12: ='다. 세출결산'!E28 -> 5866520 | M12: =L12-K12 -> -57070 | N12: =M12/K12*100 -> -0.96343602
C13: 시도보조금 | D13: ='나. 세입결산'!D18 -> 96405180 | E13: ='나. 세입결산'!E18 -> 96262500 | F13: =E13-D13 -> -142680 | G13: =F13/D13*100 -> -0.14800035 | J13: 사회보험부담비용 | K13: ='다. 세출결산'!D30 -> 7356470 | L13: ='다. 세출결산'!E30 -> 2989660 | M13: =L13-K13 -> -4366810 | N13: =M13/K13*100 -> -59.360128
A14: 후원금 | B14: 계 | D14: =SUM(D15) -> 0 | E14: =SUM(E15) -> 0 | F14: =E14-D14 -> 0 | G14: =F14/D14*100 -> #DIV/0! | I14: 업무추진비 | J14: 소계 | K14: =K15 -> 140000 | L14: =L15 -> 37200 | M14: =L14-K14 -> -102800 | N14: 0
B15: 후원금수입 | C15: 소계 | D15: =SUM(D16:D17) -> 0 | E15: =SUM(E16:E17) -> 0 | F15: =E15-D15 -> 0 | G15: 0 | J15: 회의비 | K15: ='다. 세출결산'!D45 -> 140000 | L15: ='다. 세출결산'!E45 -> 37200 | M15: =L15-K15 -> -102800 | N15: 0
C16: 지정후원금 | D16: ='나. 세입결산'!D23 -> 0 | E16: ='나. 세입결산'!E23 -> 0 | F16: =E16-D16 -> 0 | G16: =F15/D15*100 -> #DIV/0! | I16: 운영비 | J16: 소계 | K16: =SUM(K17:K19) -> 10100000 | L16: =SUM(L17:L19) -> 5196740 | M16: =L16-K16 -> -4903260 | N16: =M16/K16*100 -> -48.547129
C17: 비지정후원금 | D17: ='나. 세입결산'!D24 -> 0 | E17: ='나. 세입결산'!E24 -> 0 | F17: =E17-D17 -> 0 | G17: =F17/D17*100 -> #DIV/0! | J17: 수용비및수수료 | K17: ='다. 세출결산'!D51 -> 3780000 | L17: ='다. 세출결산'!E51 -> 2331100 | M17: =L17-K17 -> -1448900 | N17: =M17/K17*100 -> -38.330688
A18: 전입금 | B18: 계 | D18: =D19 -> 0 | E18: =E19 -> 0 | F18: =E18-D18 -> 0 | G18: =F18/D18*100 -> #DIV/0! | J18: 공공요금 | K18: ='다. 세출결산'!D65 -> 5400000 | L18: ='다. 세출결산'!E65 -> 2675640 | M18: =L18-K18 -> -2724360 | N18: =M18/K18*100 -> -50.451111
B19: 전입금 | C19: 소계 | D19: =SUM(D20) -> 0 | E19: =SUM(E20) -> 0 | F19: =E19-D19 -> 0 | G19: =F19/D90*100 -> #DIV/0! | J19: 차량비 | K19: ='다. 세출결산'!D74 -> 920000 | L19: ='다. 세출결산'!E74 -> 190000 | M19: =L19-K19 -> -730000 | N19: =M19/K19*100 -> -79.347826
C20: 법인전입금 | D20: ='나. 세입결산'!D27 -> 0 | E20: ='나. 세입결산'!E27 -> 0 | F20: =E20-D20 -> 0 | G20: =F20/D20*100 -> #DIV/0! | H20: 재산조성비 | I20: 계 | K20: =K21 -> 1400000 | L20: =L21 -> 535000 | M20: =L20-K20 -> -865000 | N20: =M20/K20*100 -> -61.785714
A21: 이월금 | B21: 계 | D21: =D22 -> 7096842 | E21: =E22 -> 7096842 | F21: =E21-D21 -> 0 | G21: =F21/D21*100 -> 0 | H21: ` | I21: 시설비 | J21: 소계 | K21: =K22 -> 1400000 | L21: =L22 -> 535000 | M21: =L21-K21 -> -865000 | N21: =M21/K21*100 -> -61.785714
B22: 이월금 | C22: 소계 | D22: =SUM(D23:D25) -> 7096842 | E22: =SUM(E23:E25) -> 7096842 | F22: =E22-D22 -> 0 | G22: =F22/D22*100 -> 0 | J22: 시설장비유지비 | K22: ='다. 세출결산'!D91 -> 1400000 | L22: ='다. 세출결산'!E91 -> 535000 | M22: =L22-K22 -> -865000 | N22: =M22/K22*100 -> -61.785714
C23: 전년도이월금(자부담) | D23: ='나. 세입결산'!D30 -> 3012061 | E23: ='나. 세입결산'!E30 -> 3012061 | F23: =E23-D23 -> 0 | G23: =F23/D23*100 -> 0 | H23: 사업비 | I23: 계 | K23: =SUM(K24+K29) -> 22267000 | L23: =SUM(L24+L29) -> 11362780 | M23: =L23-K23 -> -10904220 | N23: =M23/K23*100 -> -48.970315
C24: 전년도이월금(후원금) | D24: ='나. 세입결산'!D31 -> 0 | E24: ='나. 세입결산'!E31 -> 0 | F24: =E24-D24 -> 0 | G24: =F24/D24*100 -> #DIV/0! | I24: 운영비 | J24: 소계 | K24: =SUM(K25:K28) -> 17400000 | L24: =SUM(L25:L28) -> 9485110 | M24: =L24-K24 -> -7914890 | N24: =M24/K24*100 -> -45.487874
C25: 전년도이월금(보조금) | D25: ='나. 세입결산'!D32 -> 4084781 | E25: ='나. 세입결산'!E32 -> 4084781 | F25: =E25-D25 -> 0 | G25: =F25/D25*100 -> 0 | J25: 생계비 | K25: ='다. 세출결산'!D98 -> 8820000 | L25: ='다. 세출결산'!E98 -> 6071000 | M25: =L25-K25 -> -2749000 | N25: =M25/K25*100 -> -31.1678
A26: 잡수입 | B26: 계 | D26: =D27 -> 154978 | E26: =E27 -> 14875 | F26: =E26-D26 -> -140103 | G26: =F26/D26*100 -> -90.401863 | J26: 수용기관경비 | K26: ='다. 세출결산'!D100 -> 1380000 | L26: ='다. 세출결산'!E100 -> 1116200 | M26: =L26-K26 -> -263800 | N26: =M26/K26*100 -> -19.115942
B27: 잡수입 | C27: 소계 | D27: ='나. 세입결산'!D34 -> 154978 | E27: ='나. 세입결산'!E34 -> 14875 | F27: =E27-D27 -> -140103 | G27: =F27/D27*100 -> -90.401863 | J27: 의료비 | K27: ='다. 세출결산'!D105 -> 600000 | L27: ='다. 세출결산'!E105 -> 150000 | M27: =L27-K27 -> -450000 | N27: =M27/K27*100 -> -75
C28: 불용품매각대 | D28: ='나. 세입결산'!D36 -> 60000 | E28: ='나. 세입결산'!E36 -> 0 | F28: =E28-D28 -> -60000 | G28: =F28/D28*100 -> -100 | J28: 연료비 | K28: ='다. 세출결산'!D107 -> 6600000 | L28: ='다. 세출결산'!E107 -> 2147910 | M28: =L28-K28 -> -4452090 | N28: =M28/K28*100 -> -67.455909
C29: 기타예금이자수입 | D29: ='나. 세입결산'!D37 -> 84978 | E29: ='나. 세입결산'!E37 -> 14874 | F29: =E29-D29 -> -70104 | G29: =F29/D29*100 -> -82.496646 | I29: 사업비 | J29: 소계 | K29: =SUM(K30:K35) -> 4867000 | L29: =SUM(L30:L35) -> 1877670 | M29: =SUM(M30:M35) -> -2989330 | N29: =M29/K29*100 -> -61.420382
C30: 기타잡수입 | D30: ='나. 세입결산'!D38 -> 10000 | E30: ='나. 세입결산'!E38 -> 1 | F30: =E30-D30 -> -9999 | G30: =F30/D30*100 -> -99.99 | J30: 교육재활사업비 | K30: ='다. 세출결산'!D111 -> 50000 | L30: ='다. 세출결산'!E111 -> 25000 | M30: =L30-K30 -> -25000 | N30: =M30/K30*100 -> -50
J31: 여가활동사업비 | K31: ='다. 세출결산'!D113 -> 2395000 | L31: ='다. 세출결산'!E113 -> 1037170 | M31: =L31-K31 -> -1357830 | N31: =M31/K31*100 -> -56.694363
J32: 지역사회교류사업비 | K32: ='다. 세출결산'!D122 -> 420000 | L32: ='다. 세출결산'!E122 -> 33000 | M32: =L32-K32 -> -387000 | N32: =M32/K32*100 -> -92.142857
J33: 자립지원사업비 | K33: ='다. 세출결산'!D125 -> 360000 | L33: ='다. 세출결산'!E125 -> 0 | M33: =L33-K33 -> -360000 | N33: =M33/K33*100 -> -100
J34: 4종 운영지원사업 | K34: ='다. 세출결산'!D127 -> 1642000 | L34: ='다. 세출결산'!E127 -> 782500 | M34: =L34-K34 -> -859500 | N34: =M34/K34*100 -> -52.344702
J35: 7종 운영지원사업 | K35: ='다. 세출결산'!D133 -> 0 | L35: ='다. 세출결산'!E133 -> 0 | M35: =L35-K35 -> 0 | N35: =M35/K35*100 -> #DIV/0!
H36: 잡지출 | I36: 계 | K36: =K37 -> 102039 | L36: =L37 -> 0 | M36: =L36-K36 -> -102039 | N36: =M36/K36*100 -> -100
I37: 잡지출 | J37: 소계 | K37: =SUM(K38) -> 102039 | L37: =SUM(L38) -> 0 | M37: =L37-K37 -> -102039 | N37: =M37/K37*100 -> -100
J38: 잡지출 | K38: ='다. 세출결산'!D139 -> 102039 | L38: ='다. 세출결산'!E139 -> 0 | M38: =L38-K38 -> -102039 | N38: =M38/K38*100 -> -100
H39: 예비비및기타 | I39: 계 | K39: =K40 -> 4084781 | L39: =L40 -> 4084781 | M39: =L39-K39 -> 0 | N39: =M39/K39*100 -> 0
I40: 예비비및기타 | J40: 소계 | K40: =SUM(K41) -> 4084781 | L40: =SUM(L41) -> 4084781 | M40: =L40-K40 -> 0 | N40: =M40/K40*100 -> 0
J41: 반환금 | K41: ='다. 세출결산'!D143 -> 4084781 | L41: ='다. 세출결산'!E143 -> 4084781 | M41: =L41-K41 -> 0 | N41: 0
I42: 차년도이월금 | K42: ='다. 세출결산'!D144 -> 0 | L42: ='다. 세출결산'!E144 -> 13603816 | M42: =L42-K42 -> 13603816 | N42: 0

Sheet 나. 세입결산
A2: 나. 세입결산서(라온)
J3: (단위 : 원)
A4: 과 목 | D4: 2023년 예산 (A) | E4: 2023년 결산 (B) | F4: 증감금액 (C=B-A) | G4: 증감율(%) (C/A*100) | H4: 산 출 내 역
A5: 관 | B5: 항 | C5: 목
A6: 합 계 | D6: =SUM(D7+D10+D13+D16+D21+D25+D28+D33) -> 122457000 | E6: =SUM(E7+E10+E13+E16+E21+E25+E28+E33) -> 114074217 | F6: =SUM(F7+F10+F13+F16+F21+F25+F28+F33) -> -8382783 | G6: =F6/D6*100 -> -6.8454911
A7: 입소자부담금 | B7: 계 | D7: =D8 -> 18800000 | E7: =E8 -> 10700000 | F7: =E7-D7 -> -8100000 | G7: =F7/D7*100 -> -43.085106
B8: 입소비용수입 | C8: 소계 | D8: =SUM(D9) -> 18800000 | E8: =E9 -> 10700000 | F8: =E8-D8 -> -8100000 | G8: =F8/D8*100 -> -43.085106
C9: 입소비용수입 | D9: 18800000 | E9: 10700000 | F9: =E9-D9 -> -8100000 | G9: =F9/D9*100 -> -43.085106 | H9: ▶ 1명*350,000원*2개월= 700,000원 ▶ 1명*400,000원*1개월= 400,000원 ▶ 1명*400,000원*2개월= 800,000원 ▶ 2명*400,000원*7개월=5,600,000원 ▶ 1명*400,000원*8개월=3,200,000원
A10: 사업수입 | B10: 계 | D10: =D11 -> 0 | E10: =E11 -> 0 | F10: =F11 -> 0 | G10: 0
B11: 사업수입 | C11: 소계 | D11: =SUM(D12) -> 0 | E11: =E12 -> 0 | F11: =E11-D11 -> 0 | G11: 0
C12: 프로그램사업수입 | D12: 0 | E12: 0 | F12: =E12-D12 -> 0 | G12: 0
A13: 과년도수입 | B13: 계 | D13: =D14 -> 0 | E13: =E14 -> 0 | F13: =E13-D13 -> 0 | G13: 0
B14: 과년도수입 | C14: 소계 | D14: =SUM(D15) -> 0 | E14: =SUM(E15) -> 0 | F14: =SUM(F15) -> 0 | G14: 0
C15: 과년도수입 | D15: 0 | E15: 0 | F15: =E15-D15 -> 0 | G15: 0
A16: 보조금수입 | B16: 계 | D16: =D17 -> 96405180 | E16: =E17 -> 96262500 | F16: =F17 -> -142680 | G16: =F16/D16*100 -> -0.14800035
B17: 보조금수입 | C17: 소계 | D17: =SUM(D18:D20) -> 96405180 | E17: =SUM(E18:E20) -> 96262500 | F17: =SUM(F18:F20) -> -142680 | G17: =F17/D17*100 -> -0.14800035
C18: 시도보조금 | D18: 96405180 | E18: 96262500 | F18: =E18-D18 -> -142680 | G18: =F18/D18*100 -> -0.14800035 | H18: * 운영비 95,400,000원(인건비 85,000,000원, 관리운영비 10,400,000원) * 4종 운영비 862,500원
C19: 시군구보조금 | D19: 0 | E19: 0 | F19: =E19-D19 -> 0 | G19: 0
C20: 기타보조금 | D20: 0 | E20: 0 | F20: =E20-D20 -> 0 | G20: 0
A21: 후원금 | B21: 계 | D21: =D22 -> 0 | E21: =E22 -> 0 | F21: =E21-D21 -> 0 | G21: =F21/D21*100 -> #DIV/0!
B22: 후원금수입 | C22: 소계 | D22: =SUM(D23:D24) -> 0 | E22: =SUM(E23:E24) -> 0 | F22: =E22-D22 -> 0 | G22: =F22/D22*100 -> #DIV/0!
C23: 지정후원금 | D23: 0 | E23: 0 | F23: =E23-D23 -> 0 | G23: =F23/D23*100 -> #DIV/0!
C24: 비지정후원금 | D24: 0 | E24: 0 | F24: =E24-D24 -> 0 | G24: =F24/D24*100 -> #DIV/0!
A25: 전입금 | B25: 계 | D25: =D26 -> 0 | E25: =E26 -> 0 | F25: =E25-D25 -> 0 | G25: =F25/D25*100 -> #DIV/0!
B26: 전입금 | C26: 소계 | D26: =SUM(D27) -> 0 | E26: =E27 -> 0 | F26: =E26-D26 -> 0 | G26: =F26/D26*100 -> #DIV/0!
C27: 법인전입금 | D27: 0 | E27: 0 | F27: =E27-D27 -> 0 | G27: =F27/D27*100 -> #DIV/0!
A28: 이월금 | B28: 계 | D28: =D29 -> 7096842 | E28: =E29 -> 7096842 | F28: =E28-D28 -> 0 | G28: =F28/D28*100 -> 0
B29: 이월금 | C29: 소계 | D29: =SUM(D30:D32) -> 7096842 | E29: =SUM(E30:E32) -> 7096842 | F29: =E29-D29 -> 0 | G29: =F29/D29*100 -> 0
C30: 전년도이월금(자부담) | D30: 3012061 | E30: 3012061 | F30: =E30-D30 -> 0 | G30: =F30/D30*100 -> 0 | H30: *전년도이월금 (자부담) : 3,012,000원, (예금이자) : 61원
C31: 전년도이월금(후원금) | D31: 0 | E31: 0 | F31: =E31-D31 -> 0 | G31: =F31/D31*100 -> #DIV/0!
C32: 전년도이월금(보조금) | D32: 4084781 | E32: 4084781 | F32: =E32-D32 -> 0 | G32: =F32/D32*100 -> 0 | H32: *전년도이월금 (보조금) : 4,066,171원, (예금이자) : 18,610원
A33: 잡수입 | B33: 계 | D33: =D34 -> 154978 | E33: =E34 -> 14875 | F33: =E33-D33 -> -140103 | G33: =F33/D33*100 -> -90.401863
B34: 잡수입 | C34: 소계 | D34: =SUM(D35:D39) -> 154978 | E34: =SUM(E35:E39) -> 14875 | F34: =E34-D34 -> -140103 | G34: =F34/D34*100 -> -90.401863
C35: 불용품매각대 | D35: 0 | E35: 0 | F35: =E35-D35 -> 0 | G35: 0
C36: 물용품매각대 | D36: 60000 | E36: 0 | F36: =E36-D36 -> -60000 | G36: =F36/D36*100 -> -100
C37: 기타예금이자수입 | D37: 84978 | E37: 14874 | F37: =E37-D37 -> -70104 | G37: =F37/D37*100 -> -82.496646 | H37: * 예금이자 (보조금 14,430원, 자부담 444원)
C38: 기타잡수입 | D38: 10000 | E38: 1 | F38: =E38-D38 -> -9999 | G38: =F38/D38*100 -> -99.99 | H38: * 2022년 운영비 보조금 반환 원 절사 수입
C39: 기타잡수입 | D39: 0 | E39: 0 | F39: =E39-D39 -> 0 | G39: 0

Sheet 다. 세출결산
A2: 다. 세출결산서(라온)
V3: (단위 : 원)
A4: 과 목 | D4: 2023년 예산 (A) | E4: 2023년 결산 (B) | F4: 증감금액 (C=B-A) | G4: 증감율(%) (C/A*100) | H4: 재원 | M4: 산 출 내 역
A5: 관 | B5: 항 | C5: 목 | H5: 보조금 | I5: 법인전입금 | J5: 자부담 | K5: 후원금
A6: 합 계 | D6: =SUM(D7+D81+D96+D137+D140) -> 122457000 | E6: =SUM(E7+E81+E96+E137+E140+E144) -> 114074217 | F6: =E6-D6 -> -8382783 | G6: =F6/D6*100 -> -6.8454911 | H6: =SUM(H7,H81,H96,H137,H140,H144) -> 100361711 | I6: =SUM(I7,I81,I96,I137,I140,I144) -> #REF! | J6: =SUM(J7,J81,J96,J137,J140,J144) -> 13712506 | K6: =SUM(K7,K81,K96,K137,K140,K144) -> 0 | M6: =SUM(V7,V81,V96,V137,V140,V144) -> 114074217
A7: 사무비 | B7: 계 | D7: =SUM(D8+D39+D48) -> 94603180 | E7: =SUM(E8+E39+E48) -> 84487840 | F7: =E7-D7 -> -10115340 | G7: =F7/D7*100 -> -10.692389 | H7: =SUM(H8+H48) -> 82063900 | I7: =SUM(I8+I48) -> 0 | J7: =SUM(J8+J39+J48) -> 2423940 | K7: =SUM(K8+K48) -> 0 | M7: 사무비계 | V7: =SUM(V8,V39,V48) -> 84487840
B8: 인건비 | C8: 소계 | D8: =SUM(D9+D14+D16+D28+D30+D36) -> 84363180 | E8: =SUM(E9+E14+E16+E28+E30+E36) -> 79253900 | F8: =E8-D8 -> -5109280 | G8: =F8/D8*100 -> -6.0562914 | H8: =SUM(H9+H16+H28+H30) -> 79253900 | I8: =SUM(I9+I16+I28+I30) -> 0 | J8: =SUM(J9+J16+J28+J30) -> 0 | K8: =SUM(K9+K16+K28+K30) -> 0 | M8: 인건비계 | V8: =SUM(V9,V14,V16,V28,V30,V36) -> 79253900
C9: 급여 | D9: 57176700 | E9: =V9 -> 57176700 | F9: =E9-D9 -> 0 | G9: =F9/D9*100 -> 0 | H9: =V9 -> 57176700 | I9: =SUM(I10:I13) -> 0 | J9: =SUM(J10:J13) -> 0 | K9: 0 | M9: ◆ 급여 | V9: =SUM(V10:V13) -> 57176700
H10: 0 | I10: 0 | J10: 0 | M10: 시설장 | N10: 이애경 | O10: =V10/Q10 -> 4718600 | P10: × | Q10: 3 | R10: × | S10: 1 | T10: = | V10: ='바. 임직원보수 일람표'!F5 -> 14155800
H11: 0 | I11: 0 | J11: 0 | O11: =V11/Q11 -> 4780100 | P11: × | Q11: 9 | R11: × | S11: 1 | T11: = | V11: ='바. 임직원보수 일람표'!F6 -> 43020900
H12: 0 | I12: 0 | J12: 0 | M12: 생활재활교사 | N12: 유봉상 | O12: =V12/Q12 -> #DIV/0! | P12: × | Q12: 0 | R12: × | S12: 1 | T12: = | V12: ='바. 임직원보수 일람표'!F7 -> 0
I13: 0 | J13: 0 | P13: × | Q13: 0 | R13: × | S13: 1 | T13: =
C14: 일용잡급 | D14: 0 | E14: =V14 -> 0 | F14: =E14-D14 -> 0 | G14: 0 | H14: 0 | I14: 0 | J14: 0 | K14: =#REF! -> #REF! | M14: ◆ 일용잡급 | V14: =V15 -> 0
I15: 0 | P15: × | Q15: 0 | R15: × | S15: 0 | T15: = | V15: =O15*Q15*S15 -> 0
C16: 제수당 | D16: 13906420 | E16: =V16 -> 13221020 | F16: =E16-D16 -> -685400 | G16: =F16/D16*100 -> -4.9286588 | H16: 13221020 | I16: =I17+I21+I24 -> 0 | J16: 0 | K16: 0 | M16: ◆ 제수당 | V16: =SUM(V17,V21,V24) -> 13221020
I17: 0 | M17: 명절휴가비 | V17: =SUM(V18:V20) -> 5699220
I18: 0 | M18: 시설장 | N18: 이애경 | O18: 4718600 | P18: × | Q18: 1 | R18: × | S18: 0.6 | T18: = | V18: =O18*Q18*S18 -> 2831160
I19: 0 | O19: 4780100 | P19: × | Q19: 1 | R19: × | S19: 0.6 | T19: = | V19: =O19*Q19*S19 -> 2868060
M20: 생활재활교사 | P20: × | Q20: 0 | R20: × | S20: 0.6 | T20: = | V20: =O20*Q20*S20 -> 0
I21: 0 | M21: 가족수당 | V21: =SUM(V22:V23) -> 0
I22: 0 | M22: 시설장 | N22: 이애경 | O22: 0 | P22: × | Q22: 0 | T22: = | V22: =O22*Q22 -> 0
I23: 0 | M23: 생활재활교사 | O23: 0 | P23: × | Q23: 0 | T23: = | V23: =O23*Q23 -> 0
I24: 0 | M24: 연장근로수당 | O24: 개인별 시간외 시급계산 : 기본급X1/209X1.5 | V24: =SUM(V25:V27) -> 7521800
I25: 0 | M25: 시설장 | N25: 이애경 | O25: 33870 | P25: × | Q25: 60 | S25: 3개월 | T25: = | V25: ='바. 임직원보수 일람표'!I5 -> 2032200
I26: 0 | O26: 34310 | P26: × | Q26: 180 | S26: 8개월 | T26: = | V26: ='바. 임직원보수 일람표'!I6 -> 5489600
I27: 0 | M27: 생활재활교사 | O27: 0 | P27: × | Q27: 0 | S27: 0 | T27: = | V27: ='바. 임직원보수 일람표'!I7 -> 0
C28: 퇴직금및퇴직적립금 | D28: 5923590 | E28: =V28 -> 5866520 | F28: =E28-D28 -> -57070 | G28: =F28/D28*100 -> -0.96343602 | H28: 5866520 | I28: 0 | J28: 0 | K28: 0 | M28: ◆ 퇴직금및퇴직적립금 | V28: =V29 -> 5866520
I29: 0 | M29: 시설장 | N29: 이애경 | O29: =V9+V16 -> 70397720 | P29: × | Q29: 1/12 | T29: = | V29: ='바. 임직원보수 일람표'!K9 -> 5866520
C30: 사회보험부담비용 | D30: 7356470 | E30: =V30 -> 2989660 | F30: =E30-D30 -> -4366810 | G30: =F30/D30*100 -> -59.360128 | H30: 2989660 | I30: 0 | J30: 0 | K30: 0 | M30: ◆ 사회보험부담비용 | V30: =SUM(V31:V35) -> 2989660
I31: 0 | M31: 국민연금 | O31: =V9+V16 -> 70397720 | P31: × | Q31: 0.045 | T31: = | V31: ='바. 임직원보수 일람표'!N9 -> 0
I32: 0 | M32: 건강보험료 | O32: =V9+V16 -> 70397720 | P32: × | Q32: 0.0343 | T32: = | V32: ='바. 임직원보수 일람표'!L9 -> 2650220
I33: 0 | M33: 노인장기요양보험 | O33: 2650220 | P33: × | Q33: 0.1281 | T33: = | V33: ='바. 임직원보수 일람표'!M9 -> 339440
I34: 0 | M34: 고용보험 | O34: =V9+V16 -> 70397720 | P34: × | Q34: 0.0105 | T34: = | V34: 0
I35: 0 | M35: 산재보험 | O35: =V9+V16 -> 70397720 | P35: × | Q35: 0.008 | T35: = | V35: 0
C36: 기타후생경비 | D36: 0 | E36: =V36 -> 0 | F36: =E36-D36 -> 0 | G36: 0 | H36: 0 | I36: 0 | J36: 0 | K36: =#REF! -> #REF! | M36: ◆ 기타후생경비 | V36: =SUM(V37:V38) -> 0
I37: 0 | M37: 직원복리후생비 | P37: × | Q37: 0 | T37: = | V37: =O37*Q37 -> 0
I38: 0 | M38: 명함제작비 | P38: × | Q38: 0 | T38: = | V38: =O38*Q38 -> 0
B39: 업무추진비 | C39: 소계 | D39: =SUM(D40+D43+D45) -> 140000 | E39: =SUM(E40:E45) -> 37200 | F39: =E39-D39 -> -102800 | G39: 0 | H39: =SUM(H40:H45) -> 0 | I39: =SUM(I40:I45) -> #REF! | J39: =SUM(J40:J45) -> 37200 | K39: =SUM(K40:K45) -> #REF! | M39: 업무추진계비 | V39: =SUM(V40,V43,V45) -> 37200
C40: 기관운영비 | D40: 0 | E40: =V40 -> 0 | F40: =E40-D40 -> 0 | G40: 0 | H40: 0 | I40: =#REF! -> #REF! | J40: 0 | K40: =#REF! -> #REF! | M40: ◆ 기관운영비 | V40: =SUM(V41:V42) -> 0
I41: 0 | M41: 유관기관경비 | V41: =O41*Q41 -> 0
I42: 0 | M42: 지역 명절 선물비 | V42: =O42*Q42 -> 0
C43: 직책보조비 | D43: 0 | E43: =V43 -> 0 | F43: =E43-D43 -> 0 | G43: 0 | H43: 0 | I43: 0 | J43: 0 | K43: =#REF! -> #REF! | M43: ◆ 직책보조비 | V43: =V44 -> 0
I44: 0 | M44: 직책보조비 | V44: =O44*Q44 -> 0
C45: 회의비 | D45: 140000 | E45: =V45 -> 37200 | F45: =E45-D45 -> -102800 | G45: 0 | H45: 0 | I45: 0 | J45: 37200 | K45: =#REF! -> #REF! | M45: ◆ 회의비 | V45: =SUM(V46:V47) -> 37200
I46: 0 | M46: 운영위원회 | P46: × | T46: = | V46: =O46*Q46 -> 0
I47: 0 | M47: 부모간단회 다과비 | O47: =V47/Q47 -> 18600 | P47: × | Q47: 2 | T47: = | V47: 37200
B48: 운영비 | C48: 소계 | D48: =SUM(D49+D51+D65+D68+D74+D77) -> 10100000 | E48: =SUM(E49:E77) -> 5196740 | F48: =E48-D48 -> -4903260 | G48: =F48/D48*100 -> -48.547129 | H48: =SUM(H51+H65+H74) -> 2810000 | I48: =SUM(I51+I65+I74) -> 0 | J48: =SUM(J51+J65+J74) -> 2386740 | K48: =SUM(K51+K65+K74) -> 0 | M48: 운영비계 | V48: =SUM(V49,V51,V65,V68,V74,V77) -> 5196740
C49: 여비 | D49: 0 | E49: =V49 -> 0 | F49: =E49-D49 -> 0 | G49: 0 | H49: 0 | I49: =#REF! -> #REF! | J49: 0 | K49: =#REF! -> #REF! | M49: ◆ 여비 | V49: =V50 -> 0
I50: 0
C51: 수용비및수수료 | D51: 3780000 | E51: =V51 -> 2331100 | F51: =E51-D51 -> -1448900 | G51: =F51/D51*100 -> -38.330688 | H51: 1310000 | I51: =SUM(I52:I62) -> 0 | J51: 1021100 | K51: 0 | M51: ◆ 수용비및수수료 | V51: =SUM(V52:V64) -> 2331100
I52: 0 | M52: 사무용품구입 | O52: =V52/Q52 -> 88190 | P52: × | Q52: 10 | T52: = | V52: 881900
I53: 0 | M53: 비데렌탈비 | O53: =V53/Q53 -> 0 | P53: × | Q53: 7 | T53: = | V53: =O53*Q53 -> 0
I54: 0 | O54: =V54/Q54 -> 0 | P54: × | Q54: 7 | T54: = | V54: =O54*Q54 -> 0
M55: 정수기렌탈료 | O55: =V55/Q55 -> 22800 | P55: × | Q55: 2 | T55: = | V55: 45600
O56: =V56/Q56 -> 23800 | P56: × | Q56: 10 | T56: = | V56: 238000
I57: 0 | M57: 침대렌탈료 | O57: =V57/Q57 -> 30400 | P57: × | Q57: 2 | T57: = | V57: 60800
O58: =V58/Q58 -> 32400 | P58: × | Q58: 10 | T58: = | V58: 324000
I59: 0 | M59: 프린터임대료 | O59: =V59/Q59 -> 38500 | P59: × | Q59: 5 | T59: = | V59: 192500
I60: 0 | M60: 복합기, 프린터 임대료(사무실) | O60: =V60/Q60 -> 159500 | P60: × | Q60: 1 | T60: = | V60: 159500
I61: 0 | M61: 집기구입비 | O61: =V61/Q61 -> 0 | P61: × | Q61: 2 | T61: = | V61: 0
I62: 0 | M62: 수수료 | O62: =V62/Q62 -> 13450 | P62: × | Q62: 4 | T62: = | V62: 53800
M63: 홈페이지제작 | O63: =V63/Q63 -> 350000 | P63: × | Q63: 1 | T63: = | V63: 350000
M64: 3년평가자료제본 | O64: =V64/Q64 -> 25000 | P64: × | Q64: 1 | T64: = | V64: 25000
C65: 공공요금 | D65: 5400000 | E65: =V65 -> 2675640 | F65: =E65-D65 -> -2724360 | G65: =F65/D65*100 -> -50.451111 | H65: 1500000 | I65: =I66 -> 0 | J65: 1175640 | K65: 0 | M65: ◆ 공공요금 | V65: =SUM(V66:V67) -> 2675640
I66: 0 | M66: 전기,전화,수도 | O66: =V66/Q66 -> 264491 | P66: × | Q66: 10 | T66: = | V66: 2644910
M67: 우편료 | O67: =V67/Q67 -> 15365 | P67: × | Q67: 2 | T67: = | V67: 30730
C68: 제세공과금 | D68: 0 | E68: =V68 -> 0 | F68: =E68-D68 -> 0 | G68: 0 | H68: =#REF!+#REF!+#REF!+#REF!+#REF!+#REF!+#REF!+#REF! -> #REF! | I68: =#REF! -> #REF! | J68: =#REF! -> #REF! | K68: =#REF! -> #REF! | M68: ◆ 제세공과금 | P68: × | Q68: 11 | T68: = | V68: =SUM(V69:V73) -> 0
I69: 0 | M69: 자동차보험 | P69: × | Q69: 11 | T69: = | V69: =O69*Q69 -> 0
I70: 0 | M70: 종합안전배상책임보험 | P70: × | Q70: 11 | T70: = | V70: =O70*Q70 -> 0
I71: 0 | M71: 승강기배상보험 | P71: × | Q71: 11 | T71: = | V71: =O71*Q71 -> 0
I72: 0 | M72: 화재보험 | P72: × | Q72: 11 | T72: = | V72: =O72*Q72 -> 0
I73: 0 | M73: 자동차세및각종세금 | P73: × | Q73: 11 | T73: = | V73: =O73*Q73 -> 0
C74: 차량비 | D74: 920000 | E74: =V74 -> 190000 | F74: =E74-D74 -> -730000 | G74: =F74/D74*100 -> -79.347826 | H74: 0 | I74: =I75 -> 0 | J74: 190000 | K74: 0 | M74: ◆ 차량비 | V74: =SUM(V75:V76) -> 190000
I75: 0 | M75: 차량주유비 | O75: =V75/Q75 -> 31666.667 | P75: × | Q75: 6 | T75: = | V75: 190000
M76: 차량수리비 | O76: =V76/1 -> 0 | P76: × | Q76: 0 | T76: =
C77: 기타운영비 | D77: 0 | E77: =V77 -> 0 | F77: =E77-D77 -> 0 | G77: 0 | H77: =#REF!+#REF!+#REF!+#REF!+#REF!+#REF!+#REF!+#REF! -> #REF! | I77: =#REF! -> #REF! | J77: =#REF! -> #REF! | K77: =#REF! -> #REF! | M77: ◆ 기타운영비 | O77: 30000 | P77: × | Q77: 1 | T77: = | V77: =SUM(V78:V80) -> 0
I78: 0 | M78: 직원근무복 | O78: 30000 | P78: × | Q78: 1 | T78: =
I79: 0 | M79: 주말급량비 | O79: 30000 | P79: × | Q79: 1 | T79: =
I80: 0 | M80: 기타운영비 | O80: 30000 | P80: × | Q80: 1 | T80: =
A81: 재산조성비 | B81: 계 | D81: =D82 -> 1400000 | E81: =E82 -> 535000 | F81: =E81-D81 -> -865000 | G81: =F81/D81*100 -> -61.785714 | H81: =H82 -> 440000 | I81: =I82 -> 0 | J81: =J82 -> 95000 | K81: =K82 -> 0 | M81: 재산조성비계 | V81: =V82 -> 535000
B82: 시설비 | C82: 소계 | D82: =SUM(D83+D84+D91) -> 1400000 | E82: =SUM(E83:E91) -> 535000 | F82: =E82-D82 -> -865000 | G82: =F82/D82*100 -> -61.785714 | H82: =SUM(H83+H91) -> 440000 | I82: =SUM(I83+I91) -> 0 | J82: =SUM(J83+J91) -> 95000 | K82: =SUM(K83+K91) -> 0 | M82: 시설비계 | V82: =SUM(V83:V84,V91) -> 535000
C83: 시설비 | D83: 0 | E83: =V83 -> 0 | F83: =E83-D83 -> 0 | G83: 0 | H83: 0 | I83: =I91 -> 0 | J83: 0 | K83: 0 | M83: ◆ 시설비 | V83: 0
C84: 자산취득비 | D84: 0 | E84: =V84 -> 0 | F84: =E84-D84 -> 0 | G84: =F84/D84*100 -> #DIV/0! | H84: =#REF!+#REF!+#REF!+#REF!+#REF!+#REF!+#REF!+#REF! -> #REF! | I84: =#REF! -> #REF! | J84: =#REF! -> #REF! | K84: =#REF! -> #REF! | M84: ◆ 자산취득비 | V84: =SUM(V85:V90) -> 0
I85: 0 | P85: × | Q85: 0 | T85: = | V85: =O85*Q85 -> 0
I86: 0 | P86: × | Q86: 0 | T86: = | V86: =O86*Q86 -> 0
I87: 0 | P87: × | Q87: 0 | T87: = | V87: =O87*Q87 -> 0
I88: 0 | P88: × | Q88: 0 | T88: = | V88: =O88*Q88 -> 0
I89: 0 | P89: × | Q89: 0 | T89: = | V89: =O89*Q89 -> 0
I90: 0 | P90: × | Q90: 0 | T90: = | V90: =O90*Q90 -> 0
C91: 시설장비유지비 | D91: 1400000 | E91: =V91 -> 535000 | F91: =E91-D91 -> -865000 | G91: =F91/D91*100 -> -61.785714 | H91: 440000 | I91: =SUM(I92:I93) -> 0 | J91: 95000 | K91: 0 | M91: ◆ 시설장비유지비 | V91: =SUM(V92:V95) -> 535000
I92: 0 | M92: 승강기유지비 | O92: =V92/Q92 -> 116600 | P92: × | Q92: 2 | T92: = | V92: 233200
I93: 0 | M93: 숭강기유지비 | O93: =V93/Q93 -> 103400 | P93: × | Q93: 2 | T93: = | V93: 206800
M94: 예초기연료 | O94: =V94/Q94 -> 40000 | P94: × | Q94: 1 | T94: = | V94: 40000
M95: 소방시설 종합점검비 | O95: =V95/Q95 -> 55000 | P95: × | Q95: 1 | T95: = | V95: 55000
A96: 사업비 | B96: 계 | D96: =SUM(D97+D110) -> 22267000 | E96: =SUM(E97,E110) -> 11362780 | F96: =E96-D96 -> -10904220 | G96: =F96/D96*100 -> -48.970315 | H96: =SUM(H97,H110) -> 7932500 | I96: =SUM(I97,I110) -> #REF! | J96: =SUM(J97,J110) -> 3430280 | K96: =SUM(K97,K110) -> 0 | M96: 사업비계 | V96: =SUM(V97,V110) -> 11362780
B97: 운영비 | C97: 소계 | D97: =SUM(D98+D100+D103+D105+D107) -> 17400000 | E97: =SUM(E98:E107) -> 9485110 | F97: =E97-D97 -> -7914890 | G97: =F97/D97*100 -> -45.487874 | H97: =SUM(H98+H100+H105+H107) -> 7150000 | I97: =SUM(I98+I100+I105+I107) -> 0 | J97: =SUM(J98+J100+J105+J107) -> 2335110 | K97: =SUM(K98+K100+K105+K107) -> 0 | M97: 운영비계 | V97: =SUM(V98,V100,V103,V107,V105) -> 9485110
C98: 생계비 | D98: 8820000 | E98: =V98 -> 6071000 | F98: =E98-D98 -> -2749000 | G98: =F98/D98*100 -> -31.1678 | H98: 4000000 | I98: =I99 -> 0 | J98: 2071000 | K98: 0 | M98: ◆ 생계비 | V98: =SUM(V99:V99) -> 6071000
I99: 0 | M99: 주.부식비 | O99: =V99/Q99 -> 104672.41 | P99: × | Q99: 58 | V99: 6071000
C100: 수용기관경비 | D100: 1380000 | E100: =V100 -> 1116200 | F100: =E100-D100 -> -263800 | G100: =F100/D100*100 -> -19.115942 | H100: 897410 | I100: =SUM(I101:I102) -> 0 | J100: 218790 | K100: 0 | M100: ◆ 수용기관경비 | V100: =SUM(V101:V102) -> 1116200
I101: 0 | M101: 일상용품구입 | O101: =V101/Q101 -> 93016.667 | P101: × | Q101: 12 | T101: = | V101: 1116200
...

Sheet 라. 세입세출(개요)
B1: 라. 세입 ∙ 세출 개요(라온)
E3: (단위 : 원)
B4: 구 분 | C4: 세 입 | E4: 세 출
B5: 합 계 | C5: =SUM(D6,D15,D25,D31) -> 114074217 | E5: =SUM(F6,F15,F25,F31) -> 114074217
B6: 보조금 | C6: 소 계 | D6: =SUM(D7:D14) -> 100361711 | E6: 소 계 | F6: =SUM(F7:F14) -> 100361711
C7: 보조금수입 | D7: ='나. 세입결산'!E16 -> 96262500 | E7: 사무비(인건비) | F7: ='다. 세출결산'!H8 -> 79253900
C8: 이월금 | D8: ='나. 세입결산'!E32 -> 4084781 | E8: 사무비(운영비) | F8: ='다. 세출결산'!H48 -> 2810000
C9: 잡수입 | D9: 14430 | E9: 시설비 | F9: ='다. 세출결산'!H82 -> 440000
E10: 사업비(운영비) | F10: ='다. 세출결산'!H97 -> 7150000
E11: 사업비(사업비) | F11: ='다. 세출결산'!H110 -> 782500
E12: 잡지출 | F12: ='다. 세출결산'!H138 -> 0
E13: 반환금 | F13: ='다. 세출결산'!H143 -> 4084781
E14: 차년도이월금 | F14: ='다. 세출결산'!H144 -> 5840530
B15: 자부담 | C15: 소 계 | D15: =SUM(D16:D23) -> 13712506 | E15: 소 계 | F15: =SUM(F16:F24) -> 13712506
C16: 입소비용수입 | D16: ='나. 세입결산'!E8 -> 10700000 | E16: 사무비(인건비) | F16: ='다. 세출결산'!J8 -> 0
C17: 사업수입 | D17: ='나. 세입결산'!E11 -> 0 | E17: 업무추진비 | F17: ='다. 세출결산'!J39 -> 37200
C18: 이월금 | D18: ='나. 세입결산'!E30 -> 3012061 | E18: 사무비(운영비) | F18: ='다. 세출결산'!J48 -> 2386740
C19: 잡수입 | D19: 445 | E19: 시설비 | F19: ='다. 세출결산'!J82 -> 95000
E20: 사업비(운영비) | F20: ='다. 세출결산'!J97 -> 2335110
E21: 사업비(사업비) | F21: ='다. 세출결산'!J110 -> 1095170
E22: 잡지출 | F22: ='다. 세출결산'!J138 -> 0
E23: 예비비 | F23: ='다. 세출결산'!J141 -> 0
E24: 차년도이월금 | F24: ='다. 세출결산'!J144 -> 7763286
B25: 법인 | C25: 소 계 | D25: =SUM(D26:D28) -> 0 | E25: 소 계 | F25: =SUM(F26:F28) -> 0
B26: 전입금 | C26: 법인전입금 | D26: ='나. 세입결산'!E26 -> 0 | E26: 사무비(인건비) | F26: ='다. 세출결산'!I8 -> 0
C27: 이월금 | D27: 0 | E27: 사무비(운영비) | F27: ='다. 세출결산'!I48 -> 0
C28: 잡수입 | D28: 0 | E28: 차년도이월금 | F28: ='다. 세출결산'!I144 -> 0
B31: 후원금 | C31: 소 계 | D31: =SUM(D32:D38) -> 0 | E31: 소 계 | F31: =SUM(F32:F38) -> 0
C32: 후원금수입 | D32: 0 | E32: 사무비(인건비) | F32: ='다. 세출결산'!K8 -> 0
C33: 이월금 | D33: 0 | E33: 사무비(운영비) | F33: ='다. 세출결산'!K48 -> 0
C34: 잡수입 | D34: 0 | E34: 시설비 | F34: ='다. 세출결산'!K82 -> 0
E35: 사업비(운영비) | F35: ='다. 세출결산'!K97 -> 0
E36: 사업비(사업비) | F36: ='다. 세출결산'!K110 -> 0
E37: 잡지출 | F37: 0
E38: 차년도이월금 | F38: ='다. 세출결산'!K144 -> 0

Sheet 마. 증감사유
A2: 마. 증감사유(라온)
P4: (단위 : 원)
A5: 세 입 | I5: 세 출
A6: 과 목 | D6: 2023년 예산 (A) | E6: 2023년 결산 (B) | F6: 증감금액 (C=B-A) | G6: 증감율(%) (C/A*100) | H6: 증감사유 | I6: 과 목 | L6: 2023년 예산 (A) | M6: 2023년 결산 (B) | N6: 증감금액 (C=B-A) | O6: 증감율(%) (C/A*100) | P6: 증감사유
A7: 관 | B7: 항 | C7: 목 | I7: 관 | J7: 항 | K7: 목
A8: 합 계 | D8: =SUM(D9+D12+D15+D18+D23+D27) -> 122457000 | E8: =SUM(E9+E12+E15+E18+E23+E27) -> 114074217 | F8: =SUM(F9+F12+F15+F18+F23+F27) -> -8382783 | G8: =F8/D8*100 -> -6.8454911 | I8: 합 계 | L8: =SUM(L9+L21+L24+L36+L39+L42) -> 122457000 | M8: =SUM(M9+M21+M24+M36+M39+M42) -> 114074217 | N8: =SUM(N9+N21+N24+N36+N39+N42) -> -8382783 | O8: =N8/L8*100 -> -6.8454911
A9: 입소자부담금 | B9: 계 | D9: =D10 -> 18800000 | E9: =E10 -> 10700000 | F9: =F10 -> -8100000 | G9: =F9/D9*100 -> -43.085106 | I9: 사무비 | J9: 계 | L9: =SUM(L10+L15+L17) -> 94603180 | M9: =SUM(M10+M15+M17) -> 84487840 | N9: =M9-L9 -> -10115340 | O9: =N9/L9*100 -> -10.692389
B10: 입소비용수입 | C10: 소계 | D10: =D11 -> 18800000 | E10: =E11 -> 10700000 | F10: =F11 -> -8100000 | G10: =F10/D10*100 -> -43.085106 | J10: 인건비 | K10: 소계 | L10: =SUM(L11:L14) -> 84363180 | M10: =SUM(M11:M14) -> 79253900 | N10: =SUM(N11:N14) -> -5109280 | O10: =N10/L10*100 -> -6.0562914
C11: 입소비용수입 | D11: ='가. 세입세출(총괄)'!D10 -> 18800000 | E11: ='가. 세입세출(총괄)'!E10 -> 10700000 | F11: =E11-D11 -> -8100000 | G11: =F11/D11*100 -> -43.085106 | H11: 이용인홈 이동으로 인해 감액 | K11: 급여 | L11: ='가. 세입세출(총괄)'!K10 -> 57176700 | M11: ='가. 세입세출(총괄)'!L10 -> 57176700 | N11: =M11-L11 -> 0 | O11: =N11/L11*100 -> 0
A12: 보조금수입 | B12: 계 | D12: =D13 -> 96405180 | E12: =E13 -> 96262500 | F12: =F13 -> -142680 | G12: 0 | K12: 제수당 | L12: ='가. 세입세출(총괄)'!K11 -> 13906420 | M12: ='가. 세입세출(총괄)'!L11 -> 13221020 | N12: =M12-L12 -> -685400 | O12: =N12/L12*100 -> -4.9286588 | P12: 종사자 제수당 조율
B13: 보조금수입 | C13: 소계 | D13: =D14 -> 96405180 | E13: =E14 -> 96262500 | F13: =F14 -> -142680 | G13: 0 | K13: 퇴직금및퇴직적립금 | L13: ='가. 세입세출(총괄)'!K12 -> 5923590 | M13: ='가. 세입세출(총괄)'!L12 -> 5866520 | N13: =M13-L13 -> -57070 | O13: =N13/L13*100 -> -0.96343602
C14: 시도보조금 | D14: ='가. 세입세출(총괄)'!D13 -> 96405180 | E14: ='가. 세입세출(총괄)'!E13 -> 96262500 | F14: =E14-D14 -> -142680 | G14: 0 | K14: 사회보험부담비용 | L14: ='가. 세입세출(총괄)'!K13 -> 7356470 | M14: ='가. 세입세출(총괄)'!L13 -> 2989660 | N14: =M14-L14 -> -4366810 | O14: =N14/L14*100 -> -59.360128 | P14: 종사자 해당 사회보험부담금 조율
A15: 후원금수입 | B15: 계 | D15: =D16 -> 0 | E15: =E16 -> 0 | F15: =F16 -> 0 | G15: 0 | J15: 업무추진비 | K15: 소계 | L15: =L16 -> 140000 | M15: =M16 -> 37200 | N15: =M15-L15 -> -102800 | O15: 0
B16: 후원금수입 | C16: 소계 | D16: =SUM(D17:D18) -> 0 | E16: =SUM(E17:E18) -> 0 | F16: =SUM(F17:F18) -> 0 | G16: 0 | K16: 회의비 | L16: ='가. 세입세출(총괄)'!K15 -> 140000 | M16: ='가. 세입세출(총괄)'!L15 -> 37200 | N16: =M16-L16 -> -102800 | O16: 0
C17: 지정후원금 | D17: ='가. 세입세출(총괄)'!D16 -> 0 | E17: ='가. 세입세출(총괄)'!E16 -> 0 | F17: =E17-D17 -> 0 | G17: 0 | J17: 운영비 | K17: 소계 | L17: =SUM(L18:L20) -> 10100000 | M17: =SUM(M18:M20) -> 5196740 | N17: =M17-L17 -> -4903260
C18: 비지정후원금 | D18: ='가. 세입세출(총괄)'!D17 -> 0 | E18: ='가. 세입세출(총괄)'!E17 -> 0 | F18: =E18-D18 -> 0 | G18: 0 | K18: 수용비및수수료 | L18: ='가. 세입세출(총괄)'!K17 -> 3780000 | M18: ='가. 세입세출(총괄)'!L17 -> 2331100 | N18: =M18-L18 -> -1448900 | O18: =N18/L18*100 -> -38.330688
A19: 전입금 | B19: 계 | D19: =D20 -> 0 | E19: =E20 -> 0 | F19: =F20 -> 0 | G19: 0 | K19: 공공요금 | L19: ='가. 세입세출(총괄)'!K18 -> 5400000 | M19: ='가. 세입세출(총괄)'!L18 -> 2675640 | N19: =M19-L19 -> -2724360 | O19: =N19/L19*100 -> -50.451111 | P19: 정원 대비 입소자 미달로 인해 공과금 감소
B20: 전입금 | C20: 소계 | D20: =D21 -> 0 | E20: =E21 -> 0 | F20: =F21 -> 0 | G20: 0 | K20: 차량비 | L20: ='가. 세입세출(총괄)'!K19 -> 920000 | M20: ='가. 세입세출(총괄)'!L19 -> 190000 | N20: =M20-L20 -> -730000 | O20: =N20/L20*100 -> -79.347826 | P20: 실 지출이 반영된 차액 발생
C21: 법인전입금 | D21: ='가. 세입세출(총괄)'!D20 -> 0 | E21: ='가. 세입세출(총괄)'!E20 -> 0 | F21: =E21-D21 -> 0 | G21: 0 | I21: 재산조성비 | J21: 계 | L21: =L22 -> 1400000 | M21: =M22 -> 535000 | N21: =M21-L21 -> -865000 | O21: =N21/L21*100 -> -61.785714
A22: 이월금 | B22: 계 | D22: =D23 -> 7096842 | E22: =E23 -> 7096842 | F22: =F23 -> 0 | G22: =F22/D22*100 -> 0 | J22: 시설비 | K22: 소계 | L22: =L23 -> 1400000 | M22: =M23 -> 535000 | N22: =M22-L22 -> -865000 | O22: =N22/L22*100 -> -61.785714
B23: 이월금 | C23: 소계 | D23: =SUM(D24:D26) -> 7096842 | E23: =SUM(E24:E26) -> 7096842 | F23: =SUM(F24:F26) -> 0 | G23: =F23/D23*100 -> 0 | K23: 시설장비유지비 | L23: ='가. 세입세출(총괄)'!K22 -> 1400000 | M23: ='가. 세입세출(총괄)'!L22 -> 535000 | N23: =M23-L23 -> -865000 | O23: =N23/L23*100 -> -61.785714
C24: 전년도이월금(자부담) | D24: ='가. 세입세출(총괄)'!D23 -> 3012061 | E24: ='가. 세입세출(총괄)'!E23 -> 3012061 | F24: =E24-D24 -> 0 | G24: 0 | I24: 사업비 | J24: 계 | L24: =SUM(L25+L30) -> 22267000 | M24: =SUM(M25+M30) -> 11362780 | N24: =M24-L24 -> -10904220 | O24: =N24/L24*100 -> -48.970315
C25: 전년도이월금(후원금) | D25: ='가. 세입세출(총괄)'!D24 -> 0 | E25: ='가. 세입세출(총괄)'!E24 -> 0 | F25: =E25-D25 -> 0 | G25: 0 | J25: 운영비 | K25: 소계 | L25: =SUM(L26:L29) -> 17400000 | M25: =SUM(M26:M29) -> 9485110 | N25: =M25-L25 -> -7914890 | O25: =N25/L25*100 -> -45.487874
C26: 전년도이월금(보조금) | D26: ='가. 세입세출(총괄)'!D25 -> 4084781 | E26: ='가. 세입세출(총괄)'!E25 -> 4084781 | F26: =E26-D26 -> 0 | G26: 0 | K26: 생계비 | L26: ='가. 세입세출(총괄)'!K25 -> 8820000 | M26: ='가. 세입세출(총괄)'!L25 -> 6071000 | N26: =M26-L26 -> -2749000 | O26: =N26/L26*100 -> -31.1678 | P26: 정원 대비 입소자 미달로 인해 생계비 지출 감액
A27: 잡수입 | B27: 계 | D27: =D28 -> 154978 | E27: =E28 -> 14875 | F27: =F28 -> -140103 | G27: =F27/D27*100 -> -90.401863 | K27: 수용기관경비 | L27: ='가. 세입세출(총괄)'!K26 -> 1380000 | M27: ='가. 세입세출(총괄)'!L26 -> 1116200 | N27: =M27-L27 -> -263800 | O27: =N27/L27*100 -> -19.115942 | P27: 정원 대비 입소자 미달로 인해 생활용품 구입 감소
B28: 잡수입 | C28: 소계 | D28: =SUM(D29:D31) -> 154978 | E28: =SUM(E29:E31) -> 14875 | F28: =SUM(F29:F31) -> -140103 | G28: =F28/D28*100 -> -90.401863 | K28: 의료비 | L28: ='가. 세입세출(총괄)'!K27 -> 600000 | M28: ='가. 세입세출(총괄)'!L27 -> 150000 | N28: =M28-L28 -> -450000 | O28: =N28/L28*100 -> -75 | P28: 코로나 확산 감소로 인해 의약품 및 방역 관련 물품 구입 감소
C29: 불용품매각대 | D29: ='가. 세입세출(총괄)'!D28 -> 60000 | E29: ='가. 세입세출(총괄)'!E28 -> 0 | F29: =E29-D29 -> -60000 | G29: =F29/D29*100 -> -100 | H29: 불용품매각 무 | K29: 연료비 | L29: ='가. 세입세출(총괄)'!K28 -> 6600000 | M29: ='가. 세입세출(총괄)'!L28 -> 2147910 | N29: =M29-L29 -> -4452090 | O29: =N29/L29*100 -> -67.455909 | P29: 난방 절약 및 온화한 날씨로 인해 난방비 지출 감액
C30: 기타예금이자수입 | D30: ='가. 세입세출(총괄)'!D29 -> 84978 | E30: ='가. 세입세출(총괄)'!E29 -> 14874 | F30: =E30-D30 -> -70104 | G30: =F30/D30*100 -> -82.496646 | J30: 사업비 | K30: 소계 | L30: =SUM(L31:L35) -> 4867000 | M30: =SUM(M31:M35) -> 1877670 | N30: =M30-L30 -> -2989330 | O30: =N30/L30*100 -> -61.420382
C31: 기타잡수입 | D31: ='가. 세입세출(총괄)'!D30 -> 10000 | E31: ='가. 세입세출(총괄)'!E30 -> 1 | F31: =E31-D31 -> -9999 | G31: =F31/D31*100 -> -99.99 | K31: 교육재활사업비 | L31: ='가. 세입세출(총괄)'!K30 -> 50000 | M31: ='가. 세입세출(총괄)'!L30 -> 25000 | N31: =M31-L31 -> -25000 | O31: =N31/L31*100 -> -50 | P31: 무료 교육으로 인해 예산 대비 감액
K32: 여가활동사업비 | L32: ='가. 세입세출(총괄)'!K31 -> 2395000 | M32: ='가. 세입세출(총괄)'!L31 -> 1037170 | N32: =M32-L32 -> -1357830 | O32: =N32/L32*100 -> -56.694363 | P32: 프로그램 진행 변경으로 인해 지출액 감액
K33: 지역사회교류사업비 | L33: ='가. 세입세출(총괄)'!K32 -> 420000 | M33: ='가. 세입세출(총괄)'!L32 -> 33000 | N33: =M33-L33 -> -387000 | O33: =N33/L33*100 -> -92.142857
K34: 자립지원사업비 | L34: ='가. 세입세출(총괄)'!K33 -> 360000 | M34: ='가. 세입세출(총괄)'!L33 -> 0 | N34: =M34-L34 -> -360000 | O34: =N34/L34*100 -> -100 | P34: 자립지원 프로그램 미참석으로 인해 미지출
K35: 4종 운영지원비 | L35: ='가. 세입세출(총괄)'!K34 -> 1642000 | M35: ='가. 세입세출(총괄)'!L34 -> 782500 | N35: =M35-L35 -> -859500 | O35: 0 | P35: 정원 미달로 인해 지원비 지출 감소
I36: 잡지출 | J36: 계 | L36: =L37 -> 102039 | M36: =M37 -> 0 | N36: =M36-L36 -> -102039 | O36: =N36/L36*100 -> -100
J37: 잡지출 | K37: 소계 | L37: =L38 -> 102039 | M37: =M38 -> 0 | N37: =M37-L37 -> -102039 | O37: =N37/L37*100 -> -100
K38: 잡지출 | L38: ='가. 세입세출(총괄)'!K38 -> 102039 | M38: ='가. 세입세출(총괄)'!L38 -> 0 | N38: =M38-L38 -> -102039 | O38: =N38/L38*100 -> -100
I39: 예비비및기타 | J39: 계 | L39: =L40 -> 4084781 | M39: =M40 -> 4084781 | N39: =M39-L39 -> 0 | O39: =N39/L39*100 -> 0
J40: 예비비및기타 | K40: 소계 | L40: =L41 -> 4084781 | M40: =M41 -> 4084781 | N40: =M40-L40 -> 0 | O40: =N40/L40*100 -> 0
K41: 반환금 | L41: ='가. 세입세출(총괄)'!K41 -> 4084781 | M41: ='가. 세입세출(총괄)'!L41 -> 4084781 | N41: =M41-L41 -> 0 | O41: 0
I42: 차년도이월금 | L42: 0 | M42: ='가. 세입세출(총괄)'!L42 -> 13603816 | N42: =M42-L42 -> 13603816 | O42: 0

Sheet 바. 임직원보수 일람표
A1: 바. 임직원 보수 일람표(라온)
A3: 순번 | B3: 직책 | C3: 성명 | D3: 호봉 | E3: 승급월 | F3: 급여 | G3: 제수당 | K3: 퇴직금 및 퇴직적립금 | L3: 건강보험 | M3: 장기요양 | N3: 국민연금 | O3: 고용보험 | P3: 산재보험 | Q3: 사회보험부담금 | R3: 부담금계 | S3: 합계 | T3: 지자체 별도 지급액 | W3: 비고
G4: 명절휴가비 | H4: 가족수당 | I4: 연장근로수당 | J4: 제수당 계 | T4: 경기도 특수근무수당 | U4: 경기도 처우개선비 | V4: 지자체 지급액 계
A5: 1 | B5: 시설장 (라온 사회재활교사) | C5: 이애경 | D5: 20 | E5: 4월 | F5: =4718600*3 -> 14155800 | G5: =4718600*60% -> 2831160 | H5: 0 | I5: =677400*3 -> 2032200 | J5: =SUM(G5:I5) -> 4863360 | K5: =629150+449670+449670 -> 1528490 | L5: 650190 | M5: 83270 | N5: 0 | O5: 0 | P5: 0 | Q5: =SUM(L5:P5) -> 733460 | R5: =SUM(K5+Q5) -> 2261950 | S5: =SUM(F5:F6)+SUM(J5:J6)+SUM(R5:R6) -> 79253900 | T5: =250000*9 -> 2250000 | U5: =50000*9 -> 450000 | V5: =SUM(T5:U5) -> 2700000 | W5: 2021.03.01. 입사
D6: 21 | F6: =4780100*9 -> 43020900 | G6: =4780100*60% -> 2868060 | H6: 0 | I6: =686200*8 -> 5489600 | J6: =SUM(G6:I6) -> 8357660 | K6: =454790+455530+455530+455530+455530+637350+455530+455530+512710 -> 4338030 | L6: =581020+658670+760340 -> 2000030 | M6: =74420+84360+97390 -> 256170 | N6: 0 | O6: 0 | P6: 0 | Q6: =SUM(L6:P6) -> 2256200 | R6: =SUM(K6+Q6) -> 6594230 | T6: =250000*3 -> 750000 | U6: =50000*3 -> 150000 | V6: =SUM(T6:U6) -> 900000
A7: 2 | B7: 라온 생활재활교사 | E7: 1월 | J7: =SUM(G7:I7) -> 0 | Q7: =SUM(L7:P7) -> 0 | R7: =SUM(K7+Q7) -> 0 | S7: =SUM(F7:F8)+SUM(J7:J8)+SUM(R7:R8) -> 0 | T7: 0 | U7: 0 | V7: =SUM(T7:U7) -> 0
F8: 0 | G8: 0 | H8: 0 | I8: 0 | J8: =SUM(G8:I8) -> 0 | K8: 0 | L8: 0 | M8: 0 | N8: 0 | O8: 0 | P8: 0 | Q8: =SUM(L8:P8) -> 0 | R8: =SUM(K8+Q8) -> 0
A9: 합 계 | F9: =SUM(F5:F8) -> 57176700 | G9: =SUM(G5:G8) -> 5699220 | H9: =SUM(H5:H8) -> 0 | I9: =SUM(I5:I8) -> 7521800 | J9: =SUM(J5:J8) -> 13221020 | K9: =SUM(K5:K8) -> 5866520 | L9: =SUM(L5:L8) -> 2650220 | M9: =SUM(M5:M8) -> 339440 | ... V9: =SUM(V5:V8) -> 3600000

Sheet 사. 일용잡급일람표
A1: 아. 일용잡급 일람표
A3: 순번 | B3: 직책 | C3: 성명 | D3: 급여 | E3: 적용개월 | F3: 총합계 | G3: 비고
F5: =D5*E5 -> 0
A6: 2
A7: 3
A8: 4
A9: 5
A10: 6
A11: 합 계 | D11: =D5 -> 0 | F11: =F5 -> 0
A13: ※ 보건복지가족부 0000년 00000 종사자 보수지급기준표 적용.

Sheet 사. 현금 및 예금명세서
A1: 사. 현금 및 예금명세서(라온)
E4: 2023년 12월 31일 기준
A5: 순번 | B5: 구분 | C5: 예금종류 | D5: 예치은행 | E5: 계좌번호 | F5: 현재잔액 | G5: 비고
A6: 1 | B6: 예금 | C6: 보통예금 | D6: 농협 | E6: 3550073498213 | F6: 5760520 | G6: 라온 운영비 | H6: 보조금
A7: 2 | B7: 예금 | C7: 보통예금 | D7: 농협 | E7: 3511211343533 | F7: 80010 | G7: 라온 4종 운영비 | H7: 보조금
A8: 3 | B8: 예금 | C8: 보통예금 | D8: 농협 | E8: 3511211341713 | F8: 0 | G8: 사온 7종 운영비 | H8: 보조금
A9: 9 | B9: 예금 | C9: 보통예금 | D9: 농협 | H9: 보조금
C10: 보조금계 | F10: =SUM(F6:F9) -> 5840530
A11: 9 | B11: 예금 | C11: 보통예금 | D11: 농협 | E11: 3511248696983 | F11: 7763286 | G11: 사온 입소비용 | H11: 자부담
C12: 자부담계 | F12: =F11 -> 7763286
A13: 누 계 | F13: =SUM(F10+F12) -> 13603816

Sheet 사-1 예금잔액증명서

Sheet 아. 퇴직충당금명세서
A2: 아. 퇴직충당금 명세서(퇴직연금)-라온
A4: 과목 | B4: 전년도 이월액 | C4: 당해년도 증가액 | D4: 당해년도 감소액 | E4: 현재잔액 | F4: 비고
A5: 1월 퇴직적립금 | C5: 629150 | D5: 0 | E5: =B5+C5-D5 -> 629150
A6: 2월 퇴직적립금 | C6: 449670 | D6: 0 | E6: =E5+C6-D6 -> 1078820
A7: 3월 퇴직적립금 | C7: 449670 | D7: 0 | E7: =E6+C7-D7 -> 1528490
A8: 4월 퇴직적립금 | C8: 454790 | D8: 0 | E8: =E7+C8-D8 -> 1983280
A9: 5월 퇴직적립금 | C9: 455530 | D9: 0 | E9: =E8+C9-D9 -> 2438810
A10: 6월 퇴직적립금 | C10: 455530 | D10: 0 | E10: =E9+C10-D10 -> 2894340
A11: 7월 퇴직적립금 | C11: 455530 | D11: 0 | E11: =E10+C11-D11 -> 3349870
A12: 8월 퇴직적립금 | C12: 455530 | D12: 0 | E12: =E11+C12-D12 -> 3805400
A13: 9월 퇴직적립금 | C13: 637350 | E13: =E12+C13-D13 -> 4442750
A14: 10월 퇴직적립금 | C14: 455530 | D14: 0 | E14: =E13+C14-D14 -> 4898280
A15: 11월 퇴직적립금 | C15: 455530 | D15: 0 | E15: =E14+C15-D15 -> 5353810
A16: 12월 퇴직연금 | C16: 512710 | E16: =B16+E15+C16-D16 -> 5866520
A17: 계 | B17: =SUM(B5:B16) -> 0 | C17: =SUM(C5:C16) -> 5866520 | D17: =SUM(D5:D16) -> 0 | E17: =B17+C17-D17 -> 5866520

Sheet 아-1퇴직금 불입내역서 및 잔액증명서
C1: 자. 퇴직금 불입내역서 및 잔액증명서(라온)
A3: 거래내역조회(회사조회)
A4: 회사계좌번호 | B4: 회사고객번호 | C4: 회사고객명 | D4: 납입주기 | E4: 제도 | F4: 입금일자 | G4: 초기입금예정일자 | H4: 자산관리기관 | I4: 부담금구분 | J4: 부담금종류 | K4: 부담금합계 | L4: 회사부담금 | M4: 표준부담금 | N4: 보충부담금 | O4: 가입자부담금 | P4: 부담금입금 | Q4: 특별부담금 | R4: 일시전환금 | S4: 퇴직보험신탁전환금 | T4: 수수료합계 | U4: 운용관리수수료 | V4: 자산관리수수료 | W4: 운용관리기관 | X4: 구속성금액 | Y4: 채널유형
A5: 260-005-925969 | B5: 829042743 | C5: 별빛누리그룹홈 | D5: 1-월납 | E5: DC | F5: 2023.01~12. | G5: 2020-07-25 | H5: 신한은행 | I5: 2-정시 | J5: 1-부담금 | K5: 5866520 | L5: 5866520 | M5: 16540610 | N5: 0 | O5: 0 | P5: 0 | Q5: 0 | R5: 0 | S5: 0 | T5: 0 | U5: 0 | V5: 0 | W5: B088-신한은행 | X5: 1378384 | Y5: 1-단말기(직납)
A6: 260-005-925969 | B6: 829042743 | C6: 별빛누리그룹홈 | D6: 1-월납 | E6: DC | F6: 2022.10.~12. | G6: 2020-08-25 | H6: 신한은행 | I6: 2-정시 | J6: 1-부담금 | M6: 14842120 | N6: 0 | O6: 0 | P6: 0 | Q6: 0 | R6: 0 | S6: 0 | T6: 0 | U6: 0 | V6: 0 | W6: B088-신한은행 | X6: 1236843 | Y6: 1-단말기(직납)
A7: 260-005-925969 | B7: 829042743 | M7: 12664800 | N7: 0 | O7: 0 | P7: 0 | Q7: 0 | R7: 0 | S7: 0 | T7: 0 | U7: 0 | V7: 0 | W7: B088-신한은행 | X7: 1055400 | Y7: 1-단말기(직납)
A8: 260-005-925969 | B8: 829042743 | M8: 12112210 | N8: 0 | O8: 0 | P8: 0 | Q8: 0 | R8: 0 | S8: 0 | T8: 0 | U8: 0 | V8: 0 | W8: B088-신한은행 | X8: 1009350 | Y8: 1-단말기(직납)
A9: 260-005-925969 | B9: 829042743 | M9: 1524460 | N9: 0 | O9: 0 | P9: 0 | Q9: 0 | R9: 0 | S9: 0 | T9: 0 | U9: 0 | V9: 0 | W9: B088-신한은행 | X9: 127038 | Y9: 1-단말기(직납)
A10: 260-005-925969 | B10: 829042743 | M10: 14012310 | N10: 0 | O10: 0 | P10: 0 | Q10: 0 | R10: 0 | S10: 0 | T10: 0 | U10: 0 | V10: 0 | W10: B088-신한은행 | X10: 1167692 | Y10: 1-단말기(직납)
A11: 260-005-925969 | B11: 829042743 | M11: 13716420 | N11: 0 | O11: 0 | P11: 0 | Q11: 0 | R11: 0 | S11: 0 | T11: 0 | U11: 0 | V11: 0 | W11: B088-신한은행 | X11: 1143035 | Y11: 1-단말기(직납)
A12: 260-005-925969 | B12: 829042743 | M12: 14025080 | N12: 0 | O12: 0 | P12: 0 | Q12: 0 | R12: 0 | S12: 0 | T12: 0 | U12: 0 | V12: 0 | W12: B088-신한은행 | X12: 1168756 | Y12: 1-단말기(직납)
A13: 260-005-925969 | B13: 829042743 | M13: 13947710 | N13: 0 | O13: 0 | P13: 0 | Q13: 0 | R13: 0 | S13: 0 | T13: 0 | U13: 0 | V13: 0 | W13: B088-신한은행 | X13: 1162309 | Y13: 1-단말기(직납)
A14: 260-005-925969 | B14: 829042743 | M14: 20894650 | N14: 0 | O14: 0 | P14: 0 | Q14: 0 | R14: 0 | S14: 0 | T14: 0 | U14: 0 | V14: 0 | W14: B088-신한은행 | X14: 1741220 | Y14: 1-단말기(직납)
A15: 260-005-925969 | B15: 829042743 | M15: 14160660 | N15: 0 | O15: 0 | P15: 0 | Q15: 0 | R15: 0 | S15: 0 | T15: 0 | U15: 0 | V15: 0 | W15: B088-신한은행 | X15: 1180055 | Y15: 1-단말기(직납)
A16: 260-005-925969 | B16: 829042743 | M16: 14384890 | N16: 0 | O16: 0 | P16: 0 | Q16: 0 | R16: 0 | S16: 0 | T16: 0 | U16: 0 | V16: 0 | W16: B088-신한은행 | X16: 1198740 | Y16: 1-단말기(직납)
A17: 260-005-925969 | B17: 829042743 | M17: 2354680 | N17: 0 | O17: 0 | P17: 0 | Q17: 0 | R17: 0 | S17: 0 | T17: 0 | U17: 0 | V17: 0 | W17: B088-신한은행 | X17: 196223 | Y17: 1-단말기(직납)
A18: 260-005-925969 | B18: 829042743 | M18: 14549340 | N18: 0 | O18: 0 | P18: 0 | Q18: 0 | R18: 0 | S18: 0 | T18: 0 | U18: 0 | V18: 0 | W18: B088-신한은행 | X18: 1212445 | Y18: 1-단말기(직납)
C19: 납입계 | K19: =SUM(K5:K18) -> 5866520 | L19: =SUM(L5:L18) -> 5866520
A20: 260-005-925969 | B20: 829042743 | C20: 별빛누리그룹홈 | E20: DC | F20: 2022.09.30. | H20: 신한은행 | M20: 14160660 | N20: 0 | O20: 0 | P20: 0 | Q20: 0 | R20: 0 | S20: 0 | T20: 0 | U20: 0 | V20: 0 | W20: B088-신한은행 | X20: 1180055 | Y20: 1-단말기(직납)
A21: 260-005-925969 | B21: 829042743 | M21: 14384890 | N21: 0 | O21: 0 | P21: 0 | Q21: 0 | R21: 0 | S21: 0 | T21: 0 | U21: 0 | V21: 0 | W21: B088-신한은행 | X21: 1198740 | Y21: 1-단말기(직납)
A22: 260-005-925969 | B22: 829042743 | M22: 2354680 | N22: 0 | O22: 0 | P22: 0 | Q22: 0 | R22: 0 | S22: 0 | T22: 0 | U22: 0 | V22: 0 | W22: B088-신한은행 | X22: 196223 | Y22: 1-단말기(직납)
A23: 260-005-925969 | B23: 829042743 | M23: 14549340 | N23: 0 | O23: 0 | P23: 0 | Q23: 0 | R23: 0 | S23: 0 | T23: 0 | U23: 0 | V23: 0 | W23: B088-신한은행 | X23: 1212445 | Y23: 1-단말기(직납)
C24: 1년이상 퇴직자 퇴직연금 지급 | K24: =SUM(K20:K23) -> 0 | L24: =SUM(L20:L23) -> 0
C25: 2023 퇴직연금 총계 | K25: =K19-K24 -> 5866520 | L25: =L19-L24 -> 5866520

Sheet 자. 정부보조금명세서
A1: 차. 정부보조금 명세서(라온)
A3: 순번 | B3: 수령일자 | C3: 보조계정(항) | D3: 보조계정(목) | E3: 금액(원) | F3: 보조기관 | G3: 산출내역
A4: 1 | B4: 44945 | C4: 보조금수입 | D4: 시도보조금 | E4: 2600000 | F4: 보건복지부 | G4: 1분기 별빛라온 운영비보조금
A5: 2 | B5: 44945 | C5: 보조금수입 | D5: 시도보조금 | E5: 21365000 | F5: 보건복지부 | G5: 1분기 별빛라온 종사자인건비
A6: 3 | B6: 44945 | C6: 보조금수입 | D6: 시도보조금 | E6: 45000 | F6: 보건복지부 | G6: 1분기 별빛라온 4종 입소자부식비
A7: 4 | B7: 44945 | C7: 보조금수입 | D7: 시도보조금 | E7: 15000 | F7: 보건복지부 | G7: 1분기 별빛라온 4종 입소자간식비
A8: 5 | B8: 44945 | C8: 보조금수입 | D8: 시도보조금 | E8: 20000 | F8: 보건복지부 | G8: 1분기 별빛라온 4종 입소자피복비
A9: 6 | B9: 44945 | C9: 보조금수입 | D9: 시도보조금 | E9: 12000 | F9: 보건복지부 | G9: 1분기 별빛라온 4종 입소자특별급식비
A10: 7 | B10: 45021 | C10: 보조금수입 | D10: 시도보조금 | E10: 2600000 | F10: 보건복지부 | G10: 2분기 별빛라온 운영비보조금
A11: 8 | B11: 45021 | C11: 보조금수입 | D11: 시도보조금 | E11: 18422000 | F11: 보건복지부 | G11: 2분기 별빛라온 종사자인건비
A12: 9 | B12: 45023 | C12: 보조금수입 | D12: 시도보조금 | E12: 45500 | F12: 보건복지부 | G12: 2분기 별빛라온 4종 입소자부식비
A13: 10 | B13: 45023 | C13: 보조금수입 | D13: 시도보조금 | E13: 15000 | F13: 보건복지부 | G13: 2분기 별빛라온 4종 입소자간식비
A14: 11 | B14: 45023 | C14: 보조금수입 | D14: 시도보조금 | E14: 20000 | F14: 보건복지부 | G14: 2분기 별빛라온 4종 입소자피복비
A15: 12 | B15: 45023 | C15: 보조금수입 | D15: 시도보조금 | E15: 12000 | F15: 보건복지부 | G15: 2분기 별빛라온 4종 입소자특별급식비
... A28: 25 | B28: 45212 | C28: 보조금수입 | D28: 시도보조금 | E28: 120000 | F28: 보건복지부 | G28: 4분기 별빛라온 4종 입소자건강검진비
A29: 시도보조금 계 | E29: =SUM(E4:E28) -> 96262500
A30: 26 | B30: 45011 | C30: 잡수입 | D30: 기타예금이자수입 | E30: 2370 | F30: 보건복지부 | G30: 별빛라온 운영비 예금이자수입
A31: 27 | B31: 45102 | C31: 잡수입 | D31: 기타예금이자수입 | E31: 3170 | F31: 보건복지부 | G31: 별빛라온 운영비 예금이자수입
A32: 28 | B32: 45193 | C32: 잡수입 | D32: 기타예금이자수입 | E32: 4000 | F32: 보건복지부 | G32: 별빛라온 운영비 예금이자수입
A33: 29 | B33: 45284 | C33: 잡수입 | D33: 기타예금이자수입 | E33: 4880 | F33: 보건복지부 | G33: 별빛사온 운영비 예금이자수입
A34: 30 | B34: 45284 | C34: 잡수입 | D34: 기타예금이자수입 | E34: 10 | F34: 보건복지부 | G34: 별빛사온 4종 예금이자수입
A35: 잡수입 계 | E35: =SUM(E30:E34) -> 14430
A36: 합계 | E36: =SUM(E29+E35) -> 96276930
