Workbook
Name dgd: #REF!
Name F: #REF!
Name F: #REF!
Name F: #REF!
Name F: #REF!
Name F: #REF!
Name F: #REF!
Name F: #REF!
Name F: #REF!
Name F: #REF!
Name sd: #REF!
Name 보수: #REF!
Name 보수: #REF!
Name 보수: #REF!
Name 보수일람표: #REF!
Name 보수일람표: #REF!
Name 보수일람표: #REF!
Name 보수일람표1: #REF!
Name 보수일람표1: #REF!
Name 보수일람표1: #REF!
Name 보수일람표2: #REF!
Name 보수일람표2: #REF!
Name 보수일람표2: #REF!
Name 보수일람표3: #REF!
Name 보수일람표3: #REF!
Name 보수일람표3: #REF!
Name ㅇ: #REF!
Name ㅇ: #REF!
Name ㅇ: #REF!
Name ㅇ: #REF!
Name ㅇㅇㅇ: #REF!
Name ㅇㅇㅇ: #REF!
Name ㅇㅇㅇ: #REF!
Name 아: #REF!
Name 아: #REF!
Name 아: #REF!
Name 임직원보수일람표: #REF!
Name 임직원보수일람표: #REF!
Name 임직원보수일람표: #REF!
Name 임직원보수일람표: #REF!
Name 호: #REF!
Name ㅓ: #REF!

Sheet 가. 세입세출(총괄)
A2: 가. 세입.세출 총괄표(다온)
M3: (단위 : 원)
A4: 세 입 | H4: 세 출
A5: 과 목 | D5: 2023년 1차 추경 (B) | E5: 2023년 결산 (B) | F5: 증감금액 (C=B-A) | G5: 증감율(%) (C/A*100) | H5: 과 목 | K5: 2023년 1차 추경 (B) | L5: 2023년 결산 (B) | M5: 증감금액 (C=B-A) | N5: 증감율(%) (C/A*100)
A6: 관 | B6: 항 | C6: 목 | H6: 관 | I6: 항 | J6: 목
A7: 합 계 | D7: =D8+D11+D14+D17+D22+D26+D29+D34 -> 134303000 | E7: =E8+E11+E14+E17+E22+E26+E29+E34 -> 131147856 | F7: =E7-D7 -> -3155144 | G7: =F7/D7*100 -> -2.3492729 | H7: 합 계 | K7: =K8+K26+K31+K49+K52 -> 134303000 | L7: =L8+L26+L31+L49+L52+L56 -> 131147856 | M7: =L7-K7 -> -3155144 | N7: =M7/K7*100 -> -2.3492729
A8: 입소자부담금 | B8: 계 | D8: =D9 -> 18800000 | E8: =E9 -> 13750000 | F8: =E8-D8 -> -5050000 | G8: =F8/D8*100 -> -26.861702 | H8: 사무비 | I8: 계 | K8: =K9+K16+K19 -> 97080670 | L8: =L9+L16+L19 -> 64490710 | M8: =L8-K8 -> -32589960 | N8: =M8/K8*100 -> -33.569978
B9: 입소비용수입 | C9: 소계 | D9: =D10 -> 18800000 | E9: =E10 -> 13750000 | F9: =E9-D9 -> -5050000 | G9: =F9/D9*100 -> -26.861702 | I9: 인건비 | J9: 소계 | K9: =SUM(K10:K15) -> 82485570 | L9: =SUM(L10:L15) -> 60304750 | M9: =L9-K9 -> -22180820 | N9: =M9/K9*100 -> -26.890546
C10: 입소비용수입 | D10: ='나. 세입결산'!D9 -> 18800000 | E10: ='나. 세입결산'!E9 -> 13750000 | F10: =E10-D10 -> -5050000 | G10: =F10/D10*100 -> -26.861702 | J10: 급여 | K10: ='다. 세출결산'!D9 -> 54837200 | L10: ='다. 세출결산'!E9 -> 42046430 | M10: =L10-K10 -> -12790770 | N10: =M10/K10*100 -> -23.324987
A11: 사업수입 | B11: 계 | D11: =D12 -> 0 | E11: =E12 -> 0 | F11: 0 | G11: 0 | J11: 일용잡급 | K11: ='다. 세출결산'!D10 -> 0 | L11: ='다. 세출결산'!E10 -> 0 | M11: =L11-K11 -> 0 | N11: 0
B12: 사업수입 | C12: 소계 | D12: =D13 -> 0 | E12: =E13 -> 0 | F12: 0 | G12: 0 | J12: 제수당 | K12: 14663880 | L12: ='다. 세출결산'!E49 -> 9499860 | M12: =L12-K12 -> -5164020 | N12: =M12/K12*100 -> -35.215918
C13: 프로그램사업수입 | D13: ='[1]다. 세입내역서'!D12 -> 0 | E13: ='[1]다. 세입내역서'!E12 -> 0 | F13: 0 | G13: 0 | J13: 퇴직금및퇴직적립금 | K13: ='다. 세출결산'!D80 -> 5791760 | L13: ='다. 세출결산'!E80 -> 3963450 | M13: =L13-K13 -> -1828310 | N13: =M13/K13*100 -> -31.567434
A14: 과년도수입 | B14: 계 | D14: =D15 -> 0 | E14: =E15 -> 0 | F14: 0 | G14: 0 | J14: 사회보험부담비용 | K14: ='다. 세출결산'!D84 -> 7192730 | L14: ='다. 세출결산'!E84 -> 4795010 | M14: =L14-K14 -> -2397720 | N14: =M14/K14*100 -> -33.335326
B15: 과년도수입 | C15: 소계 | D15: =D16 -> 0 | E15: =E16 -> 0 | F15: 0 | G15: 0 | J15: 기타후생경비 | K15: ='다. 세출결산'!D14 -> 0 | L15: ='다. 세출결산'!E14 -> 0 | M15: =L15-K15 -> 0 | N15: 0
C16: 과년도수입 | D16: ='[1]다. 세입내역서'!D15 -> 0 | E16: ='[1]다. 세입내역서'!E15 -> 0 | F16: 0 | G16: 0 | I16: 업무추진비 | J16: 소계 | K16: =SUM(K17:K18) -> 360000 | L16: =SUM(L17:L18) -> 34400 | M16: =L16-K16 -> -325600 | N16: 0
A17: 보조금수입 | B17: 계 | D17: =D18 -> 94527570 | E17: =E18 -> 96631500 | F17: =E17-D17 -> 2103930 | G17: =F17/D17*100 -> 2.2257316 | J17: 기관운영비 | K17: ='[1]라. 세출내역서'!D40 -> 0 | L17: ='[1]라. 세출내역서'!E40 -> 0 | M17: =L17-K17 -> 0 | N17: 0
B18: 보조금수입 | C18: 소계 | D18: =SUM(D19:D21) -> 94527570 | E18: =SUM(E19:E21) -> 96631500 | F18: =E18-D18 -> 2103930 | G18: =F18/D18*100 -> 2.2257316 | J18: 회의비 | K18: ='다. 세출결산'!D102 -> 360000 | L18: ='다. 세출결산'!E102 -> 34400 | M18: =L18-K18 -> -325600 | N18: 0
C19: 시도보조금 | D19: ='나. 세입결산'!D18 -> 94527570 | E19: ='나. 세입결산'!E18 -> 96631500 | F19: =E19-D19 -> 2103930 | G19: =F19/D19*100 -> 2.2257316 | I19: 운영비 | J19: 소계 | K19: =SUM(K20:K25) -> 14235100 | L19: =SUM(L20:L25) -> 4151560 | M19: =L19-K19 -> -10083540 | N19: =M19/K19*100 -> -70.835751
C20: 시군구보조금 | D20: ='[1]다. 세입내역서'!D19 -> 0 | E20: ='[1]다. 세입내역서'!E19 -> 0 | F20: =E20-D20 -> 0 | G20: 0 | J20: 여비 | K20: ='[1]라. 세출내역서'!D49 -> 0 | L20: ='[1]라. 세출내역서'!E49 -> 0 | M20: =L20-K20 -> 0 | N20: 0
C21: 기타보조금 | D21: ='[1]다. 세입내역서'!D20 -> 0 | E21: ='[1]다. 세입내역서'!E20 -> 0 | F21: =E21-D21 -> 0 | G21: 0 | J21: 수용비및수수료 | K21: ='다. 세출결산'!D106 -> 2210000 | L21: ='다. 세출결산'!E106 -> 2082820 | M21: =L21-K21 -> -127180 | N21: =M21/K21*100 -> -5.7547511
A22: 후원금 | B22: 계 | D22: =D23 -> 0 | E22: =E23 -> 0 | F22: =E22-D22 -> 0 | G22: 0 | J22: 공공요금 | K22: ='다. 세출결산'!D124 -> 8200000 | L22: ='다. 세출결산'!E124 -> 1828740 | M22: =L22-K22 -> -6371260 | N22: =M22/K22*100 -> -77.698293
B23: 후원금수입 | C23: 소계 | D23: =SUM(D24:D25) -> 0 | E23: =SUM(E24:E25) -> 0 | F23: =E23-D23 -> 0 | G23: 0 | J23: 제세공과금 | K23: ='다. 세출결산'!D59 -> 0 | L23: ='다. 세출결산'!E59 -> 0 | M23: =L23-K23 -> 0 | N23: 0
C24: 지정후원금 | D24: ='[1]다. 세입내역서'!D23 -> 0 | E24: ='[1]다. 세입내역서'!E23 -> 0 | F24: =E24-D24 -> 0 | G24: 0 | J24: 차량비 | K24: ='다. 세출결산'!D137 -> 3825100 | L24: ='다. 세출결산'!E137 -> 240000 | M24: =L24-K24 -> -3585100 | N24: =M24/K24*100 -> -93.725654
C25: 비지정후원금 | D25: ='[1]다. 세입내역서'!D24 -> 0 | E25: ='[1]다. 세입내역서'!E24 -> 0 | F25: =E25-D25 -> 0 | G25: 0 | J25: 기타운영비 | K25: ='다. 세출결산'!D69 -> 0 | L25: ='다. 세출결산'!E69 -> 0 | M25: =L25-K25 -> 0 | N25: 0
A26: 전입금 | B26: 계 | D26: =D27 -> 0 | E26: =E27 -> 0 | F26: =E26-D26 -> 0 | G26: 0 | H26: 재산조성비 | I26: 계 | K26: =K27 -> 1540000 | L26: =L27 -> 495000 | M26: =L26-K26 -> -1045000 | N26: =M26/K26*100 -> -67.857143
B27: 전입금 | C27: 소계 | D27: =D28 -> 0 | E27: =E28 -> 0 | F27: =E27-D27 -> 0 | G27: 0 | I27: 시설비 | J27: 소계 | K27: =SUM(K28:K30) -> 1540000 | L27: =SUM(L28:L30) -> 495000 | M27: =L27-K27 -> -1045000 | N27: =M27/K27*100 -> -67.857143
C28: 법인전입금 | D28: ='[1]다. 세입내역서'!D27 -> 0 | E28: ='[1]다. 세입내역서'!E27 -> 0 | F28: =E28-D28 -> 0 | G28: 0 | J28: 시설비 | K28: ='[1]라. 세출내역서'!D75 -> 0 | L28: ='[1]라. 세출내역서'!E75 -> 0 | M28: =L28-K28 -> 0 | N28: 0
A29: 이월금 | B29: 계 | D29: =D30 -> 20731585 | E29: =E30 -> 20731585 | F29: =E29-D29 -> 0 | G29: =F29/D29*100 -> 0 | J29: 자산취득비 | K29: ='[1]라. 세출내역서'!D76 -> 0 | L29: ='[1]라. 세출내역서'!E76 -> 0 | M29: =L29-K29 -> 0 | N29: 0
B30: 이월금 | C30: 소계 | D30: =SUM(D31:D33) -> 20731585 | E30: =SUM(E31:E33) -> 20731585 | F30: =E30-D30 -> 0 | G30: =F30/D30*100 -> 0 | J30: 시설장비유지비 | K30: ='다. 세출결산'!D153 -> 1540000 | L30: ='다. 세출결산'!E153 -> 495000 | M30: =L30-K30 -> -1045000 | N30: =M30/K30*100 -> -67.857143
C31: 전년도이월금(자부담) | D31: ='나. 세입결산'!D30 -> 12371770 | E31: ='나. 세입결산'!E30 -> 12371770 | F31: =E31-D31 -> 0 | G31: 0 | H31: 사업비 | I31: 계 | K31: =K32+K38 -> 27078670 | L31: =L32+L38 -> 14231890 | M31: =L31-K31 -> -12846780 | N31: =M31/K31*100 -> -47.442433
C32: 전년도이월금(후원금) | D32: ='[1]다. 세입내역서'!D31 -> 0 | E32: ='[1]다. 세입내역서'!E31 -> 0 | F32: =E32-D32 -> 0 | G32: 0 | I32: 운영비 | J32: 소계 | K32: =SUM(K33:K37) -> 22126670 | L32: =SUM(L33:L37) -> 11413320 | M32: =L32-K32 -> -10713350 | N32: =M32/K32*100 -> -48.418266
C33: 전년도이월금(보조금) | D33: ='나. 세입결산'!D32 -> 8359815 | E33: ='나. 세입결산'!E32 -> 8359815 | F33: =E33-D33 -> 0 | G33: =F33/D33*100 -> 0 | J33: 생계비 | K33: ='다. 세출결산'!D164 -> 12006670 | L33: ='다. 세출결산'!E164 -> 7764280 | M33: =L33-K33 -> -4242390 | N33: =M33/K33*100 -> -35.33361
A34: 잡수입 | B34: 계 | D34: =D35 -> 243845 | E34: =E35 -> 34771 | F34: =E34-D34 -> -209074 | G34: =F34/D34*100 -> -85.740532 | J34: 수용기관경비 | K34: ='다. 세출결산'!D170 -> 2220000 | L34: ='다. 세출결산'!E170 -> 895290 | M34: =L34-K34 -> -1324710 | N34: =M34/K34*100 -> -59.671622
B35: 잡수입 | C35: 소계 | D35: =SUM(D36:D38) -> 243845 | E35: =SUM(E36:E38) -> 34771 | F35: =E35-D35 -> -209074 | G35: =F35/D35*100 -> -85.740532 | J35: 피복비 | M35: =L35-K35 -> 0 | N35: 0
C36: 불용품매각대 | D36: ='[1]다. 세입내역서'!D35 -> 0 | E36: ='[1]다. 세입내역서'!E35 -> 0 | F36: =E36-D36 -> 0 | G36: 0 | J36: 의료비 | K36: ='다. 세출결산'!D176 -> 1000000 | L36: ='다. 세출결산'!E176 -> 150000 | M36: =L36-K36 -> -850000 | N36: 0
C37: 기타예금이자수입 | D37: ='나. 세입결산'!D36 -> 243845 | E37: ='나. 세입결산'!E36 -> 34766 | F37: =E37-D37 -> -209079 | G37: =F37/D37*100 -> -85.742582 | J37: 연료비 | K37: ='다. 세출결산'!D179 -> 6900000 | L37: ='다. 세출결산'!E179 -> 2603750 | M37: =L37-K37 -> -4296250 | N37: =M37/K37*100 -> -62.264493
C38: 기타잡수입 | D38: ='나. 세입결산'!D37 -> 0 | E38: 5 | F38: =E38-D38 -> 5 | G38: 0 | I38: 사업비 | J38: 소계 | K38: =SUM(K39:K48) -> 4952000 | L38: =SUM(L39:L48) -> 2818570 | M38: =L38-K38 -> -2133430 | N38: =M38/K38*100 -> -43.082189
J39: 직원역량강화 | K39: ='다. 세출결산'!D112 -> 0 | L39: ='다. 세출결산'!E112 -> 0 | M39: =L39-K39 -> 0 | N39: 0
J40: 일상생활서비스 | K40: ='다. 세출결산'!D114 -> 0 | L40: ='다. 세출결산'!E114 -> 0 | M40: =L40-K40 -> 0 | N40: 0
J41: 여가활동 | K41: ='다. 세출결산'!D187 -> 2420000 | L41: ='다. 세출결산'!E187 -> 1507770 | M41: =L41-K41 -> -912230 | N41: =M41/K41*100 -> -37.695455
...

Sheet 나. 세입결산
A2: 나. 세입결산서(다온)
J3: (단위 : 원)
A4: 과 목 | D4: 2023년 예산 (A) | E4: 2023년 결산 (B) | F4: 증감금액 (C=B-A) | G4: 증감율(%) (C/A*100) | H4: 산 출 내 역
A5: 관 | B5: 항 | C5: 목
A6: 합 계 | D6: =D7+D16+D28+D33 -> 134303000 | E6: =E7+E10+E13+E16+E21+E25+E28+E33 -> 131147856 | F6: =E6-D6 -> -3155144 | G6: =F6/D6*100 -> -2.3492729
A7: 입소자부담금 | B7: 계 | D7: =D8 -> 18800000 | E7: =E8 -> 13750000 | F7: =E7-D7 -> -5050000 | G7: 0
B8: 입소비용수입 | C8: 소계 | D8: =D9 -> 18800000 | E8: =E9 -> 13750000 | F8: =E8-D8 -> -5050000 | G8: 0
C9: 입소비용수입 | D9: ='나. 세입결산'!D8 -> 18800000 | E9: ='나. 세입결산'!E8 -> 13750000 | F9: =E9-D9 -> -5050000 | G9: 0 | H9: *다온 : 3명X350,000원*12월+1명X350,000원*1월
A10: 사업수입 | B10: 계 | D10: =D11 -> 0 | E10: =E11 -> 0 | F10: =E10-D10 -> 0 | G10: 0
B11: 사업수입 | C11: 소계 | D11: =D12 -> 0 | E11: =E12 -> 0 | F11: =E11-D11 -> 0 | G11: 0
C12: 프로그램사업수입 | D12: ='[1]다. 세입내역서'!D11 -> 0 | E12: ='[1]다. 세입내역서'!E11 -> 0 | F12: 0 | G12: 0
A13: 과년도수입 | B13: 계 | D13: =D14 -> 0 | E13: =E14 -> 0 | F13: =E13-D13 -> 0 | G13: 0
B14: 과년도수입 | C14: 소계 | D14: =D15 -> 0 | E14: =E15 -> 0 | F14: =E14-D14 -> 0 | G14: 0
C15: 과년도수입 | D15: ='[1]다. 세입내역서'!D14 -> 0 | E15: ='[1]다. 세입내역서'!E14 -> 0 | F15: 0 | G15: 0
A16: 보조금수입 | B16: 계 | D16: =D17 -> 94527570 | E16: =E17 -> 96631500 | F16: =E16-D16 -> 2103930 | G16: =F16/D16*100 -> 2.2257316
B17: 보조금수입 | C17: 소계 | D17: =SUM(D18:D20) -> 94527570 | E17: =SUM(E18:E20) -> 96631500 | F17: =E17-D17 -> 2103930 | G17: =F17/D17*100 -> 2.2257316
C18: 시도보조금 | D18: 94527570 | E18: 96631500 | F18: =E18-D18 -> 2103930 | G18: =F18/D18*100 -> 2.2257316 | H18: *다온 : 인건비85,000,000원+운영비10,400,000원+4종 1,231,500원 : 96,631,500원
C19: 시군구보조금 | F19: =E19-D19 -> 0 | G19: 0
C20: 기타보조금 | D20: ='[1]다. 세입내역서'!D19 -> 0 | E20: ='[1]다. 세입내역서'!E19 -> 0 | F20: =E20-D20 -> 0 | G20: 0
A21: 후원금 | B21: 계 | D21: =D22 -> 0 | E21: =E22 -> 0 | F21: =E21-D21 -> 0 | G21: 0
B22: 후원금수입 | C22: 소계 | D22: =SUM(D23:D24) -> 0 | E22: =SUM(E23:E24) -> 0 | F22: =E22-D22 -> 0 | G22: 0
C23: 지정후원금 | D23: ='[1]다. 세입내역서'!D22 -> 0 | E23: ='[1]다. 세입내역서'!E22 -> 0 | F23: =E23-D23 -> 0 | G23: 0
C24: 비지정후원금 | D24: ='[1]다. 세입내역서'!D23 -> 0 | E24: ='[1]다. 세입내역서'!E23 -> 0 | F24: =E24-D24 -> 0 | G24: 0
A25: 전입금 | B25: 계 | D25: =D26 -> 0 | E25: =E26 -> 0 | F25: =E25-D25 -> 0 | G25: 0
B26: 전입금 | C26: 소계 | D26: =D27 -> 0 | E26: =E27 -> 0 | F26: =E26-D26 -> 0 | G26: 0
C27: 법인전입금 | D27: ='[1]다. 세입내역서'!D26 -> 0 | E27: ='[1]다. 세입내역서'!E26 -> 0 | F27: =E27-D27 -> 0 | G27: 0
A28: 이월금 | B28: 계 | D28: =D29 -> 20731585 | E28: =E29 -> 20731585 | F28: =E28-D28 -> 0 | G28: =F28/D28*100 -> 0
B29: 이월금 | C29: 소계 | D29: =SUM(D30:D32) -> 20731585 | E29: =SUM(E30:E32) -> 20731585 | F29: =E29-D29 -> 0 | G29: =F29/D29*100 -> 0
C30: 전년도이월금(자부담) | D30: 12371770 | E30: 12371770 | F30: =E30-D30 -> 0 | G30: 0 | H30: *자부담 : 입소비용수입이월금(12,371,560원), 예금이자이월금(210원)
C31: 전년도이월금(후원금) | F31: =E31-D31 -> 0 | G31: 0
C32: 전년도이월금(보조금) | D32: 8359815 | E32: 8359815 | F32: =E32-D32 -> 0 | G32: =F32/D32*100 -> 0 | H32: *보조금 : 8,359,815 -운영비 보조금 이월금(8,301,005원)+예금이자이월금(18,670)원)=8,319,675원 -4종 운영비 : 보조금이월금(40,000원)+예금이자이월금(20원)=40,020원 -7종 운영비 : 예금이자 이월금 120원
A33: 잡수입 | B33: 계 | D33: =D34 -> 243845 | E33: =E34 -> 34771 | F33: =E33-D33 -> -209074 | G33: =F33/D33*100 -> -85.740532
B34: 잡수입 | C34: 소계 | D34: =SUM(D35:D37) -> 243845 | E34: =SUM(E35:E37) -> 34771 | F34: =E34-D34 -> -209074 | G34: =F34/D34*100 -> -85.740532
C35: 불용품매각대 | F35: =E35-D35 -> 0 | G35: 0
C36: 기타예금이자수입 | D36: 243845 | E36: 34766 | F36: =E36-D36 -> -209079 | G36: =F36/D36*100 -> -85.742582 | H36: * 예금이자 (운영비보조금) : 33,120원, (자부담) : 1,646원
C37: 기타잡수입 | E37: 5 | F37: =E37-D37 -> 5 | G37: 0

Sheet 다. 세출결산
A2: 다. 세출결산서(다온)
U3: (단위 : 원)
A4: 과 목 | D4: 2023년 예산 (A) | E4: 2023년 결산 (B) | F4: 증감금액 (C=B-A) | G4: 증감율(%) (C/A*100) | H4: 재원 | L4: 산 출 내 역
A5: 관 | B5: 항 | C5: 목 | H5: 보조금 | I5: 법인전입금 | J5: 자부담 | K5: 후원금
A6: 합 계 | D6: =D7+D143+D162+D206+D209 -> 134303000 | E6: =E7+E143+E162+E206+E209+E213 -> 131147856 | F6: =E6-D6 -> -3155144 | G6: =F6/D6*100 -> -2.3492729 | H6: =H7+H143+H162+H209+H213 -> 105024435 | I6: 0 | J6: =J7+J143+J162+J213 -> 26123421 | K6: 0 | U6: =U7+U143+U162+U209+U206+U213 -> 131147856
A7: 사무비 | B7: 계 | D7: =D8+D103+D94 -> 97080670 | E7: =E8+E103+E94 -> 64490710 | F7: =F8+F103+F94 -> -32589960 | G7: =F7/D7*100 -> -33.569978 | H7: =H8+H103+H94 -> 63114750 | I7: 0 | J7: =J8+J103+J94 -> 1375960 | K7: 0 | U7: =U8+U103+U94 -> 64490710
B8: 인건비 | C8: 소계 | D8: =SUM(D9:D84) -> 82485570 | E8: =U8 -> 60304750 | F8: =E8-D8 -> -22180820 | G8: =F8/D8*100 -> -26.890546 | H8: =SUM(H9+H49+H80+H84) -> 60304750 | I8: 0 | J8: 0 | K8: 0 | U8: =U9+U49+U80+U84 -> 60304750
C9: 급여 | D9: 54837200 | E9: =U9 -> 42046430 | F9: =E9-D9 -> -12790770 | G9: =F9/D9*100 -> -23.324987 | H9: 42046430 | L9: ◆급여 | U9: =SUM(U10:U48) -> 42046430
E10: =U10 -> 0 | L10: 시설장 | M10: 이기수 | N10: 0 | O10: × | P10: 12 | Q10: × | R10: 1 | S10: = | U10: =N10*P10*R10 -> 0
E11: =U11 -> 0 | L11: 사회재활교사 | M11: 가온 | N11: 0 | O11: × | P11: 4 | Q11: × | R11: 1 | S11: = | U11: =N11*P11*R11 -> 0
E12: =U12 -> 0 | N12: 0 | O12: × | P12: 8 | Q12: × | R12: 1 | S12: = | U12: =N12*P12*R12 -> 0
E13: =U13 -> 0 | L13: 보조인력 | M13: 가온보조 | N13: 0 | O13: × | P13: 12 | Q13: × | R13: 1 | S13: = | U13: =N13*P13*R13 -> 0
E14: =U14 -> 0
F15: =E15-D15 -> 0 | L15: 사회재활교사 | M15: 한종수 | N15: 2267000 | O15: × | P15: 4 | Q15: × | R15: 1 | S15: = | U15: =N15*P15*R15 -> 9068000
N16: 2323200 | O16: × | P16: 1 | Q16: × | R16: 1 | S16: = | U16: =N16*P16*R16 -> 2323200
F17: =E17-D17 -> 0 | M17: 김대현 | N17: 2385000 | O17: × | P17: 1 | Q17: × | R17: 1 | S17: = | U17: =N17*P17*R17 -> 2385000
N18: 1154030 | O18: × | P18: 1 | Q18: × | R18: 1 | S18: = | U18: =N18*P18*R18 -> 1154030
F19: =E19-D19 -> 0 | M19: 이상현 | N19: 2691000 | O19: × | P19: 2 | Q19: × | R19: 1 | S19: = | U19: =N19*P19*R19 -> 5382000
M20: 김병곤 | N20: 2151100 | O20: × | P20: 6 | Q20: × | R20: 1 | S20: = | U20: =N20*P20*R20 -> 12906600
F21: =E21-D21 -> 0 | L21: 생활재활교사 | N21: 2206900 | O21: × | P21: 4 | Q21: × | R21: 1 | S21: = | U21: =N21*P21*R21 -> 8827600
O22: × | P22: 12 | Q22: × | R22: 2 | S22: = | U22: =N22*P22*R22 -> 0
L23: 사회재활교사 | M23: 다온 | N23: 0 | O23: × | P23: 13 | Q23: × | R23: 3 | S23: = | U23: =N23*P23*R23 -> 0
N24: 0 | O24: × | P24: 14 | Q24: × | R24: 4 | S24: = | U24: =N24*P24*R24 -> 0
L25: 보조인력 | M25: 다온보조 | N25: 0 | O25: × | P25: 15 | Q25: × | R25: 5 | S25: = | U25: =N25*P25*R25 -> 0
O26: × | P26: 16 | Q26: × | R26: 6 | S26: = | U26: =N26*P26*R26 -> 0
L27: 사회재활교사 | M27: 라온 | N27: 0 | O27: × | P27: 17 | Q27: × | R27: 7 | S27: = | U27: =N27*P27*R27 -> 0
N28: 0 | O28: × | P28: 18 | Q28: × | R28: 8 | S28: = | U28: =N28*P28*R28 -> 0
L29: 보조인력 | M29: 라온보조 | N29: 0 | O29: × | P29: 19 | Q29: × | R29: 9 | S29: = | U29: =N29*P29*R29 -> 0
O30: × | P30: 20 | Q30: × | R30: 10 | S30: = | U30: =N30*P30*R30 -> 0
L31: 사회재활교사 | M31: 마온 | N31: 0 | O31: × | P31: 21 | Q31: × | R31: 11 | S31: = | U31: =N31*P31*R31 -> 0
N32: 0 | O32: × | P32: 22 | Q32: × | R32: 12 | S32: = | U32: =N32*P32*R32 -> 0
L33: 보조인력 | M33: 마온보조 | N33: 0 | O33: × | P33: 23 | Q33: × | R33: 13 | S33: = | U33: =N33*P33*R33 -> 0
O34: × | P34: 24 | Q34: × | R34: 14 | S34: = | U34: =N34*P34*R34 -> 0
L35: 사회재활교사 | M35: 바온 | N35: 0 | O35: × | P35: 25 | Q35: × | R35: 15 | S35: = | U35: =N35*P35*R35 -> 0
N36: 0 | O36: × | P36: 26 | Q36: × | R36: 16 | S36: = | U36: =N36*P36*R36 -> 0
L37: 보조인력 | M37: 바온보조 | N37: 0 | O37: × | P37: 27 | Q37: × | R37: 17 | S37: = | U37: =N37*P37*R37 -> 0
O38: × | P38: 28 | Q38: × | R38: 18 | S38: = | U38: =N38*P38*R38 -> 0
L39: 사회재활교사 | M39: 사온 | N39: 0 | O39: × | P39: 29 | Q39: × | R39: 19 | S39: = | U39: =N39*P39*R39 -> 0
N40: 0 | O40: × | P40: 30 | Q40: × | R40: 20 | S40: = | U40: =N40*P40*R40 -> 0
L41: 보조인력 | M41: 사온보조 | N41: 0 | O41: × | P41: 31 | Q41: × | R41: 21 | S41: = | U41: =N41*P41*R41 -> 0
...

Sheet 라. 세입세출(개요)
B1: 라. 세입 ∙ 세출 개요(다온)
E3: (단위 : 원)
B4: 구 분 | C4: 세 입 | E4: 세 출
B5: 합 계 | C5: =D6+D16+D26+D30 -> 131147856 | E5: =F6+F16+F26+F30 -> 131147856
B6: 보조금 | C6: 소 계 | D6: =SUM(D7:D13) -> 105024435 | E6: 소 계 | F6: =SUM(F7:F15) -> 105024435
C7: 보조금수입 | D7: ='나. 세입결산'!E18 -> 96631500 | E7: 사무비(인건비) | F7: ='다. 세출결산'!H8 -> 60304750
E8: 사무비(업무추진비) | F8: ='다. 세출결산'!H94 -> 0
C9: 이월금 | D9: 8359815 | E9: 사무비(운영비) | F9: ='다. 세출결산'!H103 -> 2810000
C10: 잡수입 | D10: 33120 | E10: 시설비 | F10: ='다. 세출결산'!H143 -> 440000
C11: 예금이자수입 | E11: 사업비(운영비) | F11: ='다. 세출결산'!H163 -> 7150000
E12: 사업비(사업비) | F12: ='다. 세출결산'!H183 -> 1151500
E13: 잡지출 | F13: 0
E14: 반환금 | F14: 8359815
E15: 차년도이월금 | F15: ='다. 세출결산'!H213 -> 24808370
B16: 자부담 | C16: 소 계 | D16: =SUM(D17:D21) -> 26123421 | E16: 소 계 | F16: =SUM(F17:F25) -> 26123421 | H16: 26123421
C17: 입소비용수입 | D17: ='나. 세입결산'!E9 -> 13750000 | E17: 사무비(인건비) | F17: ='다. 세출결산'!J8 -> 0
C18: 사업수입 | D18: 0 | E18: 업무추진비 | F18: ='다. 세출결산'!J94 -> 34400
C19: 이월금 | D19: 12371770 | E19: 사무비(운영비) | F19: ='다. 세출결산'!J103 -> 1341560
C20: 잡수입 | D20: 5 | E20: 시설비 | F20: ='다. 세출결산'!J144 -> 55000
C21: 예금이자수입 | D21: 1646 | E21: 사업비(운영비) | F21: ='다. 세출결산'!J163 -> 4263320
E22: 사업비(사업비) | F22: ='다. 세출결산'!J183 -> 1667070
E23: 잡지출 | F23: 0
E24: 예비비 | F24: 0
E25: 차년도이월금 | F25: 18762071
B26: 법인 | C26: 소 계 | D26: =SUM(D27:D28) -> 0 | E26: 소 계 | F26: =SUM(F27:F28) -> 0
B27: 전입금 | C27: 법인전입금 | D27: 0 | E27: 사무비(인건비) | F27: 0
C28: 이월금 | D28: 0 | E28: 차년도이월금 | F28: 0
B30: 후원금 | C30: 소 계 | D30: =SUM(D31:D35) -> 0 | E30: 소 계 | F30: =SUM(F31:F37) -> 0
C31: 후원금수입 | D31: 0 | E31: 사무비(인건비) | F31: 0
C32: 이월금 | D32: 0 | E32: 사무비(운영비) | F32: 0
C33: 잡수입 | D33: 0 | E33: 시설비 | F33: 0
E34: 사업비(운영비) | F34: 0
E35: 사업비(사업비) | F35: 0
E36: 잡지출 | F36: 0
E37: 차년도이월금 | F37: 0

Sheet 마. 증감사유
A2: 마. 증감사유(다온)
P4: (단위 : 원)
A5: 세 입 | I5: 세 출
A6: 과 목 | D6: 2023년 예산 (A) | E6: 2023년 결산 (B) | F6: 증감금액 (C=B-A) | G6: 증감율(%) (C/A*100) | H6: 증감사유 | I6: 과 목 | L6: 2023년 예산 (A) | M6: 2023년 결산 (B) | N6: 증감금액 (C=B-A) | O6: 증감율(%) (C/A*100) | P6: 증감사유
A7: 관 | B7: 항 | C7: 목 | I7: 관 | J7: 항 | K7: 목
A8: 합 계 | D8: =D9+D18+D30+D35 -> 134303000 | E8: =SUM(E9,E12,E15,E18,E23,E27,E30,E35) -> 131147856 | F8: =E8-D8 -> -3155144 | G8: =F8/D8*100 -> -2.3492729 | I8: 합 계 | L8: =L9+L27+L32+L50+L53 -> 2105199000 | M8: =SUM(M9,M27,M32,M50,M53,M57) -> 1252938716 | N8: =M8-L8 -> -852260284 | O8: =N8/L8*100 -> -40.483597
A9: 입소자부담금 | B9: 계 | D9: =D10 -> 18800000 | E9: =E10 -> 13750000 | F9: =E9-D9 -> -5050000 | G9: =F9/D9*100 -> -26.861702 | I9: 사무비 | J9: 계 | L9: =L10+L17+L20 -> 97080670 | M9: =M10+M17+M20 -> 64490710 | N9: =M9-L9 -> -32589960 | O9: =N9/L9*100 -> -33.569978
B10: 입소비용수입 | C10: 소계 | D10: =D11 -> 18800000 | E10: =E11 -> 13750000 | F10: =E10-D10 -> -5050000 | G10: =F10/D10*100 -> -26.861702 | J10: 인건비 | K10: 소계 | L10: =L11+L13+L14+L15 -> 82485570 | M10: =M11+M13+M14+M15 -> 60304750 | N10: =M10-L10 -> -22180820 | O10: =N10/L10*100 -> -26.890546
C11: 입소비용수입 | D11: 18800000 | E11: 13750000 | F11: =E11-D11 -> -5050000 | G11: =F11/D11*100 -> -26.861702 | H11: 정원 4명중 3명 입소로 인한 차액 발생 | K11: 급여 | L11: 54837200 | M11: ='다. 세출결산'!U9 -> 42046430 | N11: =M11-L11 -> -12790770 | O11: =N11/L11*100 -> -23.324987 | P11: 종사자 입퇴사로 인한 호봉 차액 발생
A12: 사업수입 | B12: 계 | D12: =D13 -> 0 | E12: =E13 -> 0 | F12: =E12-D12 -> 0 | G12: 0 | K12: 일용잡급 | L12: 0 | M12: 0 | N12: =M12-L12 -> 0 | O12: 0
B13: 사업수입 | C13: 소계 | D13: =D14 -> 0 | E13: =E14 -> 0 | F13: =E13-D13 -> 0 | G13: 0 | K13: 제수당 | L13: 14663880 | M13: ='다. 세출결산'!U49 -> 9499860 | N13: =M13-L13 -> -5164020 | O13: =N13/L13*100 -> -35.215918 | P13: 종사자 입퇴사로 인한 호봉 차액 발생
C14: 프로그램사업수입 | D14: ='[1]다. 세입내역서'!D13 -> 0 | E14: ='[1]다. 세입내역서'!E13 -> 0 | F14: =E14-D14 -> 0 | G14: 0 | K14: 퇴직금및퇴직적립금 | L14: 5791760 | M14: ='다. 세출결산'!U80 -> 3963450 | N14: =M14-L14 -> -1828310 | O14: =N14/L14*100 -> -31.567434 | P14: 종사자 입퇴사로 인한 호봉 차액 발생
A15: 과년도수입 | B15: 계 | D15: =D16 -> 0 | E15: =E16 -> 0 | F15: =E15-D15 -> 0 | G15: 0 | K15: 사회보험부담비용 | L15: ='다. 세출결산'!D84 -> 7192730 | M15: ='다. 세출결산'!U84 -> 4795010 | N15: =M15-L15 -> -2397720 | O15: =N15/L15*100 -> -33.335326 | P15: 종사자 입퇴사로 인한 호봉 차액 발생
B16: 과년도수입 | C16: 소계 | D16: =D17 -> 0 | E16: =E17 -> 0 | F16: =E16-D16 -> 0 | G16: 0 | K16: 기타후생경비 | L16: 0 | M16: 0 | N16: =M16-L16 -> 0 | O16: =N16/L16*100 -> #DIV/0!
C17: 과년도수입 | F17: =E17-D17 -> 0 | G17: 0 | J17: 업무추진비 | K17: 소계 | L17: =L18+L19 -> 360000 | M17: =M18+M19 -> 34400 | N17: =M17-L17 -> -325600 | O17: =N17/L17*100 -> -90.444444
A18: 보조금수입 | B18: 계 | D18: =D19 -> 94527570 | E18: =E19 -> 96631500 | F18: =E18-D18 -> 2103930 | G18: =F18/D18*100 -> 2.2257316 | K18: 기관운영비 | L18: 0 | M18: 0 | N18: =M18-L18 -> 0 | O18: =N18/L18*100 -> #DIV/0!
B19: 보조금수입 | C19: 소계 | D19: =SUM(D20:D22) -> 94527570 | E19: =SUM(E20:E22) -> 96631500 | F19: =E19-D19 -> 2103930 | G19: =F19/D19*100 -> 2.2257316 | K19: 회의비 | L19: 360000 | M19: 34400 | N19: =M19-L19 -> -325600 | O19: =N19/L19*100 -> -90.444444
C20: 시도보조금 | D20: 94527570 | E20: 96631500 | F20: =E20-D20 -> 2103930 | G20: =F20/D20*100 -> 2.2257316 | H20: 직원들의 입퇴사로 인한 차액발생 | J20: 운영비 | K20: 소계 | L20: =L22+L23+L25 -> 14235100 | M20: =M22+M23+M25 -> 4151560 | N20: =M20-L20 -> -10083540 | O20: =N20/L20*100 -> -70.835751
C21: 시군구보조금 | D21: ='[1]다. 세입내역서'!D20 -> 0 | E21: ='[1]다. 세입내역서'!E20 -> 0 | F21: =E21-D21 -> 0 | G21: 0 | K21: 여비 | L21: 0 | M21: 0 | N21: =M21-L21 -> 0 | O21: 0
C22: 기타보조금 | D22: ='[1]다. 세입내역서'!D21 -> 0 | E22: ='[1]다. 세입내역서'!E21 -> 0 | F22: =E22-D22 -> 0 | G22: 0 | K22: 수용비및수수료 | L22: ='다. 세출결산'!D106 -> 2210000 | M22: ='다. 세출결산'!U106 -> 2082820 | N22: =M22-L22 -> -127180 | O22: =N22/L22*100 -> -5.7547511 | P22: 실 지출이 반영된 차액 발생
A23: 후원금 | B23: 계 | D23: =D24 -> 0 | E23: =E24 -> 0 | F23: =E23-D23 -> 0 | G23: 0 | K23: 공공요금 | L23: ='다. 세출결산'!D124 -> 8200000 | M23: ='다. 세출결산'!U124 -> 1828740 | N23: =M23-L23 -> -6371260 | O23: =N23/L23*100 -> -77.698293 | P23: 실 지출이 반영된 차액 발생
B24: 후원금수입 | C24: 소계 | D24: =SUM(D25:D26) -> 0 | E24: =SUM(E25:E26) -> 0 | F24: =E24-D24 -> 0 | G24: 0 | K24: 제세공과금 | L24: 0 | M24: 0 | N24: =M24-L24 -> 0 | O24: 0
C25: 지정후원금 | D25: ='[1]다. 세입내역서'!D24 -> 0 | E25: ='[1]다. 세입내역서'!E24 -> 0 | F25: =E25-D25 -> 0 | G25: 0 | K25: 차량비 | L25: ='다. 세출결산'!D137 -> 3825100 | M25: ='다. 세출결산'!U137 -> 240000 | N25: =M25-L25 -> -3585100 | O25: =N25/L25*100 -> -93.725654 | P25: 실 지출이 반영된 차액 발생
C26: 비지정후원금 | D26: ='[1]다. 세입내역서'!D25 -> 0 | E26: ='[1]다. 세입내역서'!E25 -> 0 | F26: =E26-D26 -> 0 | G26: 0 | K26: 기타운영비 | L26: 0 | M26: 0 | N26: =M26-L26 -> 0 | O26: 0
A27: 전입금 | B27: 계 | D27: =D28 -> 0 | E27: =E28 -> 0 | F27: =E27-D27 -> 0 | G27: 0 | I27: 재산조성비 | J27: 계 | L27: =L28 -> 1540000 | M27: =M28 -> 495000 | N27: =M27-L27 -> -1045000 | O27: =N27/L27*100 -> -67.857143
B28: 전입금 | C28: 소계 | D28: =D29 -> 0 | E28: =E29 -> 0 | F28: =E28-D28 -> 0 | G28: 0 | J28: 시설비 | K28: 소계 | L28: =L31 -> 1540000 | M28: =M31 -> 495000 | N28: =M28-L28 -> -1045000 | O28: =N28/L28*100 -> -67.857143
C29: 법인전입금 | F29: =E29-D29 -> 0 | G29: 0 | K29: 시설비 | L29: 0 | M29: 0 | N29: =M29-L29 -> 0 | O29: 0
A30: 이월금 | B30: 계 | D30: =D31 -> 20731585 | E30: =E31 -> 20731585 | F30: =E30-D30 -> 0 | G30: =F30/D30*100 -> 0 | K30: 자산취득비 | L30: 0 | M30: 0 | N30: =M30-L30 -> 0 | O30: 0
B31: 이월금 | C31: 소계 | D31: =SUM(D32:D34) -> 20731585 | E31: =SUM(E32:E34) -> 20731585 | F31: =E31-D31 -> 0 | G31: =F31/D31*100 -> 0 | K31: 시설장비유지비 | L31: ='다. 세출결산'!D153 -> 1540000 | M31: 495000 | N31: =M31-L31 -> -1045000 | O31: =N31/L31*100 -> -67.857143
C32: 전년도이월금(자부담) | D32: 12371770 | E32: 12371770 | F32: =E32-D32 -> 0 | G32: 0 | I32: 사업비 | J32: 계 | L32: =L33+L39 -> 2002926670 | M32: =M33+M39 -> 1138841320 | N32: =M32-L32 -> -864085350 | O32: =N32/L32*100 -> -43.141138
C33: 전년도이월금(후원금) | F33: =E33-D33 -> 0 | G33: 0 | J33: 운영비 | K33: 소계 | L33: =L34+L35+L37+L38 -> 22126670 | M33: =M34+M35+M37+M38 -> 11413320 | N33: =M33-L33 -> -10713350 | O33: =N33/L33*100 -> -48.418266
C34: 전년도이월금(보조금) | D34: 8359815 | E34: 8359815 | F34: =E34-D34 -> 0 | G34: =F34/D34*100 -> 0 | K34: 생계비 | L34: ='다. 세출결산'!D164 -> 12006670 | M34: ='다. 세출결산'!U164 -> 7764280 | N34: =M34-L34 -> -4242390 | O34: =N34/L34*100 -> -35.33361 | P34: 실 지출이 반영된 차액 발생
A35: 잡수입 | B35: 계 | D35: =D36 -> 243845 | E35: =E36 -> 34771 | F35: =E35-D35 -> -209074 | G35: =F35/D35*100 -> -85.740532 | K35: 수용기관경비 | L35: ='다. 세출결산'!D170 -> 2220000 | M35: ='다. 세출결산'!U170 -> 895290 | N35: =M35-L35 -> -1324710 | O35: =N35/L35*100 -> -59.671622 | P35: 실 지출이 반영된 차액 발생
B36: 잡수입 | C36: 소계 | D36: =SUM(D37:D39) -> 243845 | E36: =SUM(E37:E39) -> 34771 | F36: =E36-D36 -> -209074 | G36: =F36/D36*100 -> -85.740532 | K36: 피복비 | L36: 0 | M36: 0 | N36: =M36-L36 -> 0 | O36: 0
C37: 불용품매각대 | F37: =E37-D37 -> 0 | G37: 0 | K37: 의료비 | L37: ='다. 세출결산'!D176 -> 1000000 | M37: 150000 | N37: =M37-L37 -> -850000 | O37: =N37/L37*100 -> -85 | P37: 실 지출이 반영된 차액 발생
C38: 기타예금이자수입 | D38: 243845 | E38: 34766 | F38: =E38-D38 -> -209079 | G38: =F38/D38*100 -> -85.742582 | H38: 계획 대비 적은 금액의 수입으로 인한 차액발생 | K38: 연료비 | L38: ='다. 세출결산'!D179 -> 6900000 | M38: ='다. 세출결산'!U179 -> 2603750 | N38: =M38-L38 -> -4296250 | O38: =N38/L38*100 -> -62.264493 | P38: 실 지출이 반영된 차액 발생
C39: 기타잡수입 | E39: 5 | F39: =E39-D39 -> 5 | G39: 0 | J39: 사업비 | K39: 소계 | L39: =SUM(L39:L49) -> 1985752000 | M39: =SUM(M39:M49) -> 1130246570 | N39: =M39-L39 -> -855505430 | O39: =N39/L39*100 -> -43.082189
K40: 교육재활사업비 | L40: 50000 | M40: 50000 | N40: =M40-L40 -> 0 | O40: 0
K41: 일상생활서비스 | L41: 0 | M41: 0 | N41: =M41-L41 -> 0 | O41: 0
K42: 여가활동사업비 | L42: 2420000 | M42: ='다. 세출결산'!U187 -> 1507770 | N42: =M42-L42 -> -912230 | O42: =N42/L42*100 -> -37.695455 | P42: 실 지출이 반영된 차액 발생
...

Sheet 사. 사업별인건비
A1: 사. 사업별 인건비 일람표
A3: 순번 | B3: 직책 | C3: 성명 | D3: 호봉 | E3: 급여 | F3: 제수당 | L3: 퇴직금 및 퇴직적립금 | M3: 사회보험부담금 | N3: 계 | O3: 합계 | P3: 지자체 별도 지급액 | S3: 비고
F4: 00수당 | G4: 00수당 | H4: 00수당 | I4: 00수당 | J4: 00수당 | K4: 제수당 계 | P4: 000 | Q4: 000 | R4: 지자체 지급액 계
A5: 1
A7: 2
A9: 3
A11: 4
A13: 5
A15: 6 | S15: 00 / 00 입사
A17: 7
A19: 8 | S19: 00 / 00 입사
A21: 9
A23: 10
A25: 11
A27: 12
A29: 13
A31: 14 | S31: 00 / 00 입사
A33: 15
A35: 16 | S35: 00 / 00 입사
A37: 17 | S37: 00 / 00 입사
A39: 18 | S39: 육아휴직
A40: 19 | S40: 00 / 00 퇴사
A41: 20 | S41: 00 / 00 퇴사
A42: 합 계
A44: ※ 보건복지가족부 0000년 00000 종사자 보수지급기준표 적용.

Sheet 아. 일용잡급일람표
A1: 아. 일용잡급 일람표
A3: 순번 | B3: 직책 | C3: 성명 | D3: 호봉 | E3: 급여 | F3: 제수당 | L3: 퇴직금 및 퇴직적립금 | M3: 사회보험부담금 | N3: 총합계 | O3: 비고
F4: 00수당 | G4: 00수당 | H4: 00수당 | I4: 00수당 | J4: 00수당 | K4: 제수당 계
A5: 1
A6: 2
A7: 3 | O7: 00 / 00 입사
A8: 4
A9: 5
A10: 6 | O10: 00 / 00 퇴사
A11: 합 계
A13: ※ 보건복지가족부 0000년 00000 종사자 보수지급기준표 적용.

Sheet 사. 현금 및 예금명세서
A1: 사. 현금및예금명세서
E4: 2023년 12월 31일 기준
A5: 순번 | B5: 구분 | C5: 예금종류 | D5: 예치은행 | E5: 계좌번호 | F5: 현재잔액 | G5: 비고
A6: 1 | B6: 예금 | C6: 보통예금 | D6: 농협 | E6: 3550073496663 | F6: 24728350 | G6: 보조금(운영비) | H6: 보조금
A7: 9 | B7: 예금 | C7: 보통예금 | D7: 농협 | H7: 보조금
A8: 2 | B8: 예금 | C8: 보통예금 | D8: 농협 | E8: 3511211327813 | F8: 80020 | G8: 보조금(4종) | H8: 보조금
A9: 3 | B9: 예금 | C9: 보통예금 | D9: 농협 | E9: 3511211325793 | F9: 0 | G9: 보조금(7종) | H9: 보조금
C10: 보조금계 | F10: =SUM(F6:F9) -> 24808370
A11: 4 | B11: 예금 | C11: 보통예금 | D11: 농협 | E11: 3511248690423 | F11: 18762071 | G11: 자부담(입소비용) | H11: 자부담
C12: 자부담계 | F12: =SUM(F11:F11) -> 18762071
A13: 누 계 | F13: =SUM(F12,F10) -> 43570441

Sheet 사-1. 예금잔액증명서

Sheet 아. 퇴직충당금명세서
A2: 아. 퇴직충당금 명세서(퇴직연금)
A4: 과목 | B4: 전년도 이월액 | C4: 당해년도 증가액 | D4: 당해년도 감소액 | E4: 현재잔액 | F4: 비고
A5: 1월 퇴직적립금 | C5: 302270 | D5: 0 | E5: 302270
A6: 2월 퇴직적립금 | C6: 216040 | E6: =E5+C6-D6 -> 518310
A7: 3월 퇴직적립금 | C7: 404470 | D7: 0 | E7: =E6+C7-D7 -> 922780
A8: 4월 퇴직적립금 | C8: 430200 | D8: 0 | E8: =E7+C8-D8 -> 1352980
A9: 5월 퇴직적립금 | C9: 434880 | E9: =E8+C9-D9 -> 1787860
A10: 6월 퇴직적립금 | C10: 214160 | D10: 2824230 | E10: =E9+C10-D10 -> -822210 | F10: 1년이상자 퇴직금 지급
A11: 7월 퇴직적립금 | C11: 310330 | D11: 0 | E11: =E10+C11-D11 -> -511880
A12: 8월 퇴직적립금 | C12: 424330 | D12: 0 | E12: =E11+C12-D12 -> -87550
A13: 9월 퇴직적립금 | C13: 22390 | D13: 306770 | E13: =E12+C13-D13 -> -371930 | F13: 1년 미만자 1명 환급
A14: 10월 퇴직적립금 | C14: 219480 | D14: 0 | E14: =E13+C14-D14 -> -152450
A15: 11월 퇴직적립금 | C15: 447070 | D15: 0 | E15: =E14+C15-D15 -> 294620
A16: 12월 퇴직연금 | C16: 537830 | E16: =B16+E15+C16-D16 -> 832450
A17: 계 | B17: =SUM(B5:B16) -> 0 | C17: =SUM(C5:C16) -> 3963450 | D17: =SUM(D5:D16) -> 3131000 | E17: =B17+C17-D17 -> 832450

Sheet 자. 퇴직금 불입내역서 및 잔액증명서
C1: 자. 퇴직금 불입내역서
A4: 거래내역조회(회사조회)
A5: 회사계좌번호 | B5: 회사고객번호 | C5: 회사고객명 | D5: 납입주기 | E5: 제도 | F5: 입금일자 | G5: 초기입금예정일자 | H5: 자산관리기관 | I5: 부담금구분 | J5: 부담금종류 | K5: 부담금합계 | L5: 회사부담금 | M5: 표준부담금 | N5: 보충부담금 | O5: 가입자부담금 | P5: 부담금입금 | Q5: 특별부담금 | R5: 일시전환금 | S5: 퇴직보험신탁전환금 | T5: 수수료합계 | U5: 운용관리수수료 | V5: 자산관리수수료 | W5: 운용관리기관 | X5: 구속성금액 | Y5: 채널유형
C6: 별빛누리그룹홈 | D6: 1-월납 | E6: DC | F6: 2023.01~05 | H6: 신한은행 | K6: 1171110 | L6: 1171110
C7: 별빛누리그룹홈 | D7: 1-월납 | E7: DC | F7: 2023.07~08 | H7: 신한은행 | K7: 306340 | L7: 306770
C8: 별빛누리그룹홈 | D8: 1-월납 | E8: DC | F8: 2023.03~12 | H8: 신한은행 | K8: 2273230 | L8: 2273230
C9: 별빛누리그룹홈 | D9: 1-월납 | E9: DC | F9: 2023.11~12 | H9: 신한은행 | K9: 519540 | L9: 519540
A10: 260-005-925969 | B10: 829042743 | M10: 14012310 | N10: 0 | O10: 0 | P10: 0 | Q10: 0 | R10: 0 | S10: 0 | T10: 0 | U10: 0 | V10: 0 | W10: B088-신한은행 | X10: 1167692 | Y10: 1-단말기(직납)
A11: 260-005-925969 | B11: 829042743 | M11: 13716420 | N11: 0 | O11: 0 | P11: 0 | Q11: 0 | R11: 0 | S11: 0 | T11: 0 | U11: 0 | V11: 0 | W11: B088-신한은행 | X11: 1143035 | Y11: 1-단말기(직납)
A12: 260-005-925969 | B12: 829042743 | M12: 14025080 | N12: 0 | O12: 0 | P12: 0 | Q12: 0 | R12: 0 | S12: 0 | T12: 0 | U12: 0 | V12: 0 | W12: B088-신한은행 | X12: 1168756 | Y12: 1-단말기(직납)
A13: 260-005-925969 | B13: 829042743 | M13: 13947710 | N13: 0 | O13: 0 | P13: 0 | Q13: 0 | R13: 0 | S13: 0 | T13: 0 | U13: 0 | V13: 0 | W13: B088-신한은행 | X13: 1162309 | Y13: 1-단말기(직납)
A14: 260-005-925969 | B14: 829042743 | M14: 20894650 | N14: 0 | O14: 0 | P14: 0 | Q14: 0 | R14: 0 | S14: 0 | T14: 0 | U14: 0 | V14: 0 | W14: B088-신한은행 | X14: 1741220 | Y14: 1-단말기(직납)
A15: 260-005-925969 | B15: 829042743 | M15: 14160660 | N15: 0 | O15: 0 | P15: 0 | Q15: 0 | R15: 0 | S15: 0 | T15: 0 | U15: 0 | V15: 0 | W15: B088-신한은행 | X15: 1180055 | Y15: 1-단말기(직납)
A16: 260-005-925969 | B16: 829042743 | M16: 14384890 | N16: 0 | O16: 0 | P16: 0 | Q16: 0 | R16: 0 | S16: 0 | T16: 0 | U16: 0 | V16: 0 | W16: B088-신한은행 | X16: 1198740 | Y16: 1-단말기(직납)
A17: 260-005-925969 | B17: 829042743 | M17: 2354680 | N17: 0 | O17: 0 | P17: 0 | Q17: 0 | R17: 0 | S17: 0 | T17: 0 | U17: 0 | V17: 0 | W17: B088-신한은행 | X17: 196223 | Y17: 1-단말기(직납)
A18: 260-005-925969 | B18: 829042743 | M18: 14549340 | N18: 0 | O18: 0 | P18: 0 | Q18: 0 | R18: 0 | S18: 0 | T18: 0 | U18: 0 | V18: 0 | W18: B088-신한은행 | X18: 1212445 | Y18: 1-단말기(직납)
C19: 납입계 | K19: =SUM(K6:K9) -> 4270220 | L19: =SUM(L6:L9) -> 4270650
A20: 260-005-925969 | B20: 829042743 | C20: 별빛누리그룹홈 | E20: DC | F20: 2022.06. | H20: 신한은행 | K20: 2824230 | L20: 2824230 | M20: 14160660 | N20: 0 | O20: 0 | P20: 0 | Q20: 0 | R20: 0 | S20: 0 | T20: 0 | U20: 0 | V20: 0 | W20: B088-신한은행 | X20: 1180055 | Y20: 1-단말기(직납)
A21: 260-005-925969 | B21: 829042743 | M21: 14384890 | N21: 0 | O21: 0 | P21: 0 | Q21: 0 | R21: 0 | S21: 0 | T21: 0 | U21: 0 | V21: 0 | W21: B088-신한은행 | X21: 1198740 | Y21: 1-단말기(직납)
A22: 260-005-925969 | B22: 829042743 | M22: 2354680 | N22: 0 | O22: 0 | P22: 0 | Q22: 0 | R22: 0 | S22: 0 | T22: 0 | U22: 0 | V22: 0 | W22: B088-신한은행 | X22: 196223 | Y22: 1-단말기(직납)
A23: 260-005-925969 | B23: 829042743 | C23: 퇴직연금 지급계 | K23: =K22+K21+K20 -> 2824230 | L23: =L22+L21+L20 -> 2824230 | M23: 14549340 | N23: 0 | O23: 0 | P23: 0 | Q23: 0 | R23: 0 | S23: 0 | T23: 0 | U23: 0 | V23: 0 | W23: B088-신한은행 | X23: 1212445 | Y23: 1-단말기(직납)
C24: 별빛누리그룹홈 | E24: DC | F24: 2022.05.31. | H24: 신한은행 | K24: 306770 | L24: 306770
C25: 1년미만 환급계 | K25: =SUM(K24:K24) -> 306770 | L25: =SUM(L24:L24) -> 306770
C28: 2023 퇴직연금 총계 | K28: =K19-K25 -> 3963450 | L28: =L19-(L23+L25) -> 1139650

Sheet 차. 정부보조금명세서
A1: 차. 정부보조금 명세서
A3: 순번 | B3: 수령일 | C3: 보조구분 | D3: 보조내역 | E3: 금액 | F3: 보조기관 | G3: 산출기초
A4: 1 | B4: 44945 | C4: 보조금수입 | D4: 시도보조금 | E4: 2600000 | F4: 보건복지부 | G4: 1분기 별빛다온 운영비 보조금
A5: 2 | B5: 44945 | C5: 보조금수입 | D5: 시도보조금 | E5: 21681000 | F5: 보건복지부 | G5: 1분기 별빛다온 종사자인건비
A6: 3 | B6: 45021 | C6: 보조금수입 | D6: 시도보조금 | E6: 2600000 | F6: 보건복지부 | G6: 2분기 별빛다온 운영비 보조금
A7: 4 | B7: 45021 | C7: 보조금수입 | D7: 시도보조금 | E7: 18543000 | F7: 보건복지부 | G7: 2분기 별빛다온 종사자인건비
A8: 5 | B8: 45114 | C8: 보조금수입 | D8: 시도보조금 | E8: 2600000 | F8: 보건복지부 | G8: 3분기 별빛다온 운영비 보조금
A9: 6 | B9: 45114 | C9: 보조금수입 | D9: 시도보조금 | E9: 21930000 | F9: 보건복지부 | G9: 3분기 별빛다온 종사자인건비
A10: 7 | B10: 45205 | C10: 보조금수입 | D10: 시도보조금 | E10: 2600000 | F10: 보건복지부 | G10: 4분기 별빛다온 운영비 보조금
A11: 8 | B11: 45205 | C11: 보조금수입 | D11: 시도보조금 | E11: 22846000 | F11: 보건복지부 | G11: 4분기 별빛다온 종사자인건비
A12: 9 | B12: 44945 | C12: 보조금수입 | D12: 시도보조금 | E12: 135000 | F12: 보건복지부 | G12: 1분기 4종운영비 다온 입소자 부식비
A13: 10 | B13: 44945 | C13: 보조금수입 | D13: 시도보조금 | E13: 45000 | F13: 보건복지부 | G13: 1분기 4종운영비 다온 입소자 간식비
A14: 11 | B14: 44945 | C14: 보조금수입 | D14: 시도보조금 | E14: 60000 | F14: 보건복지부 | G14: 1분기 4종운영비 다온 입소자 피복비
A15: 12 | B15: 44945 | C15: 보조금수입 | D15: 시도보조금 | E15: 36000 | F15: 보건복지부 | G15: 1분기 4종운영비 다온 입소자 특별급식비
... A28: 25 | B28: 45212 | C28: 보조금수입 | D28: 시도보조금 | E28: 120000 | F28: 보건복지부 | G28: 4분기 4종운영비 다온 입소자 건강검진비
A29: 26
A30: 시도보조금 계 | E30: =SUM(E4:E29) -> 96631500
A31: 27 | B31: 45014 | C31: 잡수입 | D31: 기타예금이자수입 | E31: 3660 | F31: 보건복지부 | G31: 별빛다온 운영비 예금이자수입
A32: 28 | B32: 45102 | C32: 잡수입 | D32: 기타예금이자수입 | E32: 6240 | F32: 경기도 | G32: 별빛다온 운영비 예금이자수입
A33: 29 | B33: 45193 | C33: 잡수입 | D33: 기타예금이자수입 | E33: 9250 | F33: 보건복지부 | G33: 별빛다온 운영비 예금이자수입
A34: 30 | B34: 45284 | C34: 잡수입 | D34: 기타예금이자수입 | E34: 13950 | F34: 보건복지부 | G34: 별빛다온 운영비 예금이자수입
A35: 31 | B35: 45102 | C35: 잡수입 | D35: 기타예금이자수입 | E35: 10 | F35: 보건복지부 | G35: 별빛다온 4종운영비 예금이자수입
A36: 32 | B36: 44919 | C36: 잡수입 | D36: 기타예금이자수입 | E36: 10 | F36: 보건복지부 | G36: 별빛다온 4종 보조금 예금이자수입
A37: 33
A38: 34
A39: 잡수입 계 | E39: =SUM(E31:E38) -> 33120
A40: 합계 | E40: =SUM(E39,E30) -> 96664620
