Workbook
Name F: #REF!
Name F: #REF!
Name F: #REF!
Name 보수: #REF!
Name 보수일람표: #REF!
Name 보수일람표1: #REF!
Name 보수일람표2: #REF!
Name 보수일람표3: #REF!
Name ㅇ: #REF!
Name ㅇㅇㅇ: #REF!
Name 아: #REF!
Name 임직원보수일람표: #REF!

Sheet 가. 세입세출(총괄)
A2: 가. 세입.세출 총괄표(사온)
M3: (단위 : 원)
A4: 세 입 | H4: 세 출
A5: 과 목 | D5: 2023년 예산 (A) | E5: 2023년 상반기 결산 (B) | F5: 증감금액 (C=B-A) | G5: 증감율(%) (C/A*100) | H5: 과 목 | K5: 2023년 예산 (A) | L5: 2023년 상반기 결산 (B) | M5: 증감금액 (C=B-A) | N5: 증감율(%) (C/A*100)
A6: 관 | B6: 항 | C6: 목 | H6: 관 | I6: 항 | J6: 목
A7: 합 계 | D7: =SUM(D8,D11,D14,D17,D22,D26) -> 158550000 | E7: =SUM(E8,E11,E14,E17,E22,E26) -> 97074536 | F7: =SUM(F8,F11,F14,F17,F22,F26) -> -61475464 | G7: =F7/D7*100 -> -38.77355 | H7: 합 계 | K7: =SUM(K8+K20+K23+K35+K38+K41) -> 158550000 | L7: =SUM(L8+L20+L23+L35+L38+L41) -> 95074536 | M7: =L7-K7 -> -63475464 | N7: =M7/K7*100 -> -40.034982
A8: 입소자부담금 | B8: 계 | D8: =D9 -> 18800000 | E8: =E9 -> 10850000 | F8: =E8-D8 -> -7950000 | G8: =F8/D8*100 -> -42.287234 | H8: 사무비 | I8: 계 | K8: =SUM(K9+K14+K16) -> 114737200 | L8: =SUM(L9+L14+L16) -> 53543270 | M8: =L8-K8 -> -61193930 | N8: =M8/K8*100 -> -53.333993
B9: 입소비용수입 | C9: 소계 | D9: =D10 -> 18800000 | E9: =E10 -> 10850000 | F9: =E9-D9 -> -7950000 | G9: =F9/D9*100 -> -42.287234 | I9: 인건비 | J9: 소계 | K9: =SUM(K10:K13) -> 104457200 | L9: =SUM(L10:L13) -> 49774200 | M9: =L9-K9 -> -54683000 | N9: =M9/K9*100 -> -52.34967
C10: 입소비용수입 | D10: ='나. 세입결산'!D9 -> 18800000 | E10: ='나. 세입결산'!E9 -> 10850000 | F10: =E10-D10 -> -7950000 | G10: =F10/D10*100 -> -42.287234 | J10: 급여 | K10: ='다. 세출결산'!D9 -> 69066200 | L10: ='다. 세출결산'!E9 -> 33936390 | M10: =L10-K10 -> -35129810 | N10: =M10/K10*100 -> -50.863968
A11: 보조금수입 | B11: 계 | D11: =SUM(D12) -> 112042000 | E11: =E12 -> 80937500 | F11: =E11-D11 -> -31104500 | G11: 0 | J11: 제수당 | K11: ='다. 세출결산'!D16 -> 18947820 | L11: ='다. 세출결산'!E16 -> 8402600 | M11: =L11-K11 -> -10545220 | N11: =M11/K11*100 -> -55.654001
B12: 보조금수입 | C12: 소계 | D12: =SUM(D13) -> 112042000 | E12: =E13 -> 80937500 | F12: =E12-D12 -> -31104500 | G12: 0 | J12: 퇴직금및퇴직적립금 | K12: ='다. 세출결산'!D27 -> 7334510 | L12: ='다. 세출결산'!E27 -> 3512460 | M12: =L12-K12 -> -3822050 | N12: =M12/K12*100 -> -52.110502
C13: 시도보조금 | D13: ='나. 세입결산'!D18 -> 112042000 | E13: ='나. 세입결산'!E18 -> 80937500 | F13: =E13-D13 -> -31104500 | G13: 0 | J13: 사회보험부담비용 | K13: ='다. 세출결산'!D29 -> 9108670 | L13: ='다. 세출결산'!E29 -> 3922750 | M13: =L13-K13 -> -5185920 | N13: =M13/K13*100 -> -56.933888
A14: 후원금 | B14: 계 | D14: =SUM(D15) -> 0 | E14: =SUM(E15) -> 0 | F14: =E14-D14 -> 0 | G14: 0 | I14: 업무추진비 | J14: 소계 | K14: =K15 -> 360000 | L14: =L15 -> 0 | M14: =L14-K14 -> -360000 | N14: 0
B15: 후원금수입 | C15: 소계 | D15: =SUM(D16:D17) -> 0 | E15: =SUM(E16:E17) -> 0 | F15: =E15-D15 -> 0 | G15: 0 | J15: 회의비 | K15: ='다. 세출결산'!D44 -> 360000 | L15: ='다. 세출결산'!E44 -> 0 | M15: =L15-K15 -> -360000 | N15: 0
C16: 지정후원금 | D16: ='나. 세입결산'!D23 -> 0 | E16: ='나. 세입결산'!E23 -> 0 | F16: =E16-D16 -> 0 | G16: 0 | I16: 운영비 | J16: 소계 | K16: =SUM(K17:K19) -> 9920000 | L16: =SUM(L17:L19) -> 3769070 | M16: =L16-K16 -> -6150930 | N16: =M16/K16*100 -> -62.005343
C17: 비지정후원금 | D17: ='나. 세입결산'!D24 -> 0 | E17: ='나. 세입결산'!E24 -> 0 | F17: =E17-D17 -> 0 | G17: =F17/D17*100 -> #DIV/0! | J17: 수용비및수수료 | K17: ='다. 세출결산'!D50 -> 2880000 | L17: ='다. 세출결산'!E50 -> 1559200 | M17: =L17-K17 -> -1320800 | N17: =M17/K17*100 -> -45.861111
A18: 전입금 | B18: 계 | D18: =D19 -> 0 | E18: =E19 -> 0 | F18: =E18-D18 -> 0 | G18: 0 | J18: 공공요금 | K18: ='다. 세출결산'!D59 -> 5400000 | L18: ='다. 세출결산'!E59 -> 2179870 | M18: =L18-K18 -> -3220130 | N18: =M18/K18*100 -> -59.632037
B19: 전입금 | C19: 소계 | D19: =SUM(D20) -> 0 | E19: =SUM(E20) -> 0 | F19: =E19-D19 -> 0 | G19: 0 | J19: 차량비 | K19: ='다. 세출결산'!D68 -> 1640000 | L19: ='다. 세출결산'!E68 -> 30000 | M19: =L19-K19 -> -1610000 | N19: =M19/K19*100 -> -98.170732
C20: 법인전입금 | D20: ='나. 세입결산'!D27 -> 0 | E20: ='나. 세입결산'!E27 -> 0 | F20: =E20-D20 -> 0 | G20: 0 | H20: 재산조성비 | I20: 계 | K20: =K21 -> 600000 | L20: =L21 -> 440000 | M20: =L20-K20 -> -160000 | N20: =M20/K20*100 -> -26.666667
A21: 이월금 | B21: 계 | D21: =D22 -> 27546736 | E21: =E22 -> 5259310 | F21: =E21-D21 -> -22287426 | G21: =F21/D21*100 -> -80.907684 | H21: ` | I21: 시설비 | J21: 소계 | K21: =K22 -> 600000 | L21: =L22 -> 440000 | M21: =L21-K21 -> -160000 | N21: =M21/K21*100 -> -26.666667
B22: 이월금 | C22: 소계 | D22: =SUM(D23:D25) -> 27546736 | E22: =SUM(E23:E25) -> 5259310 | F22: =E22-D22 -> -22287426 | G22: =F22/D22*100 -> -80.907684 | J22: 시설장비유지비 | K22: ='다. 세출결산'!D84 -> 600000 | L22: ='다. 세출결산'!E84 -> 440000 | M22: =L22-K22 -> -160000 | N22: =M22/K22*100 -> -26.666667
C23: 전년도이월금(자부담) | D23: ='나. 세입결산'!D30 -> 9402396 | E23: ='나. 세입결산'!E30 -> 0 | F23: =E23-D23 -> -9402396 | G23: 0 | H23: 사업비 | I23: 계 | K23: =SUM(K24+K29) -> 24967000 | L23: =SUM(L24+L29) -> 8285220 | M23: =L23-K23 -> -16681780 | N23: =M23/K23*100 -> -66.815316
C24: 전년도이월금(후원금) | D24: ='나. 세입결산'!D31 -> 0 | E24: ='나. 세입결산'!E31 -> 0 | F24: =E24-D24 -> 0 | G24: 0 | I24: 운영비 | J24: 소계 | K24: =SUM(K25:K28) -> 20040000 | L24: =SUM(L25:L28) -> 5974720 | M24: =L24-K24 -> -14065280 | N24: =M24/K24*100 -> -70.186028
C25: 전년도이월금(보조금) | D25: ='나. 세입결산'!D32 -> 18144340 | E25: ='나. 세입결산'!E32 -> 5259310 | F25: =E25-D25 -> -12885030 | G25: 0 | J25: 생계비 | K25: ='다. 세출결산'!D89 -> 10220000 | L25: ='다. 세출결산'!E89 -> 2592000 | M25: =L25-K25 -> -7628000 | N25: =M25/K25*100 -> -74.637965
A26: 잡수입 | B26: 계 | D26: =D27 -> 161264 | E26: =E27 -> 27726 | F26: =E26-D26 -> -133538 | G26: 0 | J26: 수용기관경비 | K26: ='다. 세출결산'!D91 -> 2220000 | L26: ='다. 세출결산'!E91 -> 622720 | M26: =L26-K26 -> -1597280 | N26: =M26/K26*100 -> -71.94955
B27: 잡수입 | C27: 소계 | D27: =SUM(D28:D30) -> 161264 | E27: =SUM(E28:E30) -> 27726 | F27: =E27-D27 -> -133538 | G27: 0 | J27: 의료비 | K27: ='다. 세출결산'!D96 -> 1000000 | L27: ='다. 세출결산'!E96 -> 60000 | M27: =L27-K27 -> -940000 | N27: =M27/K27*100 -> -94
C28: 불용품매각대 | D28: ='나. 세입결산'!D35 -> 60000 | E28: ='나. 세입결산'!E35 -> 0 | F28: =E28-D28 -> -60000 | G28: 0 | J28: 연료비 | K28: ='다. 세출결산'!D98 -> 6600000 | L28: ='다. 세출결산'!E98 -> 2700000 | M28: =L28-K28 -> -3900000 | N28: =M28/K28*100 -> -59.090909
C29: 기타예금이자수입 | D29: ='나. 세입결산'!D36 -> 91264 | E29: ='나. 세입결산'!E36 -> 27726 | F29: =E29-D29 -> -63538 | I29: 사업비 | J29: 소계 | K29: =SUM(K30:K34) -> 4927000 | L29: =SUM(L30:L34) -> 2310500 | M29: =SUM(M30:M34) -> -1776500 | N29: =M29/K29*100 -> -36.056424
C30: 기타잡수입 | D30: ='나. 세입결산'!D37 -> 10000 | E30: ='나. 세입결산'!E37 -> 0 | F30: =E30-D30 -> -10000 | J30: 교육재활사업비 | K30: ='다. 세출결산'!D101 -> 50000 | L30: ='다. 세출결산'!E103 -> 1200000 | M30: =L30-K30 -> 1150000 | N30: =M30/K30*100 -> 2300
J31: 여가활동사업비 | K31: ='다. 세출결산'!D103 -> 2395000 | L31: ='다. 세출결산'!E117 -> 1110500 | M31: =L31-K31 -> -1284500 | N31: =M31/K31*100 -> -53.632568
J32: 지역사회교류사업비 | K32: ='다. 세출결산'!D112 -> 480000
J33: 자립지원사업비 | K33: ='다. 세출결산'!D115 -> 360000
J34: 4종 운영지원사업 | K34: ='다. 세출결산'!D117 -> 1642000 | L34: ='다. 세출결산'!E122 -> 0 | M34: =L34-K34 -> -1642000 | N34: =M34/K34*100 -> -100
H35: 잡지출 | I35: 계 | K35: =K36 -> 101460 | L35: =L36 -> 0 | M35: =L35-K35 -> -101460 | N35: =M35/K35*100 -> -100
I36: 잡지출 | J36: 소계 | K36: =SUM(K37) -> 101460 | L36: =SUM(L37) -> 0 | M36: =L36-K36 -> -101460 | N36: =M36/K36*100 -> -100
J37: 잡지출 | K37: ='다. 세출결산'!D128 -> 101460 | L37: ='다. 세출결산'!E128 -> 0 | M37: =L37-K37 -> -101460 | N37: =M37/K37*100 -> -100
H38: 예비비및기타 | I38: 계 | K38: =K39 -> 18144340 | L38: =L39 -> 5259310 | M38: =L38-K38 -> -12885030 | N38: =M38/K38*100 -> -71.014046
I39: 예비비및기타 | J39: 소계 | K39: =SUM(K40) -> 18144340 | L39: =SUM(L40) -> 5259310 | M39: =L39-K39 -> -12885030 | N39: =M39/K39*100 -> -71.014046
J40: 반환금 | K40: ='다. 세출결산'!D132 -> 18144340 | L40: ='다. 세출결산'!E132 -> 5259310 | M40: =L40-K40 -> -12885030 | N40: 0
I41: 차년도이월금 | K41: ='다. 세출결산'!D133 -> 0 | L41: ='다. 세출결산'!E133 -> 27546736 | M41: =L41-K41 -> 27546736 | N41: 0

Sheet 나. 세입결산
A2: 나. 세입결산서(사온)
J3: (단위 : 원)
A4: 과 목 | D4: 2023년 예산 (A) | E4: 2023년 상반기 결산 (B) | F4: 증감금액 (C=B-A) | G4: 증감율(%) (C/A*100) | H4: 산 출 내 역
A5: 관 | B5: 항 | C5: 목
A6: 합 계 | D6: =SUM(D7+D10+D13+D16+D21+D25+D28+D33) -> 158550000 | E6: =SUM(E7+E10+E13+E16+E21+E25+E28+E33) -> 97074536 | F6: =SUM(F7+F10+F13+F16+F21+F25+F28+F33) -> -61475464 | G6: =F6/D6*100 -> -38.77355
A7: 입소자부담금 | B7: 계 | D7: =D8 -> 18800000 | E7: =E8 -> 10850000 | F7: =E7-D7 -> -7950000 | G7: =F7/D7*100 -> -42.287234
B8: 입소비용수입 | C8: 소계 | D8: =SUM(D9) -> 18800000 | E8: =E9 -> 10850000 | F8: =E8-D8 -> -7950000 | G8: =F8/D8*100 -> -42.287234
C9: 입소비용수입 | D9: 18800000 | E9: 10850000 | F9: =E9-D9 -> -7950000 | G9: =F9/D9*100 -> -42.287234 | H9: 이용인(박종하) 350,000원*13개월=4,550,000원 이용인(강형욱) 350,000원*12개월=4,200,000원 이용인(신형종) 350,000원* 6개월=2,100,000원
A10: 사업수입 | B10: 계 | D10: =D11 -> 0 | E10: =E11 -> 0 | F10: =F11 -> 0 | G10: 0
B11: 사업수입 | C11: 소계 | D11: =SUM(D12) -> 0 | E11: =E12 -> 0 | F11: =E11-D11 -> 0 | G11: 0
C12: 프로그램사업수입 | D12: 0 | E12: 0 | F12: =E12-D12 -> 0 | G12: 0
A13: 과년도수입 | B13: 계 | D13: =D14 -> 0 | E13: =E14 -> 0 | F13: =E13-D13 -> 0 | G13: 0
B14: 과년도수입 | C14: 소계 | D14: =SUM(D15) -> 0 | E14: =SUM(E15) -> 0 | F14: =SUM(F15) -> 0 | G14: 0
C15: 과년도수입 | D15: 0 | E15: 0 | F15: =E15-D15 -> 0 | G15: 0
A16: 보조금수입 | B16: 계 | D16: =D17 -> 112042000 | E16: =E17 -> 80937500 | F16: =F17 -> -31104500 | G16: =F16/D16*100 -> -27.761464
B17: 보조금수입 | C17: 소계 | D17: =SUM(D18:D20) -> 112042000 | E17: =SUM(E18:E20) -> 80937500 | F17: =SUM(F18:F20) -> -31104500 | G17: =F17/D17*100 -> -27.761464
C18: 시도보조금 | D18: 112042000 | E18: 80937500 | F18: =E18-D18 -> -31104500 | G18: =F18/D18*100 -> -27.761464 | H18: * 운영비 77,707,000원(인건비 67,771,000원, 관리운영비 9,936,000원 * 4종 운영비 1,230,500원 * 7종 운영비 2,000,000원
C19: 시군구보조금 | D19: 0 | E19: 0 | F19: =E19-D19 -> 0 | G19: 0
C20: 기타보조금 | D20: 0 | E20: 0 | F20: =E20-D20 -> 0 | G20: 0
A21: 후원금 | B21: 계 | D21: =D22 -> 0 | E21: =E22 -> 0 | F21: =E21-D21 -> 0 | G21: 0
B22: 후원금수입 | C22: 소계 | D22: =SUM(D23:D24) -> 0 | E22: =SUM(E23:E24) -> 0 | F22: =E22-D22 -> 0 | G22: 0
C23: 지정후원금 | D23: 0 | E23: 0 | F23: =E23-D23 -> 0 | G23: 0
C24: 비지정후원금 | D24: 0 | E24: 0 | F24: =E24-D24 -> 0 | G24: 0
A25: 전입금 | B25: 계 | D25: =D26 -> 0 | E25: =E26 -> 0 | F25: =E25-D25 -> 0 | G25: 0
B26: 전입금 | C26: 소계 | D26: =SUM(D27) -> 0 | E26: =E27 -> 0 | F26: =E26-D26 -> 0 | G26: 0
C27: 법인전입금 | D27: 0 | E27: 0 | F27: =E27-D27 -> 0 | G27: 0
A28: 이월금 | B28: 계 | D28: =D29 -> 27546736 | E28: =E29 -> 5259310 | F28: =E28-D28 -> -22287426 | G28: =F28/D28*100 -> -80.907684
B29: 이월금 | C29: 소계 | D29: =SUM(D30:D32) -> 27546736 | E29: =SUM(E30:E32) -> 5259310 | F29: =E29-D29 -> -22287426 | G29: =F29/D29*100 -> -80.907684
C30: 전년도이월금(자부담) | D30: 9402396 | E30: 0 | F30: =E30-D30 -> -9402396 | G30: 0
C31: 전년도이월금(후원금) | D31: 0 | E31: 0 | F31: =E31-D31 -> 0 | G31: 0
C32: 전년도이월금(보조금) | D32: 18144340 | E32: 5259310 | F32: =E32-D32 -> -12885030 | G32: 0 | H32: *전년도이월금 (보조금) : 5,251,710원, (예금이자) : 7,600원
A33: 잡수입 | B33: 계 | D33: =D34 -> 161264 | E33: =E34 -> 27726 | F33: =E33-D33 -> -133538 | G33: =F33/D33*100 -> -82.807074
B34: 잡수입 | C34: 소계 | D34: =SUM(D35:D37) -> 161264 | E34: =SUM(E35:E37) -> 27726 | F34: =E34-D34 -> -133538 | G34: =F34/D34*100 -> -82.807074
C35: 불용품매각대 | D35: 60000 | E35: 0 | F35: =E35-D35 -> -60000 | G35: 0
C36: 기타예금이자수입 | D36: 91264 | E36: 27726 | F36: =E36-D36 -> -63538 | G36: =F36/D36*100 -> -69.620004 | H36: * 예금이자 (보조금 27,540원, 자부담 186원)
C37: 기타잡수입 | D37: 10000 | E37: 0 | F37: =E37-D37 -> -10000 | G37: 0

Sheet 다. 세출결산
A2: 다. 세출결산서(사온)
V3: (단위 : 원)
A4: 과 목 | D4: 2023년 예산 (A) | E4: 2023년 상반기 결산 (B) | F4: 증감금액 (C=B-A) | G4: 증감율(%) (C/A*100) | H4: 재원 | M4: 산 출 내 역
A5: 관 | B5: 항 | C5: 목 | H5: 보조금 | I5: 법인전입금 | J5: 자부담 | K5: 후원금
A6: 합 계 | D6: =SUM(D7+D74+D87+D126+D129) -> 158550000 | E6: =SUM(E7+E74+E87+E126+E129+E133) -> 97292836 | F6: =E6-D6 -> -61257164 | G6: =F6/D6*100 -> -38.635865 | H6: =SUM(H7,H74,H87,H126,H129,H133) -> 84224350 | I6: =SUM(I7,I74,I87,I126,I129,I133) -> #REF! | J6: =SUM(J7,J74,J87,J126,J129,J133) -> 10850186 | K6: =SUM(K7,K74,K87,K126,K129,K133) -> 0 | M6: =SUM(V7,V74,V87,V126,V129,V133) -> #REF!
A7: 사무비 | B7: 계 | D7: =SUM(D8+D38+D47) -> 114737200 | E7: =SUM(E8+E38+E47) -> 53543270 | F7: =E7-D7 -> -61193930 | G7: =F7/D7*100 -> -53.333993 | H7: =SUM(H8+H47) -> 52442200 | I7: =SUM(I8+I47) -> 0 | J7: =SUM(J8+J47) -> 1101070 | K7: =SUM(K8+K47) -> 0 | M7: 사무비계 | V7: =SUM(V8,V38,V47) -> 53543270
B8: 인건비 | C8: 소계 | D8: =SUM(D9+D14+D16+D27+D29+D35) -> 104457200 | E8: =SUM(E9+E14+E16+E27+E29+E35) -> 49774200 | F8: =E8-D8 -> -54683000 | G8: =F8/D8*100 -> -52.34967 | H8: =SUM(H9+H16+H27+H29) -> 49774200 | I8: =SUM(I9+I16+I27+I29) -> 0 | J8: =SUM(J9+J16+J27+J29) -> 0 | K8: =SUM(K9+K16+K27+K29) -> 0 | M8: 인건비계 | V8: =SUM(V9,V14,V16,V27,V29,V35) -> 49774200
C9: 급여 | D9: 69066200 | E9: =V9 -> 33936390 | F9: =E9-D9 -> -35129810 | G9: =F9/D9*100 -> -50.863968 | H9: =V9 -> 33936390 | I9: =SUM(I10:I13) -> 0 | J9: =SUM(J10:J13) -> 0 | K9: 0 | M9: ◆ 급여 | V9: =SUM(V10:V13) -> 33936390
H10: 0 | I10: 0 | J10: 0 | M10: 사회재활교사 | N10: 김윤미 | O10: 2828000 | P10: × | Q10: 7 | R10: × | S10: 1 | T10: = | V10: =O10*Q10*S10 -> 19796000
H11: 0 | I11: 0 | J11: 0 | O11: 2936000 | P11: × | Q11: 2 | R11: × | S11: 1 | T11: = | V11: =O11*Q11*S11 -> 5872000
H12: 0 | I12: 0 | J12: 0 | M12: 사회재활교사 | N12: 이경란 | O12: 1860390 | P12: × | Q12: 1 | R12: × | S12: 1 | T12: = | V12: =O12*Q12*S12 -> 1860390
I13: 0 | J13: 0 | O13: 3204000 | P13: × | Q13: 2 | R13: × | S13: 1 | T13: = | V13: =O13*Q13*S13 -> 6408000
C14: 일용잡급 | D14: 0 | E14: =V14 -> 0 | F14: =E14-D14 -> 0 | G14: 0 | H14: 0 | I14: 0 | J14: 0 | K14: =#REF! -> #REF! | M14: ◆ 일용잡급 | V14: =V15 -> 0
I15: 0 | P15: × | Q15: 0 | R15: × | S15: 0 | T15: = | V15: =O15*Q15*S15 -> 0
C16: 제수당 | D16: 18947820 | E16: =V16 -> 8402600 | F16: =E16-D16 -> -10545220 | G16: =F16/D16*100 -> -55.654001 | H16: 8402600 | I16: =I17+I20+I23 -> 0 | J16: =J17+J20+J23 -> 0 | K16: 0 | M16: ◆ 제수당 | V16: =SUM(V17,V20,V23) -> 8402600
I17: 0 | M17: 명절휴가비 | V17: =SUM(V18:V19) -> 3458400
I18: 0 | M18: 사회재활교사 | N18: 김윤미 | O18: 2828000 | P18: × | Q18: 1 | R18: × | S18: 0.6 | T18: = | V18: =O18*Q18*S18 -> 1696800
I19: 0 | O19: 2936000 | P19: × | Q19: 1 | R19: × | S19: 0.6 | T19: = | V19: =O19*Q19*S19 -> 1761600
I20: 0 | M20: 가족수당 | V20: =SUM(V21:V22) -> 309680
I21: 0 | M21: 사회재활교사 | N21: 이경란 | O21: 69680 | P21: × | Q21: 1 | T21: = | V21: =O21*Q21 -> 69680
I22: 0 | O22: 120000 | P22: × | Q22: 2 | T22: = | V22: =O22*Q22 -> 240000
I23: 0 | M23: 연장근로수당 | O23: 개인별 시간외 시급계산 : 기본급X1/209X1.5 | V23: =SUM(V24:V26) -> 4634520
I24: 0 | M24: 사회재활교사 | N24: 김윤미 | O24: 20300 | P24: × | Q24: =V24/O24 -> 139 | S24: 9개월 | T24: = | V24: 2821700
I25: 0 | O25: 21070 | P25: × | Q25: =V25/O25 -> 26 | S25: (1개월) | T25: = | V25: 547820
I26: 0 | M26: 사회재활교사 | N26: 이경란 | O26: 23000 | P26: × | Q26: =V26/O26 -> 55 | S26: (3개월) | T26: = | V26: 1265000
C27: 퇴직금및퇴직적립금 | D27: 7334510 | E27: =V27 -> 3512460 | F27: =E27-D27 -> -3822050 | G27: =F27/D27*100 -> -52.110502 | H27: 3512460 | I27: 0 | J27: 0 | K27: 0 | M27: ◆ 퇴직금및퇴직적립금 | V27: =V28 -> 3512460
I28: 0 | O28: =V9+V16 -> 42338990 | P28: × | Q28: 1/12 | T28: = | V28: 3512460
C29: 사회보험부담비용 | D29: 9108670 | E29: =V29 -> 3922750 | F29: =E29-D29 -> -5185920 | G29: =F29/D29*100 -> -56.933888 | H29: 3922750 | I29: 0 | J29: 0 | K29: 0 | M29: ◆ 사회보험부담비용 | V29: =SUM(V30:V34) -> 3922750
I30: 0 | M30: 국민연금 | O30: =V9+V16 -> 42338990 | P30: × | Q30: 0.045 | T30: = | V30: 1478490
I31: 0 | M31: 건강보험료 | O31: =V9+V16 -> 42338990 | P31: × | Q31: 0.0343 | T31: = | V31: 1479660
I32: 0 | M32: 노인장기요양보험 | O32: 1479660 | P32: × | Q32: 0.1152 | T32: = | V32: 181470
I33: 0 | M33: 고용보험 | O33: =V9+V16 -> 42338990 | P33: × | Q33: 0.0105 | T33: = | V33: 444580
I34: 0 | M34: 산재보험 | O34: =V9+V16 -> 42338990 | P34: × | Q34: 0.008 | T34: = | V34: 338550
C35: 기타후생경비 | D35: 0 | E35: =V35 -> 0 | F35: =E35-D35 -> 0 | G35: 0 | H35: 0 | I35: 0 | J35: 0 | K35: =#REF! -> #REF! | M35: ◆ 기타후생경비 | V35: =SUM(V36:V37) -> 0
I36: 0 | M36: 직원복리후생비 | P36: × | Q36: 0 | T36: = | V36: =O36*Q36 -> 0
I37: 0 | M37: 명함제작비 | P37: × | Q37: 0 | T37: = | V37: =O37*Q37 -> 0
B38: 업무추진비 | C38: 소계 | D38: =SUM(D39+D42+D44) -> 360000 | E38: =SUM(E39:E44) -> 0 | F38: =E38-D38 -> -360000 | G38: 0 | H38: =SUM(H39:H44) -> 0 | I38: =SUM(I39:I44) -> #REF! | J38: =SUM(J39:J44) -> 0 | K38: =SUM(K39:K44) -> #REF! | M38: 업무추진계비 | V38: =SUM(V39,V42,V44) -> 0
C39: 기관운영비 | D39: 0 | E39: =V39 -> 0 | F39: =E39-D39 -> 0 | G39: 0 | H39: 0 | I39: =#REF! -> #REF! | J39: 0 | K39: =#REF! -> #REF! | M39: ◆ 기관운영비 | V39: =SUM(V40:V41) -> 0
I40: 0 | M40: 유관기관경비 | V40: =O40*Q40 -> 0
I41: 0 | M41: 지역 명절 선물비 | V41: =O41*Q41 -> 0
...

Sheet 바. 임직원보수 일람표
A1: 바. 임직원 보수 일람표(사온)
A3: 순번 | B3: 직책 | C3: 성명 | D3: 호봉 | E3: 승급월 | F3: 급여 | G3: 제수당 | K3: 퇴직금 및 퇴직적립금 | L3: 건강보험 | M3: 장기요양 | N3: 국민연금 | O3: 고용보험 | P3: 산재보험 | Q3: 사회보험부담금 | R3: 부담금계 | S3: 합계 | T3: 지자체 별도 지급액 | W3: 비고
G4: 명절휴가비 | H4: 가족수당 | I4: 연장근로수당 | J4: 제수당 계 | T4: 경기도 특수근무수당 | U4: 경기도 처우개선비 | V4: 지자체 지급액 계
A5: 1 | B5: 사온 사회재활교사 | C5: 이경란 | D5: 13 | E5: 3월 | F5: 19796000 | G5: 1696800 | H5: 0 | I5: 2436000 | J5: =SUM(G5:I5) -> 4132800 | K5: 1994070 | L5: 836260 | M5: 102560 | N5: 885750 | O5: 251270 | P5: 191350 | Q5: =SUM(L5:P5) -> 2267190 | R5: =SUM(K5+Q5) -> 4261260 | S5: =SUM(F5:F6)+SUM(J5:J6)+SUM(R5:R6) -> 38254260 | T5: 1750000 | U5: 350000 | V5: =SUM(T5:U5) -> 2100000 | W5: 2022.10.14. 입사
D6: 14 | F6: 5872000 | G6: 1761600 | H6: 0 | I6: 933520 | J6: =SUM(G6:I6) -> 2695120 | K6: 698130 | L6: 299400 | M6: 36720 | N6: 304380 | O6: 89960 | P6: 68490 | Q6: =SUM(L6:P6) -> 798950 | R6: =SUM(K6+Q6) -> 1497080 | T6: 750000 | U6: 150000 | V6: =SUM(T6:U6) -> 900000
A7: 2 | B7: 사온 사회재활교사 | C7: 유봉상 | D7: 5 | E7: 1월 | F7: 0 | G7: 0 | H7: 0 | I7: 0 | J7: =SUM(G7:I7) -> 0 | K7: 0 | L7: 0 | M7: 0 | N7: 0 | O7: 0 | P7: 0 | Q7: =SUM(L7:P7) -> 0 | R7: =SUM(K7+Q7) -> 0 | S7: =SUM(F7:F8)+SUM(J7:J8)+SUM(R7:R8) -> 11519940 | T7: 0 | U7: 0 | V7: =SUM(T7:U7) -> 0 | W7: 2023.01.01. 입사
F8: 8268390 | G8: 0 | H8: 309680 | I8: 1265000 | J8: =SUM(G8:I8) -> 1574680 | K8: 820260 | L8: 344000 | M8: 42190 | N8: 288360 | O8: 103350 | P8: 78710 | Q8: =SUM(L8:P8) -> 856610 | R8: =SUM(K8+Q8) -> 1676870 | T8: 750000 | U8: 150000 | V8: =SUM(T8:U8) -> 900000
A9: 합 계 | F9: =SUM(F5:F8) -> 33936390 | G9: =SUM(G5:G8) -> 3458400 | H9: =SUM(H5:H8) -> 309680 | I9: =SUM(I5:I8) -> 4634520 | J9: =SUM(J5:J8) -> 8402600 | K9: =SUM(K5:K8) -> 3512460 | L9: =SUM(L5:L8) -> 1479660 | M9: =SUM(M5:M8) -> 181470 | ... V9: =SUM(V5:V8) -> 3900000

Sheet 사. 일용잡급일람표
A1: 아. 일용잡급 일람표
A3: 순번 | B3: 직책 | C3: 성명 | D3: 급여 | E3: 적용개월 | F3: 총합계 | G3: 비고
F5: =D5*E5 -> 0
A6: 2
A7: 3
A8: 4
A9: 5
A10: 6
A11: 합 계 | D11: =D5 -> 0 | F11: =F5 -> 0
A13: ※ 보건복지가족부 0000년 00000 종사자 보수지급기준표 적용.
